BEGIN:VCALENDAR
PRODID:-//nuDatenautomaten//framework iCal4j //DE
VERSION:2.0
CALSCALE:GREGORIAN
BEGIN:VTIMEZONE
TZID:Europe/Berlin
LAST-MODIFIED:20260306T231828Z
TZURL:https://www.tzurl.org/zoneinfo/Europe/Berlin
X-LIC-LOCATION:Europe/Berlin
X-PROLEPTIC-TZNAME:LMT
BEGIN:STANDARD
TZNAME:CET
TZOFFSETFROM:+005328
TZOFFSETTO:+0100
DTSTART:18930401T000000
END:STANDARD
BEGIN:DAYLIGHT
TZNAME:CEST
TZOFFSETFROM:+0100
TZOFFSETTO:+0200
DTSTART:19160430T230000
RDATE:19400401T020000
RDATE:19430329T020000
RDATE:19460414T020000
RDATE:19470406T030000
RDATE:19480418T020000
RDATE:19490410T020000
RDATE:19800406T020000
END:DAYLIGHT
BEGIN:STANDARD
TZNAME:CET
TZOFFSETFROM:+0200
TZOFFSETTO:+0100
DTSTART:19161001T010000
RDATE:19421102T030000
RDATE:19431004T030000
RDATE:19441002T030000
RDATE:19451118T030000
RDATE:19461007T030000
END:STANDARD
BEGIN:DAYLIGHT
TZNAME:CEST
TZOFFSETFROM:+0100
TZOFFSETTO:+0200
DTSTART:19170416T020000
RRULE:FREQ=YEARLY;UNTIL=19180415T010000Z;BYMONTH=4;BYDAY=3MO
END:DAYLIGHT
BEGIN:STANDARD
TZNAME:CET
TZOFFSETFROM:+0200
TZOFFSETTO:+0100
DTSTART:19170917T030000
RRULE:FREQ=YEARLY;UNTIL=19180916T010000Z;BYMONTH=9;BYDAY=3MO
END:STANDARD
BEGIN:DAYLIGHT
TZNAME:CEST
TZOFFSETFROM:+0100
TZOFFSETTO:+0200
DTSTART:19440403T020000
RRULE:FREQ=YEARLY;UNTIL=19450402T010000Z;BYMONTH=4;BYDAY=1MO
END:DAYLIGHT
BEGIN:DAYLIGHT
TZNAME:CEMT
TZOFFSETFROM:+0200
TZOFFSETTO:+0300
DTSTART:19450524T020000
RDATE:19470511T030000
END:DAYLIGHT
BEGIN:DAYLIGHT
TZNAME:CEST
TZOFFSETFROM:+0300
TZOFFSETTO:+0200
DTSTART:19450924T030000
RDATE:19470629T030000
END:DAYLIGHT
BEGIN:STANDARD
TZNAME:CET
TZOFFSETFROM:+0100
TZOFFSETTO:+0100
DTSTART:19460101T000000
RDATE:19800101T000000
END:STANDARD
BEGIN:STANDARD
TZNAME:CET
TZOFFSETFROM:+0200
TZOFFSETTO:+0100
DTSTART:19471005T030000
RRULE:FREQ=YEARLY;UNTIL=19491002T010000Z;BYMONTH=10;BYDAY=1SU
END:STANDARD
BEGIN:STANDARD
TZNAME:CET
TZOFFSETFROM:+0200
TZOFFSETTO:+0100
DTSTART:19800928T030000
RRULE:FREQ=YEARLY;UNTIL=19950924T010000Z;BYMONTH=9;BYDAY=-1SU
END:STANDARD
BEGIN:DAYLIGHT
TZNAME:CEST
TZOFFSETFROM:+0100
TZOFFSETTO:+0200
DTSTART:19810329T020000
RRULE:FREQ=YEARLY;BYMONTH=3;BYDAY=-1SU
END:DAYLIGHT
BEGIN:STANDARD
TZNAME:CET
TZOFFSETFROM:+0200
TZOFFSETTO:+0100
DTSTART:19961027T030000
RRULE:FREQ=YEARLY;BYMONTH=10;BYDAY=-1SU
END:STANDARD
END:VTIMEZONE
BEGIN:VEVENT
DTSTAMP:20260424T151759Z
DTSTART;TZID=Europe/Berlin:20251115T143000
DTEND;TZID=Europe/Berlin:20251115T173000
SUMMARY:JUG\, 3.Li\, Gr.7\, ZR Ettenhausen II vs Zürich II (3)
UID:8b3fd818-256f-487f-88a4-04cb187d2f62
STATUS:CONFIRMED
LAST-MODIFIED:20251124T150853Z
DESCRIPTION:Jugend\, 3. Liga\, Gruppe 7\, Zwischenrunde\nBegegnungs-Nr: 3\nHeim: Ettenhausen II\nGast: Zürich II\n\nAdresse: Weidlistrasse 12\, 8356 Ettenhausen\n
LOCATION:Weidlistrasse 12\, 8356 Ettenhausen
CATEGORIES:Saison 2025/26
END:VEVENT
BEGIN:VEVENT
DTSTAMP:20260424T151759Z
DTSTART;TZID=Europe/Berlin:20250830T130000
DTEND;TZID=Europe/Berlin:20250830T160000
SUMMARY:JUG\, 3.Li\, Gr.4\, VR Ettenhausen II vs Chur II (1)
UID:ce67bf8b-b86f-4e72-b415-ed85fb562a6a
STATUS:CONFIRMED
LAST-MODIFIED:20250828T103323Z
DESCRIPTION:Jugend\, 3. Liga\, Gruppe 4\, Vorrunde\nBegegnungs-Nr: 1\nHeim: Ettenhausen II\nGast: Chur II\nHalle: Poule in Ettenhausen\, SH Weidlistrasse\nAdresse: Weidlistrasse 12\, 8356 Ettenhausen\n
LOCATION:Poule in Ettenhausen\, SH Weidlistrasse Weidlistrasse 12\, 8356 Ettenhausen
CATEGORIES:Saison 2025/26
END:VEVENT
BEGIN:VEVENT
DTSTAMP:20260424T151759Z
DTSTART;TZID=Europe/Berlin:20250830T143000
DTEND;TZID=Europe/Berlin:20250830T173000
SUMMARY:JUG\, 3.Li\, Gr.4\, VR Ettenhausen II vs Meilen-Männedorf II (4)
UID:623f306b-17d2-4290-9929-32a90ae43412
STATUS:CONFIRMED
LAST-MODIFIED:20250828T103349Z
DESCRIPTION:Jugend\, 3. Liga\, Gruppe 4\, Vorrunde\nBegegnungs-Nr: 4\nHeim: Ettenhausen II\nGast: Meilen-Männedorf II\n\nAdresse: Weidlistrasse 12\, 8356 Ettenhausen\n
LOCATION:Weidlistrasse 12\, 8356 Ettenhausen
CATEGORIES:Saison 2025/26
END:VEVENT
BEGIN:VEVENT
DTSTAMP:20260424T151759Z
DTSTART;TZID=Europe/Berlin:20260328T160000
DTEND;TZID=Europe/Berlin:20260328T190000
SUMMARY:JUG\, 3.Li\, Gr.5\, Final Ettenhausen II vs BW-Wollishofen (6)
UID:74db437e-9903-4b83-8416-a717cb09353f
STATUS:CONFIRMED
LAST-MODIFIED:20260401T140547Z
DESCRIPTION:Jugend\, 3. Liga\, Gruppe 5\, Final\nBegegnungs-Nr: 6\nHeim: Ettenhausen II\nGast: BW-Wollishofen\n\nAdresse: Weidlistrasse 12\, 8356 Ettenhausen\n
LOCATION:Weidlistrasse 12\, 8356 Ettenhausen
CATEGORIES:Saison 2025/26
END:VEVENT
BEGIN:VEVENT
DTSTAMP:20260424T151759Z
DTSTART;TZID=Europe/Berlin:20251115T160000
DTEND;TZID=Europe/Berlin:20251115T190000
SUMMARY:JUG\, 3.Li\, Gr.7\, ZR Dübendorf-Volketswil vs Ettenhausen II (5)
UID:a5dd921e-7a1b-40e5-ae09-e238dec636f1
STATUS:CONFIRMED
LAST-MODIFIED:20251121T101234Z
DESCRIPTION:Jugend\, 3. Liga\, Gruppe 7\, Zwischenrunde\nBegegnungs-Nr: 5\nHeim: Dübendorf-Volketswil\nGast: Ettenhausen II\n\nAdresse: Usterstrasse 35\, 8604 Volketswil\n
LOCATION:Usterstrasse 35\, 8604 Volketswil
CATEGORIES:Saison 2025/26
END:VEVENT
BEGIN:VEVENT
DTSTAMP:20260424T151759Z
DTSTART;TZID=Europe/Berlin:20251115T130000
DTEND;TZID=Europe/Berlin:20251115T160000
SUMMARY:JUG\, 3.Li\, Gr.7\, ZR Wädenswil III vs Ettenhausen II (1)
UID:3a42e16b-f78a-4f82-84cb-e51615c37f69
STATUS:CONFIRMED
LAST-MODIFIED:20251121T100409Z
DESCRIPTION:Jugend\, 3. Liga\, Gruppe 7\, Zwischenrunde\nBegegnungs-Nr: 1\nHeim: Wädenswil III\nGast: Ettenhausen II\nHalle: Poule in Wädenswil\, TH Fuhr\nAdresse: Fuhrstrasse 16b\, 8820 Wädenswil\n
LOCATION:Poule in Wädenswil\, TH Fuhr Fuhrstrasse 16b\, 8820 Wädenswil
CATEGORIES:Saison 2025/26
END:VEVENT
BEGIN:VEVENT
DTSTAMP:20260424T151759Z
DTSTART;TZID=Europe/Berlin:20250830T160000
DTEND;TZID=Europe/Berlin:20250830T190000
SUMMARY:JUG\, 3.Li\, Gr.4\, VR Rapperswil-Jona II vs Ettenhausen II (6)
UID:4e77c8af-a632-4284-977b-d0eec077963e
STATUS:CONFIRMED
LAST-MODIFIED:20250828T103415Z
DESCRIPTION:Jugend\, 3. Liga\, Gruppe 4\, Vorrunde\nBegegnungs-Nr: 6\nHeim: Rapperswil-Jona II\nGast: Ettenhausen II\n\nAdresse: Kreuzstrasse 43\, 8640 Rapperswil\n
LOCATION:Kreuzstrasse 43\, 8640 Rapperswil
CATEGORIES:Saison 2025/26
END:VEVENT
BEGIN:VEVENT
DTSTAMP:20260424T151759Z
DTSTART;TZID=Europe/Berlin:20260328T130000
DTEND;TZID=Europe/Berlin:20260328T160000
SUMMARY:JUG\, 3.Li\, Gr.5\, Final TSV Zumikon vs Ettenhausen II (2)
UID:111103e3-cbd5-4231-9332-58f14d2a2a9e
STATUS:CONFIRMED
LAST-MODIFIED:20260401T140425Z
DESCRIPTION:Jugend\, 3. Liga\, Gruppe 5\, Final\nBegegnungs-Nr: 2\nHeim: TSV Zumikon\nGast: Ettenhausen II\n\nAdresse: Dorfstrasse 45\, 8126 Zumikon\n
LOCATION:Dorfstrasse 45\, 8126 Zumikon
CATEGORIES:Saison 2025/26
END:VEVENT
BEGIN:VEVENT
DTSTAMP:20260424T151759Z
DTSTART;TZID=Europe/Berlin:20260328T143000
DTEND;TZID=Europe/Berlin:20260328T173000
SUMMARY:JUG\, 3.Li\, Gr.5\, Final Zürich-Affoltern V vs Ettenhausen II (3)
UID:309ad261-e4cb-4fc9-992e-62694a7580d3
STATUS:CONFIRMED
LAST-MODIFIED:20260401T140434Z
DESCRIPTION:Jugend\, 3. Liga\, Gruppe 5\, Final\nBegegnungs-Nr: 3\nHeim: Zürich-Affoltern V\nGast: Ettenhausen II\n\nAdresse: Rümlangstr. 89\, 8052 Zürich\n
LOCATION:Rümlangstr. 89\, 8052 Zürich
CATEGORIES:Saison 2025/26
END:VEVENT
END:VCALENDAR
