BEGIN:VCALENDAR
PRODID:-//nuDatenautomaten//framework iCal4j //DE
VERSION:2.0
CALSCALE:GREGORIAN
BEGIN:VTIMEZONE
TZID:Europe/Berlin
LAST-MODIFIED:20260306T231828Z
TZURL:https://www.tzurl.org/zoneinfo/Europe/Berlin
X-LIC-LOCATION:Europe/Berlin
X-PROLEPTIC-TZNAME:LMT
BEGIN:STANDARD
TZNAME:CET
TZOFFSETFROM:+005328
TZOFFSETTO:+0100
DTSTART:18930401T000000
END:STANDARD
BEGIN:DAYLIGHT
TZNAME:CEST
TZOFFSETFROM:+0100
TZOFFSETTO:+0200
DTSTART:19160430T230000
RDATE:19400401T020000
RDATE:19430329T020000
RDATE:19460414T020000
RDATE:19470406T030000
RDATE:19480418T020000
RDATE:19490410T020000
RDATE:19800406T020000
END:DAYLIGHT
BEGIN:STANDARD
TZNAME:CET
TZOFFSETFROM:+0200
TZOFFSETTO:+0100
DTSTART:19161001T010000
RDATE:19421102T030000
RDATE:19431004T030000
RDATE:19441002T030000
RDATE:19451118T030000
RDATE:19461007T030000
END:STANDARD
BEGIN:DAYLIGHT
TZNAME:CEST
TZOFFSETFROM:+0100
TZOFFSETTO:+0200
DTSTART:19170416T020000
RRULE:FREQ=YEARLY;UNTIL=19180415T010000Z;BYMONTH=4;BYDAY=3MO
END:DAYLIGHT
BEGIN:STANDARD
TZNAME:CET
TZOFFSETFROM:+0200
TZOFFSETTO:+0100
DTSTART:19170917T030000
RRULE:FREQ=YEARLY;UNTIL=19180916T010000Z;BYMONTH=9;BYDAY=3MO
END:STANDARD
BEGIN:DAYLIGHT
TZNAME:CEST
TZOFFSETFROM:+0100
TZOFFSETTO:+0200
DTSTART:19440403T020000
RRULE:FREQ=YEARLY;UNTIL=19450402T010000Z;BYMONTH=4;BYDAY=1MO
END:DAYLIGHT
BEGIN:DAYLIGHT
TZNAME:CEMT
TZOFFSETFROM:+0200
TZOFFSETTO:+0300
DTSTART:19450524T020000
RDATE:19470511T030000
END:DAYLIGHT
BEGIN:DAYLIGHT
TZNAME:CEST
TZOFFSETFROM:+0300
TZOFFSETTO:+0200
DTSTART:19450924T030000
RDATE:19470629T030000
END:DAYLIGHT
BEGIN:STANDARD
TZNAME:CET
TZOFFSETFROM:+0100
TZOFFSETTO:+0100
DTSTART:19460101T000000
RDATE:19800101T000000
END:STANDARD
BEGIN:STANDARD
TZNAME:CET
TZOFFSETFROM:+0200
TZOFFSETTO:+0100
DTSTART:19471005T030000
RRULE:FREQ=YEARLY;UNTIL=19491002T010000Z;BYMONTH=10;BYDAY=1SU
END:STANDARD
BEGIN:STANDARD
TZNAME:CET
TZOFFSETFROM:+0200
TZOFFSETTO:+0100
DTSTART:19800928T030000
RRULE:FREQ=YEARLY;UNTIL=19950924T010000Z;BYMONTH=9;BYDAY=-1SU
END:STANDARD
BEGIN:DAYLIGHT
TZNAME:CEST
TZOFFSETFROM:+0100
TZOFFSETTO:+0200
DTSTART:19810329T020000
RRULE:FREQ=YEARLY;BYMONTH=3;BYDAY=-1SU
END:DAYLIGHT
BEGIN:STANDARD
TZNAME:CET
TZOFFSETFROM:+0200
TZOFFSETTO:+0100
DTSTART:19961027T030000
RRULE:FREQ=YEARLY;BYMONTH=10;BYDAY=-1SU
END:STANDARD
END:VTIMEZONE
BEGIN:VEVENT
DTSTAMP:20260424T191156Z
DTSTART;TZID=Europe/Berlin:20250919T201500
DTEND;TZID=Europe/Berlin:20250919T231500
SUMMARY:L5G2P1 Delémont VIII vs Porrentruy II (0)
UID:fd15ba4a-5d6b-48e9-8412-240e217bb916
STATUS:CONFIRMED
LAST-MODIFIED:20250923T211541Z
DESCRIPTION:Ligue 5\, groupe 2 phase 1\nBegegnungs-Nr: 0\nHeim: Delémont VIII\nGast: Porrentruy II\n\nAdresse: Rue de la Blancherie 4\, 2800 Delémont\n
LOCATION:Rue de la Blancherie 4\, 2800 Delémont
CATEGORIES:Saison 2025/26
END:VEVENT
BEGIN:VEVENT
DTSTAMP:20260424T191156Z
DTSTART;TZID=Europe/Berlin:20251031T201500
DTEND;TZID=Europe/Berlin:20251031T231500
SUMMARY:L5G2P1 Delémont VIII vs Omega V (0)
UID:d6b8603a-4e8e-4849-8104-0d37ff8cb0c1
STATUS:CONFIRMED
LAST-MODIFIED:20251104T072726Z
DESCRIPTION:Ligue 5\, groupe 2 phase 1\nBegegnungs-Nr: 0\nHeim: Delémont VIII\nGast: Omega V\n\nAdresse: Rue de la Blancherie 4\, 2800 Delémont\n
LOCATION:Rue de la Blancherie 4\, 2800 Delémont
CATEGORIES:Saison 2025/26
END:VEVENT
BEGIN:VEVENT
DTSTAMP:20260424T191156Z
DTSTART;TZID=Europe/Berlin:20251212T201500
DTEND;TZID=Europe/Berlin:20251212T231500
SUMMARY:L5G2P1 Delémont VIII vs Hauterive II (0)
UID:6631a9c8-2b6f-48b0-a7a0-02e91def54c6
STATUS:CONFIRMED
LAST-MODIFIED:20251218T061400Z
DESCRIPTION:Ligue 5\, groupe 2 phase 1\nBegegnungs-Nr: 0\nHeim: Delémont VIII\nGast: Hauterive II\n\nAdresse: Rue de la Blancherie 4\, 2800 Delémont\n
LOCATION:Rue de la Blancherie 4\, 2800 Delémont
CATEGORIES:Saison 2025/26
END:VEVENT
BEGIN:VEVENT
DTSTAMP:20260424T191156Z
DTSTART;TZID=Europe/Berlin:20251024T201500
DTEND;TZID=Europe/Berlin:20251024T231500
SUMMARY:L5G2P1 Delémont VIII vs Delémont VI (0)
UID:d20684ff-83f8-4799-bac8-9162e2dbc0f8
STATUS:CONFIRMED
LAST-MODIFIED:20251027T182638Z
DESCRIPTION:Ligue 5\, groupe 2 phase 1\nBegegnungs-Nr: 0\nHeim: Delémont VIII\nGast: Delémont VI\n\nAdresse: Rue de la Blancherie 4\, 2800 Delémont\n
LOCATION:Rue de la Blancherie 4\, 2800 Delémont
CATEGORIES:Saison 2025/26
END:VEVENT
BEGIN:VEVENT
DTSTAMP:20260424T191156Z
DTSTART;TZID=Europe/Berlin:20260109T201500
DTEND;TZID=Europe/Berlin:20260109T231500
SUMMARY:L5G1P2 Delémont VIII vs Val-de-Ruz IV (0)
UID:5e3d9569-8508-4a11-a0b3-1ce4071ae44e
STATUS:CONFIRMED
LAST-MODIFIED:20260114T065749Z
DESCRIPTION:Ligue 5\, groupe 1 phase 2\nBegegnungs-Nr: 0\nHeim: Delémont VIII\nGast: Val-de-Ruz IV\n\nAdresse: Rue de la Blancherie 4\, 2800 Delémont\n
LOCATION:Rue de la Blancherie 4\, 2800 Delémont
CATEGORIES:Saison 2025/26
END:VEVENT
BEGIN:VEVENT
DTSTAMP:20260424T191156Z
DTSTART;TZID=Europe/Berlin:20260203T201500
DTEND;TZID=Europe/Berlin:20260203T231500
SUMMARY:L5G1P2 Delémont VIII vs Tramelan IV (0)
UID:e2c03a01-c1cd-4ab8-9947-1fb7907130c7
STATUS:CONFIRMED
LAST-MODIFIED:20260204T100542Z
DESCRIPTION:Ligue 5\, groupe 1 phase 2\nBegegnungs-Nr: 0\nHeim: Delémont VIII\nGast: Tramelan IV\n\nAdresse: Rue de la Blancherie 4\, 2800 Delémont\n
LOCATION:Rue de la Blancherie 4\, 2800 Delémont
CATEGORIES:Saison 2025/26
END:VEVENT
BEGIN:VEVENT
DTSTAMP:20260424T191156Z
DTSTART;TZID=Europe/Berlin:20260327T201500
DTEND;TZID=Europe/Berlin:20260327T231500
SUMMARY:L5G1P2 Delémont VIII vs Porrentruy II (0)
UID:e5b2a4e0-e729-4e80-b1fb-b61af4a960cd
STATUS:CONFIRMED
LAST-MODIFIED:20260331T150337Z
DESCRIPTION:Ligue 5\, groupe 1 phase 2\nBegegnungs-Nr: 0\nHeim: Delémont VIII\nGast: Porrentruy II\n\nAdresse: Rue de la Blancherie 4\, 2800 Delémont\n
LOCATION:Rue de la Blancherie 4\, 2800 Delémont
CATEGORIES:Saison 2025/26
END:VEVENT
BEGIN:VEVENT
DTSTAMP:20260424T191156Z
DTSTART;TZID=Europe/Berlin:20260508T201500
DTEND;TZID=Europe/Berlin:20260508T231500
SUMMARY:L5G1P2 Delémont VIII vs Moutier III (0)
UID:f31ea834-3d16-4140-b6f5-0bcdae8c9b53
STATUS:CONFIRMED
LAST-MODIFIED:20260106T170028Z
DESCRIPTION:Ligue 5\, groupe 1 phase 2\nBegegnungs-Nr: 0\nHeim: Delémont VIII\nGast: Moutier III\n\nAdresse: Rue de la Blancherie 4\, 2800 Delémont\n
LOCATION:Rue de la Blancherie 4\, 2800 Delémont
CATEGORIES:Saison 2025/26
END:VEVENT
BEGIN:VEVENT
DTSTAMP:20260424T191156Z
DTSTART;TZID=Europe/Berlin:20260515T201500
DTEND;TZID=Europe/Berlin:20260515T231500
SUMMARY:L5G1P2 Delémont VIII vs Tavannes II (0)
UID:1aa40dca-73ee-4342-a2da-c23bf209e08a
STATUS:CONFIRMED
DESCRIPTION:Ligue 5\, groupe 1 phase 2\nBegegnungs-Nr: 0\nHeim: Delémont VIII\nGast: Tavannes II\n\nAdresse: Rue de la Blancherie 4\, 2800 Delémont\n
LOCATION:Rue de la Blancherie 4\, 2800 Delémont
CATEGORIES:Saison 2025/26
END:VEVENT
BEGIN:VEVENT
DTSTAMP:20260424T191156Z
DTSTART;TZID=Europe/Berlin:20251113T193000
DTEND;TZID=Europe/Berlin:20251113T223000
SUMMARY:L5G2P1 Porrentruy II vs Delémont VIII (0)
UID:cc73a75d-82f4-4741-93c0-2c019617c1c2
STATUS:CONFIRMED
LAST-MODIFIED:20251119T051255Z
DESCRIPTION:Ligue 5\, groupe 2 phase 1\nBegegnungs-Nr: 0\nHeim: Porrentruy II\nGast: Delémont VIII\n\nAdresse: Rue du Banné 14\, 2900 Porrentruy\n
LOCATION:Rue du Banné 14\, 2900 Porrentruy
CATEGORIES:Saison 2025/26
END:VEVENT
BEGIN:VEVENT
DTSTAMP:20260424T191156Z
DTSTART;TZID=Europe/Berlin:20250910T193000
DTEND;TZID=Europe/Berlin:20250910T223000
SUMMARY:L5G2P1 Omega V vs Delémont VIII (0)
UID:0f6c2116-c929-4792-9b54-a51d8cb76a08
STATUS:CONFIRMED
LAST-MODIFIED:20250911T095904Z
DESCRIPTION:Ligue 5\, groupe 2 phase 1\nBegegnungs-Nr: 0\nHeim: Omega V\nGast: Delémont VIII\n\nAdresse: Tennisweg 1\, 2504 Biel-Bienne\n
LOCATION:Tennisweg 1\, 2504 Biel-Bienne
CATEGORIES:Saison 2025/26
END:VEVENT
BEGIN:VEVENT
DTSTAMP:20260424T191156Z
DTSTART;TZID=Europe/Berlin:20251017T193000
DTEND;TZID=Europe/Berlin:20251017T223000
SUMMARY:L5G2P1 Hauterive II vs Delémont VIII (0)
UID:513d06f2-afc1-4fec-9e28-9d4764af6c5e
STATUS:CONFIRMED
LAST-MODIFIED:20251019T065859Z
DESCRIPTION:Ligue 5\, groupe 2 phase 1\nBegegnungs-Nr: 0\nHeim: Hauterive II\nGast: Delémont VIII\n\nAdresse: Rue des Longschamps 10\, 2068 Hauterive NE\n
LOCATION:Rue des Longschamps 10\, 2068 Hauterive NE
CATEGORIES:Saison 2025/26
END:VEVENT
BEGIN:VEVENT
DTSTAMP:20260424T191156Z
DTSTART;TZID=Europe/Berlin:20250902T193000
DTEND;TZID=Europe/Berlin:20250902T223000
SUMMARY:L5G2P1 Delémont VI vs Delémont VIII (0)
UID:1d171525-4111-4cf3-a509-ae9e22ab08ff
STATUS:CONFIRMED
LAST-MODIFIED:20250910T051141Z
DESCRIPTION:Ligue 5\, groupe 2 phase 1\nBegegnungs-Nr: 0\nHeim: Delémont VI\nGast: Delémont VIII\n\nAdresse: Rue de la Blancherie 4\, 2800 Delémont\n
LOCATION:Rue de la Blancherie 4\, 2800 Delémont
CATEGORIES:Saison 2025/26
END:VEVENT
BEGIN:VEVENT
DTSTAMP:20260424T191156Z
DTSTART;TZID=Europe/Berlin:20260122T193000
DTEND;TZID=Europe/Berlin:20260122T223000
SUMMARY:L5G1P2 Porrentruy II vs Delémont VIII (0)
UID:3da77402-b687-4008-a058-5eebde998e5d
STATUS:CONFIRMED
LAST-MODIFIED:20260126T180432Z
DESCRIPTION:Ligue 5\, groupe 1 phase 2\nBegegnungs-Nr: 0\nHeim: Porrentruy II\nGast: Delémont VIII\n\nAdresse: Rue du Banné 14\, 2900 Porrentruy\n
LOCATION:Rue du Banné 14\, 2900 Porrentruy
CATEGORIES:Saison 2025/26
END:VEVENT
BEGIN:VEVENT
DTSTAMP:20260424T191156Z
DTSTART;TZID=Europe/Berlin:20260220T200000
DTEND;TZID=Europe/Berlin:20260220T230000
SUMMARY:L5G1P2 Moutier III vs Delémont VIII (0)
UID:8bd32ad4-5592-426f-a966-3cc29f1ec267
STATUS:CONFIRMED
LAST-MODIFIED:20260224T092914Z
DESCRIPTION:Ligue 5\, groupe 1 phase 2\nBegegnungs-Nr: 0\nHeim: Moutier III\nGast: Delémont VIII\n\nAdresse: Place Beseran\, 2740 Moutier\n
LOCATION:Place Beseran\, 2740 Moutier
CATEGORIES:Saison 2025/26
END:VEVENT
BEGIN:VEVENT
DTSTAMP:20260424T191156Z
DTSTART;TZID=Europe/Berlin:20260303T194500
DTEND;TZID=Europe/Berlin:20260303T224500
SUMMARY:L5G1P2 Tavannes II vs Delémont VIII (0)
UID:f7062d24-f8c5-4cce-a203-72dc89068f99
STATUS:CONFIRMED
LAST-MODIFIED:20260312T051442Z
DESCRIPTION:Ligue 5\, groupe 1 phase 2\nBegegnungs-Nr: 0\nHeim: Tavannes II\nGast: Delémont VIII\n\nAdresse: Sources 1\, 2710 Tavannes\n
LOCATION:Sources 1\, 2710 Tavannes
CATEGORIES:Saison 2025/26
END:VEVENT
BEGIN:VEVENT
DTSTAMP:20260424T191156Z
DTSTART;TZID=Europe/Berlin:20260320T193000
DTEND;TZID=Europe/Berlin:20260320T223000
SUMMARY:L5G1P2 Val-de-Ruz IV vs Delémont VIII (0)
UID:f78ebc86-11dd-4d39-842d-84d24fd572bd
STATUS:CONFIRMED
LAST-MODIFIED:20260331T150307Z
DESCRIPTION:Ligue 5\, groupe 1 phase 2\nBegegnungs-Nr: 0\nHeim: Val-de-Ruz IV\nGast: Delémont VIII\n\nAdresse: Rue de Chasseral 3\, 2053 Cernier\n
LOCATION:Rue de Chasseral 3\, 2053 Cernier
CATEGORIES:Saison 2025/26
END:VEVENT
BEGIN:VEVENT
DTSTAMP:20260424T191156Z
DTSTART;TZID=Europe/Berlin:20260424T193000
DTEND;TZID=Europe/Berlin:20260424T223000
SUMMARY:L5G1P2 Tramelan IV vs Delémont VIII (0)
UID:b4c59ffc-a81c-421d-b751-e3b98413633f
STATUS:CONFIRMED
LAST-MODIFIED:20251222T172526Z
DESCRIPTION:Ligue 5\, groupe 1 phase 2\nBegegnungs-Nr: 0\nHeim: Tramelan IV\nGast: Delémont VIII\n\nAdresse: Rue du Collège 13\, 2720 Tramelan\n
LOCATION:Rue du Collège 13\, 2720 Tramelan
CATEGORIES:Saison 2025/26
END:VEVENT
END:VCALENDAR
