BEGIN:VCALENDAR
PRODID:-//nuDatenautomaten//framework iCal4j //DE
VERSION:2.0
CALSCALE:GREGORIAN
BEGIN:VTIMEZONE
TZID:Europe/Berlin
LAST-MODIFIED:20260306T231828Z
TZURL:https://www.tzurl.org/zoneinfo/Europe/Berlin
X-LIC-LOCATION:Europe/Berlin
X-PROLEPTIC-TZNAME:LMT
BEGIN:STANDARD
TZNAME:CET
TZOFFSETFROM:+005328
TZOFFSETTO:+0100
DTSTART:18930401T000000
END:STANDARD
BEGIN:DAYLIGHT
TZNAME:CEST
TZOFFSETFROM:+0100
TZOFFSETTO:+0200
DTSTART:19160430T230000
RDATE:19400401T020000
RDATE:19430329T020000
RDATE:19460414T020000
RDATE:19470406T030000
RDATE:19480418T020000
RDATE:19490410T020000
RDATE:19800406T020000
END:DAYLIGHT
BEGIN:STANDARD
TZNAME:CET
TZOFFSETFROM:+0200
TZOFFSETTO:+0100
DTSTART:19161001T010000
RDATE:19421102T030000
RDATE:19431004T030000
RDATE:19441002T030000
RDATE:19451118T030000
RDATE:19461007T030000
END:STANDARD
BEGIN:DAYLIGHT
TZNAME:CEST
TZOFFSETFROM:+0100
TZOFFSETTO:+0200
DTSTART:19170416T020000
RRULE:FREQ=YEARLY;UNTIL=19180415T010000Z;BYMONTH=4;BYDAY=3MO
END:DAYLIGHT
BEGIN:STANDARD
TZNAME:CET
TZOFFSETFROM:+0200
TZOFFSETTO:+0100
DTSTART:19170917T030000
RRULE:FREQ=YEARLY;UNTIL=19180916T010000Z;BYMONTH=9;BYDAY=3MO
END:STANDARD
BEGIN:DAYLIGHT
TZNAME:CEST
TZOFFSETFROM:+0100
TZOFFSETTO:+0200
DTSTART:19440403T020000
RRULE:FREQ=YEARLY;UNTIL=19450402T010000Z;BYMONTH=4;BYDAY=1MO
END:DAYLIGHT
BEGIN:DAYLIGHT
TZNAME:CEMT
TZOFFSETFROM:+0200
TZOFFSETTO:+0300
DTSTART:19450524T020000
RDATE:19470511T030000
END:DAYLIGHT
BEGIN:DAYLIGHT
TZNAME:CEST
TZOFFSETFROM:+0300
TZOFFSETTO:+0200
DTSTART:19450924T030000
RDATE:19470629T030000
END:DAYLIGHT
BEGIN:STANDARD
TZNAME:CET
TZOFFSETFROM:+0100
TZOFFSETTO:+0100
DTSTART:19460101T000000
RDATE:19800101T000000
END:STANDARD
BEGIN:STANDARD
TZNAME:CET
TZOFFSETFROM:+0200
TZOFFSETTO:+0100
DTSTART:19471005T030000
RRULE:FREQ=YEARLY;UNTIL=19491002T010000Z;BYMONTH=10;BYDAY=1SU
END:STANDARD
BEGIN:STANDARD
TZNAME:CET
TZOFFSETFROM:+0200
TZOFFSETTO:+0100
DTSTART:19800928T030000
RRULE:FREQ=YEARLY;UNTIL=19950924T010000Z;BYMONTH=9;BYDAY=-1SU
END:STANDARD
BEGIN:DAYLIGHT
TZNAME:CEST
TZOFFSETFROM:+0100
TZOFFSETTO:+0200
DTSTART:19810329T020000
RRULE:FREQ=YEARLY;BYMONTH=3;BYDAY=-1SU
END:DAYLIGHT
BEGIN:STANDARD
TZNAME:CET
TZOFFSETFROM:+0200
TZOFFSETTO:+0100
DTSTART:19961027T030000
RRULE:FREQ=YEARLY;BYMONTH=10;BYDAY=-1SU
END:STANDARD
END:VTIMEZONE
BEGIN:VEVENT
DTSTAMP:20260424T005442Z
DTSTART;TZID=Europe/Berlin:20251115T160000
DTEND;TZID=Europe/Berlin:20251115T190000
SUMMARY:JUG\, 3.Li\, Gr.4\, ZR Chur II vs Romanshorn (5)
UID:50e9616b-d4fb-485a-8ad6-616f3e6aa6a9
STATUS:CONFIRMED
LAST-MODIFIED:20251121T100224Z
DESCRIPTION:Jugend\, 3. Liga\, Gruppe 4\, Zwischenrunde\nBegegnungs-Nr: 5\nHeim: Chur II\nGast: Romanshorn\n\nAdresse: Sandstr. 35\, 7000 Chur\n
LOCATION:Sandstr. 35\, 7000 Chur
CATEGORIES:Saison 2025/26
END:VEVENT
BEGIN:VEVENT
DTSTAMP:20260424T005442Z
DTSTART;TZID=Europe/Berlin:20251115T130000
DTEND;TZID=Europe/Berlin:20251115T160000
SUMMARY:JUG\, 3.Li\, Gr.4\, ZR Chur II vs Thalwil (2)
UID:7bb8fa0f-ab52-4457-97a3-1a7d56c66e70
STATUS:CONFIRMED
LAST-MODIFIED:20251121T100157Z
DESCRIPTION:Jugend\, 3. Liga\, Gruppe 4\, Zwischenrunde\nBegegnungs-Nr: 2\nHeim: Chur II\nGast: Thalwil\n\nAdresse: Sandstr. 35\, 7000 Chur\n
LOCATION:Sandstr. 35\, 7000 Chur
CATEGORIES:Saison 2025/26
END:VEVENT
BEGIN:VEVENT
DTSTAMP:20260424T005442Z
DTSTART;TZID=Europe/Berlin:20250830T143000
DTEND;TZID=Europe/Berlin:20250830T173000
SUMMARY:JUG\, 3.Li\, Gr.4\, VR Chur II vs Rapperswil-Jona II (3)
UID:9d2b656d-5ec6-4d07-94a0-c1ab68235683
STATUS:CONFIRMED
LAST-MODIFIED:20250902T124746Z
DESCRIPTION:Jugend\, 3. Liga\, Gruppe 4\, Vorrunde\nBegegnungs-Nr: 3\nHeim: Chur II\nGast: Rapperswil-Jona II\n\nAdresse: Sandstr. 35\, 7000 Chur\n
LOCATION:Sandstr. 35\, 7000 Chur
CATEGORIES:Saison 2025/26
END:VEVENT
BEGIN:VEVENT
DTSTAMP:20260424T005442Z
DTSTART;TZID=Europe/Berlin:20260328T130000
DTEND;TZID=Europe/Berlin:20260328T160000
SUMMARY:JUG\, 3.Li\, Gr.4\, Final Chur II vs Kloten III (1)
UID:03a886dc-9e7a-4b41-9fec-9cd1d0765664
STATUS:CONFIRMED
LAST-MODIFIED:20260401T140248Z
DESCRIPTION:Jugend\, 3. Liga\, Gruppe 4\, Final\nBegegnungs-Nr: 1\nHeim: Chur II\nGast: Kloten III\nHalle: Poule in Chur\, TH Türligarten\nAdresse: Sandstr. 35\, 7000 Chur\n
LOCATION:Poule in Chur\, TH Türligarten Sandstr. 35\, 7000 Chur
CATEGORIES:Saison 2025/26
END:VEVENT
BEGIN:VEVENT
DTSTAMP:20260424T005442Z
DTSTART;TZID=Europe/Berlin:20260328T143000
DTEND;TZID=Europe/Berlin:20260328T173000
SUMMARY:JUG\, 3.Li\, Gr.4\, Final Chur II vs Meilen-Männedorf III (4)
UID:2a9e3f28-7139-4b9c-b8e6-1d22e13367ea
STATUS:CONFIRMED
LAST-MODIFIED:20260401T140318Z
DESCRIPTION:Jugend\, 3. Liga\, Gruppe 4\, Final\nBegegnungs-Nr: 4\nHeim: Chur II\nGast: Meilen-Männedorf III\n\nAdresse: Sandstr. 35\, 7000 Chur\n
LOCATION:Sandstr. 35\, 7000 Chur
CATEGORIES:Saison 2025/26
END:VEVENT
BEGIN:VEVENT
DTSTAMP:20260424T005442Z
DTSTART;TZID=Europe/Berlin:20251115T143000
DTEND;TZID=Europe/Berlin:20251115T173000
SUMMARY:JUG\, 3.Li\, Gr.4\, ZR Wil SG II vs Chur II (4)
UID:e1684599-3761-48da-a241-9a63cd0647fc
STATUS:CONFIRMED
LAST-MODIFIED:20251121T100214Z
DESCRIPTION:Jugend\, 3. Liga\, Gruppe 4\, Zwischenrunde\nBegegnungs-Nr: 4\nHeim: Wil SG II\nGast: Chur II\n\nAdresse: Lindenhofstr. 23\, 9500 Wil\n
LOCATION:Lindenhofstr. 23\, 9500 Wil
CATEGORIES:Saison 2025/26
END:VEVENT
BEGIN:VEVENT
DTSTAMP:20260424T005442Z
DTSTART;TZID=Europe/Berlin:20250830T130000
DTEND;TZID=Europe/Berlin:20250830T160000
SUMMARY:JUG\, 3.Li\, Gr.4\, VR Ettenhausen II vs Chur II (1)
UID:ce67bf8b-b86f-4e72-b415-ed85fb562a6a
STATUS:CONFIRMED
LAST-MODIFIED:20250828T103323Z
DESCRIPTION:Jugend\, 3. Liga\, Gruppe 4\, Vorrunde\nBegegnungs-Nr: 1\nHeim: Ettenhausen II\nGast: Chur II\nHalle: Poule in Ettenhausen\, SH Weidlistrasse\nAdresse: Weidlistrasse 12\, 8356 Ettenhausen\n
LOCATION:Poule in Ettenhausen\, SH Weidlistrasse Weidlistrasse 12\, 8356 Ettenhausen
CATEGORIES:Saison 2025/26
END:VEVENT
BEGIN:VEVENT
DTSTAMP:20260424T005442Z
DTSTART;TZID=Europe/Berlin:20250830T160000
DTEND;TZID=Europe/Berlin:20250830T190000
SUMMARY:JUG\, 3.Li\, Gr.4\, VR Meilen-Männedorf II vs Chur II (5)
UID:a309633b-5401-4902-b0c7-5e61b037ed6c
STATUS:CONFIRMED
LAST-MODIFIED:20250902T124800Z
DESCRIPTION:Jugend\, 3. Liga\, Gruppe 4\, Vorrunde\nBegegnungs-Nr: 5\nHeim: Meilen-Männedorf II\nGast: Chur II\n\nAdresse: Schulstrasse 10\, 8708 Männedorf\n
LOCATION:Schulstrasse 10\, 8708 Männedorf
CATEGORIES:Saison 2025/26
END:VEVENT
BEGIN:VEVENT
DTSTAMP:20260424T005442Z
DTSTART;TZID=Europe/Berlin:20260328T160000
DTEND;TZID=Europe/Berlin:20260328T190000
SUMMARY:JUG\, 3.Li\, Gr.4\, Final Meilen-Männedorf II vs Chur II (6)
UID:f2332c0c-9997-4d0d-b877-021177475ab2
STATUS:CONFIRMED
LAST-MODIFIED:20260401T140348Z
DESCRIPTION:Jugend\, 3. Liga\, Gruppe 4\, Final\nBegegnungs-Nr: 6\nHeim: Meilen-Männedorf II\nGast: Chur II\n\nAdresse: Schulstrasse 10\, 8708 Männedorf\n
LOCATION:Schulstrasse 10\, 8708 Männedorf
CATEGORIES:Saison 2025/26
END:VEVENT
END:VCALENDAR
