BEGIN:VCALENDAR
PRODID:-//nuDatenautomaten//framework iCal4j //DE
VERSION:2.0
CALSCALE:GREGORIAN
BEGIN:VTIMEZONE
TZID:Europe/Berlin
LAST-MODIFIED:20260306T231828Z
TZURL:https://www.tzurl.org/zoneinfo/Europe/Berlin
X-LIC-LOCATION:Europe/Berlin
X-PROLEPTIC-TZNAME:LMT
BEGIN:STANDARD
TZNAME:CET
TZOFFSETFROM:+005328
TZOFFSETTO:+0100
DTSTART:18930401T000000
END:STANDARD
BEGIN:DAYLIGHT
TZNAME:CEST
TZOFFSETFROM:+0100
TZOFFSETTO:+0200
DTSTART:19160430T230000
RDATE:19400401T020000
RDATE:19430329T020000
RDATE:19460414T020000
RDATE:19470406T030000
RDATE:19480418T020000
RDATE:19490410T020000
RDATE:19800406T020000
END:DAYLIGHT
BEGIN:STANDARD
TZNAME:CET
TZOFFSETFROM:+0200
TZOFFSETTO:+0100
DTSTART:19161001T010000
RDATE:19421102T030000
RDATE:19431004T030000
RDATE:19441002T030000
RDATE:19451118T030000
RDATE:19461007T030000
END:STANDARD
BEGIN:DAYLIGHT
TZNAME:CEST
TZOFFSETFROM:+0100
TZOFFSETTO:+0200
DTSTART:19170416T020000
RRULE:FREQ=YEARLY;UNTIL=19180415T010000Z;BYMONTH=4;BYDAY=3MO
END:DAYLIGHT
BEGIN:STANDARD
TZNAME:CET
TZOFFSETFROM:+0200
TZOFFSETTO:+0100
DTSTART:19170917T030000
RRULE:FREQ=YEARLY;UNTIL=19180916T010000Z;BYMONTH=9;BYDAY=3MO
END:STANDARD
BEGIN:DAYLIGHT
TZNAME:CEST
TZOFFSETFROM:+0100
TZOFFSETTO:+0200
DTSTART:19440403T020000
RRULE:FREQ=YEARLY;UNTIL=19450402T010000Z;BYMONTH=4;BYDAY=1MO
END:DAYLIGHT
BEGIN:DAYLIGHT
TZNAME:CEMT
TZOFFSETFROM:+0200
TZOFFSETTO:+0300
DTSTART:19450524T020000
RDATE:19470511T030000
END:DAYLIGHT
BEGIN:DAYLIGHT
TZNAME:CEST
TZOFFSETFROM:+0300
TZOFFSETTO:+0200
DTSTART:19450924T030000
RDATE:19470629T030000
END:DAYLIGHT
BEGIN:STANDARD
TZNAME:CET
TZOFFSETFROM:+0100
TZOFFSETTO:+0100
DTSTART:19460101T000000
RDATE:19800101T000000
END:STANDARD
BEGIN:STANDARD
TZNAME:CET
TZOFFSETFROM:+0200
TZOFFSETTO:+0100
DTSTART:19471005T030000
RRULE:FREQ=YEARLY;UNTIL=19491002T010000Z;BYMONTH=10;BYDAY=1SU
END:STANDARD
BEGIN:STANDARD
TZNAME:CET
TZOFFSETFROM:+0200
TZOFFSETTO:+0100
DTSTART:19800928T030000
RRULE:FREQ=YEARLY;UNTIL=19950924T010000Z;BYMONTH=9;BYDAY=-1SU
END:STANDARD
BEGIN:DAYLIGHT
TZNAME:CEST
TZOFFSETFROM:+0100
TZOFFSETTO:+0200
DTSTART:19810329T020000
RRULE:FREQ=YEARLY;BYMONTH=3;BYDAY=-1SU
END:DAYLIGHT
BEGIN:STANDARD
TZNAME:CET
TZOFFSETFROM:+0200
TZOFFSETTO:+0100
DTSTART:19961027T030000
RRULE:FREQ=YEARLY;BYMONTH=10;BYDAY=-1SU
END:STANDARD
END:VTIMEZONE
BEGIN:VEVENT
DTSTAMP:20260424T135219Z
DTSTART;TZID=Europe/Berlin:20260106T200000
DTEND;TZID=Europe/Berlin:20260106T230000
SUMMARY:HE 6. Liga Gr. 1 Gossau St.Gallen V vs Rorschach III (0)
UID:5edad91a-821d-4a6d-a9a2-319f8e4d9344
STATUS:CONFIRMED
LAST-MODIFIED:20260109T080233Z
DESCRIPTION:6. Liga Herren Gruppe 1\nBegegnungs-Nr: 0\nHeim: Gossau St.Gallen V\nGast: Rorschach III\n\nAdresse: Falkenstrasse 21\, 9200 Gossau\n
LOCATION:Falkenstrasse 21\, 9200 Gossau
CATEGORIES:Saison 2025/26
END:VEVENT
BEGIN:VEVENT
DTSTAMP:20260424T135219Z
DTSTART;TZID=Europe/Berlin:20260127T200000
DTEND;TZID=Europe/Berlin:20260127T230000
SUMMARY:HE 6. Liga Gr. 1 Gossau St.Gallen V vs Herisau III (0)
UID:343efe59-60d9-4a06-9761-16684e74f757
STATUS:CONFIRMED
LAST-MODIFIED:20260130T102739Z
DESCRIPTION:6. Liga Herren Gruppe 1\nBegegnungs-Nr: 0\nHeim: Gossau St.Gallen V\nGast: Herisau III\n\nAdresse: Falkenstrasse 21\, 9200 Gossau\n
LOCATION:Falkenstrasse 21\, 9200 Gossau
CATEGORIES:Saison 2025/26
END:VEVENT
BEGIN:VEVENT
DTSTAMP:20260424T135219Z
DTSTART;TZID=Europe/Berlin:20260324T200000
DTEND;TZID=Europe/Berlin:20260324T230000
SUMMARY:HE 6. Liga Gr. 1 Gossau St.Gallen V vs Horn III (0)
UID:08842db7-b1f0-4086-ba87-6db3e5de25e5
STATUS:CONFIRMED
LAST-MODIFIED:20260401T125828Z
DESCRIPTION:6. Liga Herren Gruppe 1\nBegegnungs-Nr: 0\nHeim: Gossau St.Gallen V\nGast: Horn III\n\nAdresse: Falkenstrasse 21\, 9200 Gossau\n
LOCATION:Falkenstrasse 21\, 9200 Gossau
CATEGORIES:Saison 2025/26
END:VEVENT
BEGIN:VEVENT
DTSTAMP:20260424T135219Z
DTSTART;TZID=Europe/Berlin:20250902T200000
DTEND;TZID=Europe/Berlin:20250902T230000
SUMMARY:HE 6. Liga Gr. 1 Gossau St.Gallen V vs Oberriet V (0)
UID:83538764-b1a8-40dd-96c2-aa25e8b9fb66
STATUS:CONFIRMED
LAST-MODIFIED:20250905T124528Z
DESCRIPTION:6. Liga Herren Gruppe 1\nBegegnungs-Nr: 0\nHeim: Gossau St.Gallen V\nGast: Oberriet V\n\nAdresse: Falkenstrasse 21\, 9200 Gossau\n
LOCATION:Falkenstrasse 21\, 9200 Gossau
CATEGORIES:Saison 2025/26
END:VEVENT
BEGIN:VEVENT
DTSTAMP:20260424T135219Z
DTSTART;TZID=Europe/Berlin:20250923T200000
DTEND;TZID=Europe/Berlin:20250923T230000
SUMMARY:HE 6. Liga Gr. 1 Gossau St.Gallen V vs St. Gallen IX (0)
UID:0d3e9348-e957-437e-8a9e-b6ad4a33d49d
STATUS:CONFIRMED
LAST-MODIFIED:20250926T133005Z
DESCRIPTION:6. Liga Herren Gruppe 1\nBegegnungs-Nr: 0\nHeim: Gossau St.Gallen V\nGast: St. Gallen IX\n\nAdresse: Falkenstrasse 21\, 9200 Gossau\n
LOCATION:Falkenstrasse 21\, 9200 Gossau
CATEGORIES:Saison 2025/26
END:VEVENT
BEGIN:VEVENT
DTSTAMP:20260424T135219Z
DTSTART;TZID=Europe/Berlin:20251028T200000
DTEND;TZID=Europe/Berlin:20251028T230000
SUMMARY:HE 6. Liga Gr. 1 Gossau St.Gallen V vs Wolfhalden III (0)
UID:8d4d4bb1-c950-40a6-9a57-06f6b83d0183
STATUS:CONFIRMED
LAST-MODIFIED:20251031T144356Z
DESCRIPTION:6. Liga Herren Gruppe 1\nBegegnungs-Nr: 0\nHeim: Gossau St.Gallen V\nGast: Wolfhalden III\n\nAdresse: Falkenstrasse 21\, 9200 Gossau\n
LOCATION:Falkenstrasse 21\, 9200 Gossau
CATEGORIES:Saison 2025/26
END:VEVENT
BEGIN:VEVENT
DTSTAMP:20260424T135219Z
DTSTART;TZID=Europe/Berlin:20251202T200000
DTEND;TZID=Europe/Berlin:20251202T230000
SUMMARY:HE 6. Liga Gr. 1 Gossau St.Gallen V vs Arbon II (0)
UID:025a4572-119b-47a5-ac9e-31e32ed8c057
STATUS:CONFIRMED
LAST-MODIFIED:20251205T131033Z
DESCRIPTION:6. Liga Herren Gruppe 1\nBegegnungs-Nr: 0\nHeim: Gossau St.Gallen V\nGast: Arbon II\n\nAdresse: Falkenstrasse 21\, 9200 Gossau\n
LOCATION:Falkenstrasse 21\, 9200 Gossau
CATEGORIES:Saison 2025/26
END:VEVENT
BEGIN:VEVENT
DTSTAMP:20260424T135219Z
DTSTART;TZID=Europe/Berlin:20260123T201500
DTEND;TZID=Europe/Berlin:20260123T231500
SUMMARY:HE 6. Liga Gr. 1 Oberriet V vs Gossau St.Gallen V (0)
UID:a4f2c9e1-d335-49a1-88b0-75b29f77e53e
STATUS:CONFIRMED
LAST-MODIFIED:20260130T102720Z
DESCRIPTION:6. Liga Herren Gruppe 1\nBegegnungs-Nr: 0\nHeim: Oberriet V\nGast: Gossau St.Gallen V\n\nAdresse: Neugutstrasse 2\, 9463 Oberriet SG\n
LOCATION:Neugutstrasse 2\, 9463 Oberriet SG
CATEGORIES:Saison 2025/26
END:VEVENT
BEGIN:VEVENT
DTSTAMP:20260424T135219Z
DTSTART;TZID=Europe/Berlin:20260306T200000
DTEND;TZID=Europe/Berlin:20260306T230000
SUMMARY:HE 6. Liga Gr. 1 St. Gallen IX vs Gossau St.Gallen V (0)
UID:4d999267-4cfc-4d3a-9684-aa4c94c1b1fd
STATUS:CONFIRMED
LAST-MODIFIED:20260317T144636Z
DESCRIPTION:6. Liga Herren Gruppe 1\nBegegnungs-Nr: 0\nHeim: St. Gallen IX\nGast: Gossau St.Gallen V\n\nAdresse: Zilstrasse 61\, 9016 St.Gallen\n
LOCATION:Zilstrasse 61\, 9016 St.Gallen
CATEGORIES:Saison 2025/26
END:VEVENT
BEGIN:VEVENT
DTSTAMP:20260424T135219Z
DTSTART;TZID=Europe/Berlin:20260309T200000
DTEND;TZID=Europe/Berlin:20260309T230000
SUMMARY:HE 6. Liga Gr. 1 Wolfhalden III vs Gossau St.Gallen V (0)
UID:de29994b-5840-4dca-ba8b-99b82a5530c8
STATUS:CONFIRMED
LAST-MODIFIED:20260313T132304Z
DESCRIPTION:6. Liga Herren Gruppe 1\nBegegnungs-Nr: 0\nHeim: Wolfhalden III\nGast: Gossau St.Gallen V\n\nAdresse: -\, 9427 Wolfhalden\n
LOCATION:-\, 9427 Wolfhalden
CATEGORIES:Saison 2025/26
END:VEVENT
BEGIN:VEVENT
DTSTAMP:20260424T135219Z
DTSTART;TZID=Europe/Berlin:20260319T200000
DTEND;TZID=Europe/Berlin:20260319T230000
SUMMARY:HE 6. Liga Gr. 1 Arbon II vs Gossau St.Gallen V (0)
UID:d182f00c-0e85-40f2-b4d6-a1c835f985e2
STATUS:CONFIRMED
LAST-MODIFIED:20260326T153302Z
DESCRIPTION:6. Liga Herren Gruppe 1\nBegegnungs-Nr: 0\nHeim: Arbon II\nGast: Gossau St.Gallen V\n\nAdresse: Promenadenstrasse 17\, 9320 Arbon\n
LOCATION:Promenadenstrasse 17\, 9320 Arbon
CATEGORIES:Saison 2025/26
END:VEVENT
BEGIN:VEVENT
DTSTAMP:20260424T135219Z
DTSTART;TZID=Europe/Berlin:20250919T200000
DTEND;TZID=Europe/Berlin:20250919T230000
SUMMARY:HE 6. Liga Gr. 1 Herisau III vs Gossau St.Gallen V (0)
UID:ec201064-e310-4f3a-b7a4-1c46811c7294
STATUS:CONFIRMED
LAST-MODIFIED:20250926T132939Z
DESCRIPTION:6. Liga Herren Gruppe 1\nBegegnungs-Nr: 0\nHeim: Herisau III\nGast: Gossau St.Gallen V\n\nAdresse: Schwellbrunnerstrasse 29\, 9100 Herisau\n
LOCATION:Schwellbrunnerstrasse 29\, 9100 Herisau
CATEGORIES:Saison 2025/26
END:VEVENT
BEGIN:VEVENT
DTSTAMP:20260424T135219Z
DTSTART;TZID=Europe/Berlin:20251111T200000
DTEND;TZID=Europe/Berlin:20251111T230000
SUMMARY:HE 6. Liga Gr. 1 Horn III vs Gossau St.Gallen V (0)
UID:694a9960-1abd-4860-8db3-b4caf1184984
STATUS:CONFIRMED
LAST-MODIFIED:20251118T110218Z
DESCRIPTION:6. Liga Herren Gruppe 1\nBegegnungs-Nr: 0\nHeim: Horn III\nGast: Gossau St.Gallen V\n\nAdresse: Feldstrasse 16\, 9326 Horn\n
LOCATION:Feldstrasse 16\, 9326 Horn
CATEGORIES:Saison 2025/26
END:VEVENT
BEGIN:VEVENT
DTSTAMP:20260424T135219Z
DTSTART;TZID=Europe/Berlin:20250826T200000
DTEND;TZID=Europe/Berlin:20250826T230000
SUMMARY:HE 6. Liga Gr. 1 Rorschach III vs Gossau St.Gallen V (0)
UID:9dbbdde6-dadd-4cca-827c-10f808eaae7b
STATUS:CONFIRMED
LAST-MODIFIED:20250829T144204Z
DESCRIPTION:6. Liga Herren Gruppe 1\nBegegnungs-Nr: 0\nHeim: Rorschach III\nGast: Gossau St.Gallen V\n\nAdresse: Mariabergstrasse 33\, 9400 Rorschach\n
LOCATION:Mariabergstrasse 33\, 9400 Rorschach
CATEGORIES:Saison 2025/26
END:VEVENT
END:VCALENDAR
