BEGIN:VCALENDAR
PRODID:-//nuDatenautomaten//framework iCal4j //DE
VERSION:2.0
CALSCALE:GREGORIAN
BEGIN:VTIMEZONE
TZID:Europe/Berlin
LAST-MODIFIED:20260306T231828Z
TZURL:https://www.tzurl.org/zoneinfo/Europe/Berlin
X-LIC-LOCATION:Europe/Berlin
X-PROLEPTIC-TZNAME:LMT
BEGIN:STANDARD
TZNAME:CET
TZOFFSETFROM:+005328
TZOFFSETTO:+0100
DTSTART:18930401T000000
END:STANDARD
BEGIN:DAYLIGHT
TZNAME:CEST
TZOFFSETFROM:+0100
TZOFFSETTO:+0200
DTSTART:19160430T230000
RDATE:19400401T020000
RDATE:19430329T020000
RDATE:19460414T020000
RDATE:19470406T030000
RDATE:19480418T020000
RDATE:19490410T020000
RDATE:19800406T020000
END:DAYLIGHT
BEGIN:STANDARD
TZNAME:CET
TZOFFSETFROM:+0200
TZOFFSETTO:+0100
DTSTART:19161001T010000
RDATE:19421102T030000
RDATE:19431004T030000
RDATE:19441002T030000
RDATE:19451118T030000
RDATE:19461007T030000
END:STANDARD
BEGIN:DAYLIGHT
TZNAME:CEST
TZOFFSETFROM:+0100
TZOFFSETTO:+0200
DTSTART:19170416T020000
RRULE:FREQ=YEARLY;UNTIL=19180415T010000Z;BYMONTH=4;BYDAY=3MO
END:DAYLIGHT
BEGIN:STANDARD
TZNAME:CET
TZOFFSETFROM:+0200
TZOFFSETTO:+0100
DTSTART:19170917T030000
RRULE:FREQ=YEARLY;UNTIL=19180916T010000Z;BYMONTH=9;BYDAY=3MO
END:STANDARD
BEGIN:DAYLIGHT
TZNAME:CEST
TZOFFSETFROM:+0100
TZOFFSETTO:+0200
DTSTART:19440403T020000
RRULE:FREQ=YEARLY;UNTIL=19450402T010000Z;BYMONTH=4;BYDAY=1MO
END:DAYLIGHT
BEGIN:DAYLIGHT
TZNAME:CEMT
TZOFFSETFROM:+0200
TZOFFSETTO:+0300
DTSTART:19450524T020000
RDATE:19470511T030000
END:DAYLIGHT
BEGIN:DAYLIGHT
TZNAME:CEST
TZOFFSETFROM:+0300
TZOFFSETTO:+0200
DTSTART:19450924T030000
RDATE:19470629T030000
END:DAYLIGHT
BEGIN:STANDARD
TZNAME:CET
TZOFFSETFROM:+0100
TZOFFSETTO:+0100
DTSTART:19460101T000000
RDATE:19800101T000000
END:STANDARD
BEGIN:STANDARD
TZNAME:CET
TZOFFSETFROM:+0200
TZOFFSETTO:+0100
DTSTART:19471005T030000
RRULE:FREQ=YEARLY;UNTIL=19491002T010000Z;BYMONTH=10;BYDAY=1SU
END:STANDARD
BEGIN:STANDARD
TZNAME:CET
TZOFFSETFROM:+0200
TZOFFSETTO:+0100
DTSTART:19800928T030000
RRULE:FREQ=YEARLY;UNTIL=19950924T010000Z;BYMONTH=9;BYDAY=-1SU
END:STANDARD
BEGIN:DAYLIGHT
TZNAME:CEST
TZOFFSETFROM:+0100
TZOFFSETTO:+0200
DTSTART:19810329T020000
RRULE:FREQ=YEARLY;BYMONTH=3;BYDAY=-1SU
END:DAYLIGHT
BEGIN:STANDARD
TZNAME:CET
TZOFFSETFROM:+0200
TZOFFSETTO:+0100
DTSTART:19961027T030000
RRULE:FREQ=YEARLY;BYMONTH=10;BYDAY=-1SU
END:STANDARD
END:VTIMEZONE
BEGIN:VEVENT
DTSTAMP:20260424T152325Z
DTSTART;TZID=Europe/Berlin:20251115T130000
DTEND;TZID=Europe/Berlin:20251115T160000
SUMMARY:JUG\, 3.Li\, Gr.2\, ZR Kloten III vs Young Stars ZH III (2)
UID:3a028ed4-bbb4-40df-bd50-58934205a1d8
STATUS:CONFIRMED
LAST-MODIFIED:20251121T100003Z
DESCRIPTION:Jugend\, 3. Liga\, Gruppe 2\, Zwischenrunde\nBegegnungs-Nr: 2\nHeim: Kloten III\nGast: Young Stars ZH III\n\nAdresse: Schluefweg 10\, 8302 Kloten\n
LOCATION:Schluefweg 10\, 8302 Kloten
CATEGORIES:Saison 2025/26
END:VEVENT
BEGIN:VEVENT
DTSTAMP:20260424T152325Z
DTSTART;TZID=Europe/Berlin:20251115T160000
DTEND;TZID=Europe/Berlin:20251115T190000
SUMMARY:JUG\, 3.Li\, Gr.2\, ZR Kloten III vs Affoltern A/A III (5)
UID:0ce86e6c-0e67-4749-9923-c80045fb7812
STATUS:CONFIRMED
LAST-MODIFIED:20251124T150650Z
DESCRIPTION:Jugend\, 3. Liga\, Gruppe 2\, Zwischenrunde\nBegegnungs-Nr: 5\nHeim: Kloten III\nGast: Affoltern A/A III\n\nAdresse: Schluefweg 10\, 8302 Kloten\n
LOCATION:Schluefweg 10\, 8302 Kloten
CATEGORIES:Saison 2025/26
END:VEVENT
BEGIN:VEVENT
DTSTAMP:20260424T152325Z
DTSTART;TZID=Europe/Berlin:20250830T140000
DTEND;TZID=Europe/Berlin:20250830T170000
SUMMARY:JUG\, 3.Li\, Gr.5\, VR Kloten III vs Wil SG II (1)
UID:4f1009ca-dd2f-42f2-b3e9-6a44a46eef47
STATUS:CONFIRMED
LAST-MODIFIED:20250902T124818Z
DESCRIPTION:Jugend\, 3. Liga\, Gruppe 5\, Vorrunde\nBegegnungs-Nr: 1\nHeim: Kloten III\nGast: Wil SG II\nHalle: Poule in Kloten\, Schluefweg\nAdresse: Schluefweg 10\, 8302 Kloten\n
LOCATION:Poule in Kloten\, Schluefweg Schluefweg 10\, 8302 Kloten
CATEGORIES:Saison 2025/26
END:VEVENT
BEGIN:VEVENT
DTSTAMP:20260424T152325Z
DTSTART;TZID=Europe/Berlin:20250830T153000
DTEND;TZID=Europe/Berlin:20250830T183000
SUMMARY:JUG\, 3.Li\, Gr.5\, VR Kloten III vs St. Gallen IV (4)
UID:1d2ab5dd-d1e0-498d-a708-d80e2700b58a
STATUS:CONFIRMED
LAST-MODIFIED:20250902T124916Z
DESCRIPTION:Jugend\, 3. Liga\, Gruppe 5\, Vorrunde\nBegegnungs-Nr: 4\nHeim: Kloten III\nGast: St. Gallen IV\n\nAdresse: Schluefweg 10\, 8302 Kloten\n
LOCATION:Schluefweg 10\, 8302 Kloten
CATEGORIES:Saison 2025/26
END:VEVENT
BEGIN:VEVENT
DTSTAMP:20260424T152325Z
DTSTART;TZID=Europe/Berlin:20260328T143000
DTEND;TZID=Europe/Berlin:20260328T173000
SUMMARY:JUG\, 3.Li\, Gr.4\, Final Kloten III vs Meilen-Männedorf II (3)
UID:bfe6b3ce-51d8-4601-b804-0e150914a33c
STATUS:CONFIRMED
LAST-MODIFIED:20260401T140310Z
DESCRIPTION:Jugend\, 3. Liga\, Gruppe 4\, Final\nBegegnungs-Nr: 3\nHeim: Kloten III\nGast: Meilen-Männedorf II\n\nAdresse: Schluefweg 10\, 8302 Kloten\n
LOCATION:Schluefweg 10\, 8302 Kloten
CATEGORIES:Saison 2025/26
END:VEVENT
BEGIN:VEVENT
DTSTAMP:20260424T152325Z
DTSTART;TZID=Europe/Berlin:20251115T143000
DTEND;TZID=Europe/Berlin:20251115T173000
SUMMARY:JUG\, 3.Li\, Gr.2\, ZR Horgen II vs Kloten III (4)
UID:37763e89-2210-4dbc-912e-0e1d7cb4ecbf
STATUS:CONFIRMED
LAST-MODIFIED:20251121T100020Z
DESCRIPTION:Jugend\, 3. Liga\, Gruppe 2\, Zwischenrunde\nBegegnungs-Nr: 4\nHeim: Horgen II\nGast: Kloten III\n\nAdresse: Seestrasse 110\, 8810 Horgen\n
LOCATION:Seestrasse 110\, 8810 Horgen
CATEGORIES:Saison 2025/26
END:VEVENT
BEGIN:VEVENT
DTSTAMP:20260424T152325Z
DTSTART;TZID=Europe/Berlin:20250830T170000
DTEND;TZID=Europe/Berlin:20250830T200000
SUMMARY:JUG\, 3.Li\, Gr.5\, VR Gossau St.Gallen vs Kloten III (6)
UID:50729912-02ae-4b10-8d10-df3129e69007
STATUS:CONFIRMED
LAST-MODIFIED:20250902T124941Z
DESCRIPTION:Jugend\, 3. Liga\, Gruppe 5\, Vorrunde\nBegegnungs-Nr: 6\nHeim: Gossau St.Gallen\nGast: Kloten III\n\nAdresse: Falkenstrasse 21\, 9200 Gossau\n
LOCATION:Falkenstrasse 21\, 9200 Gossau
CATEGORIES:Saison 2025/26
END:VEVENT
BEGIN:VEVENT
DTSTAMP:20260424T152325Z
DTSTART;TZID=Europe/Berlin:20260328T130000
DTEND;TZID=Europe/Berlin:20260328T160000
SUMMARY:JUG\, 3.Li\, Gr.4\, Final Chur II vs Kloten III (1)
UID:03a886dc-9e7a-4b41-9fec-9cd1d0765664
STATUS:CONFIRMED
LAST-MODIFIED:20260401T140248Z
DESCRIPTION:Jugend\, 3. Liga\, Gruppe 4\, Final\nBegegnungs-Nr: 1\nHeim: Chur II\nGast: Kloten III\nHalle: Poule in Chur\, TH Türligarten\nAdresse: Sandstr. 35\, 7000 Chur\n
LOCATION:Poule in Chur\, TH Türligarten Sandstr. 35\, 7000 Chur
CATEGORIES:Saison 2025/26
END:VEVENT
BEGIN:VEVENT
DTSTAMP:20260424T152325Z
DTSTART;TZID=Europe/Berlin:20260328T160000
DTEND;TZID=Europe/Berlin:20260328T190000
SUMMARY:JUG\, 3.Li\, Gr.4\, Final Meilen-Männedorf III vs Kloten III (5)
UID:446d9e49-1b31-4956-b7b0-47fb9999ff11
STATUS:CONFIRMED
LAST-MODIFIED:20260401T140332Z
DESCRIPTION:Jugend\, 3. Liga\, Gruppe 4\, Final\nBegegnungs-Nr: 5\nHeim: Meilen-Männedorf III\nGast: Kloten III\n\nAdresse: Schulstrasse 10\, 8708 Männedorf\n
LOCATION:Schulstrasse 10\, 8708 Männedorf
CATEGORIES:Saison 2025/26
END:VEVENT
END:VCALENDAR
