BEGIN:VCALENDAR
PRODID:-//nuDatenautomaten//framework iCal4j //DE
VERSION:2.0
CALSCALE:GREGORIAN
BEGIN:VTIMEZONE
TZID:Europe/Berlin
LAST-MODIFIED:20260306T231828Z
TZURL:https://www.tzurl.org/zoneinfo/Europe/Berlin
X-LIC-LOCATION:Europe/Berlin
X-PROLEPTIC-TZNAME:LMT
BEGIN:STANDARD
TZNAME:CET
TZOFFSETFROM:+005328
TZOFFSETTO:+0100
DTSTART:18930401T000000
END:STANDARD
BEGIN:DAYLIGHT
TZNAME:CEST
TZOFFSETFROM:+0100
TZOFFSETTO:+0200
DTSTART:19160430T230000
RDATE:19400401T020000
RDATE:19430329T020000
RDATE:19460414T020000
RDATE:19470406T030000
RDATE:19480418T020000
RDATE:19490410T020000
RDATE:19800406T020000
END:DAYLIGHT
BEGIN:STANDARD
TZNAME:CET
TZOFFSETFROM:+0200
TZOFFSETTO:+0100
DTSTART:19161001T010000
RDATE:19421102T030000
RDATE:19431004T030000
RDATE:19441002T030000
RDATE:19451118T030000
RDATE:19461007T030000
END:STANDARD
BEGIN:DAYLIGHT
TZNAME:CEST
TZOFFSETFROM:+0100
TZOFFSETTO:+0200
DTSTART:19170416T020000
RRULE:FREQ=YEARLY;UNTIL=19180415T010000Z;BYMONTH=4;BYDAY=3MO
END:DAYLIGHT
BEGIN:STANDARD
TZNAME:CET
TZOFFSETFROM:+0200
TZOFFSETTO:+0100
DTSTART:19170917T030000
RRULE:FREQ=YEARLY;UNTIL=19180916T010000Z;BYMONTH=9;BYDAY=3MO
END:STANDARD
BEGIN:DAYLIGHT
TZNAME:CEST
TZOFFSETFROM:+0100
TZOFFSETTO:+0200
DTSTART:19440403T020000
RRULE:FREQ=YEARLY;UNTIL=19450402T010000Z;BYMONTH=4;BYDAY=1MO
END:DAYLIGHT
BEGIN:DAYLIGHT
TZNAME:CEMT
TZOFFSETFROM:+0200
TZOFFSETTO:+0300
DTSTART:19450524T020000
RDATE:19470511T030000
END:DAYLIGHT
BEGIN:DAYLIGHT
TZNAME:CEST
TZOFFSETFROM:+0300
TZOFFSETTO:+0200
DTSTART:19450924T030000
RDATE:19470629T030000
END:DAYLIGHT
BEGIN:STANDARD
TZNAME:CET
TZOFFSETFROM:+0100
TZOFFSETTO:+0100
DTSTART:19460101T000000
RDATE:19800101T000000
END:STANDARD
BEGIN:STANDARD
TZNAME:CET
TZOFFSETFROM:+0200
TZOFFSETTO:+0100
DTSTART:19471005T030000
RRULE:FREQ=YEARLY;UNTIL=19491002T010000Z;BYMONTH=10;BYDAY=1SU
END:STANDARD
BEGIN:STANDARD
TZNAME:CET
TZOFFSETFROM:+0200
TZOFFSETTO:+0100
DTSTART:19800928T030000
RRULE:FREQ=YEARLY;UNTIL=19950924T010000Z;BYMONTH=9;BYDAY=-1SU
END:STANDARD
BEGIN:DAYLIGHT
TZNAME:CEST
TZOFFSETFROM:+0100
TZOFFSETTO:+0200
DTSTART:19810329T020000
RRULE:FREQ=YEARLY;BYMONTH=3;BYDAY=-1SU
END:DAYLIGHT
BEGIN:STANDARD
TZNAME:CET
TZOFFSETFROM:+0200
TZOFFSETTO:+0100
DTSTART:19961027T030000
RRULE:FREQ=YEARLY;BYMONTH=10;BYDAY=-1SU
END:STANDARD
END:VTIMEZONE
BEGIN:VEVENT
DTSTAMP:20260424T025640Z
DTSTART;TZID=Europe/Berlin:20251115T160000
DTEND;TZID=Europe/Berlin:20251115T190000
SUMMARY:JUG\, 3.Li\, Gr.4\, ZR Thalwil vs Wil SG II (6)
UID:18337e1e-6f41-4c4c-95eb-51f24c350abb
STATUS:CONFIRMED
LAST-MODIFIED:20251121T100232Z
DESCRIPTION:Jugend\, 3. Liga\, Gruppe 4\, Zwischenrunde\nBegegnungs-Nr: 6\nHeim: Thalwil\nGast: Wil SG II\n\nAdresse: Bergstrasse 2\, 8800 Thalwil\n
LOCATION:Bergstrasse 2\, 8800 Thalwil
CATEGORIES:Saison 2025/26
END:VEVENT
BEGIN:VEVENT
DTSTAMP:20260424T025640Z
DTSTART;TZID=Europe/Berlin:20250830T160000
DTEND;TZID=Europe/Berlin:20250830T190000
SUMMARY:JUG\, 3.Li\, Gr.3\, VR Thalwil vs Wädenswil II (6)
UID:c7439854-7356-4743-a043-37d9ee5ed26d
STATUS:CONFIRMED
LAST-MODIFIED:20250902T124713Z
DESCRIPTION:Jugend\, 3. Liga\, Gruppe 3\, Vorrunde\nBegegnungs-Nr: 6\nHeim: Thalwil\nGast: Wädenswil II\n\nAdresse: Bergstrasse 2\, 8800 Thalwil\n
LOCATION:Bergstrasse 2\, 8800 Thalwil
CATEGORIES:Saison 2025/26
END:VEVENT
BEGIN:VEVENT
DTSTAMP:20260424T025640Z
DTSTART;TZID=Europe/Berlin:20260328T143000
DTEND;TZID=Europe/Berlin:20260328T173000
SUMMARY:JUG\, 3.Li\, Gr.3\, Final Thalwil vs Zürich-Affoltern III (3)
UID:1f2ab6c5-0d50-4b89-b881-078355fdce13
STATUS:CONFIRMED
LAST-MODIFIED:20260401T140043Z
DESCRIPTION:Jugend\, 3. Liga\, Gruppe 3\, Final\nBegegnungs-Nr: 3\nHeim: Thalwil\nGast: Zürich-Affoltern III\n\nAdresse: Bergstrasse 2\, 8800 Thalwil\n
LOCATION:Bergstrasse 2\, 8800 Thalwil
CATEGORIES:Saison 2025/26
END:VEVENT
BEGIN:VEVENT
DTSTAMP:20260424T025640Z
DTSTART;TZID=Europe/Berlin:20251115T143000
DTEND;TZID=Europe/Berlin:20251115T173000
SUMMARY:JUG\, 3.Li\, Gr.4\, ZR Romanshorn vs Thalwil (3)
UID:77f31993-6018-4335-8a00-c5166b61120b
STATUS:CONFIRMED
LAST-MODIFIED:20251121T100206Z
DESCRIPTION:Jugend\, 3. Liga\, Gruppe 4\, Zwischenrunde\nBegegnungs-Nr: 3\nHeim: Romanshorn\nGast: Thalwil\n\nAdresse: Florastrasse\, 8590 Romanshorn\n
LOCATION:Florastrasse\, 8590 Romanshorn
CATEGORIES:Saison 2025/26
END:VEVENT
BEGIN:VEVENT
DTSTAMP:20260424T025640Z
DTSTART;TZID=Europe/Berlin:20251115T130000
DTEND;TZID=Europe/Berlin:20251115T160000
SUMMARY:JUG\, 3.Li\, Gr.4\, ZR Chur II vs Thalwil (2)
UID:7bb8fa0f-ab52-4457-97a3-1a7d56c66e70
STATUS:CONFIRMED
LAST-MODIFIED:20251121T100157Z
DESCRIPTION:Jugend\, 3. Liga\, Gruppe 4\, Zwischenrunde\nBegegnungs-Nr: 2\nHeim: Chur II\nGast: Thalwil\n\nAdresse: Sandstr. 35\, 7000 Chur\n
LOCATION:Sandstr. 35\, 7000 Chur
CATEGORIES:Saison 2025/26
END:VEVENT
BEGIN:VEVENT
DTSTAMP:20260424T025640Z
DTSTART;TZID=Europe/Berlin:20250830T143000
DTEND;TZID=Europe/Berlin:20250830T173000
SUMMARY:JUG\, 3.Li\, Gr.3\, VR Zürich II vs Thalwil (3)
UID:a6b5604a-d47c-40ce-bedf-d31f85675ee6
STATUS:CONFIRMED
LAST-MODIFIED:20250831T104327Z
DESCRIPTION:Jugend\, 3. Liga\, Gruppe 3\, Vorrunde\nBegegnungs-Nr: 3\nHeim: Zürich II\nGast: Thalwil\n\nAdresse: Wehntalerstrasse 283\, 8046 Zürich\n
LOCATION:Wehntalerstrasse 283\, 8046 Zürich
CATEGORIES:Saison 2025/26
END:VEVENT
BEGIN:VEVENT
DTSTAMP:20260424T025640Z
DTSTART;TZID=Europe/Berlin:20250830T130000
DTEND;TZID=Europe/Berlin:20250830T160000
SUMMARY:JUG\, 3.Li\, Gr.3\, VR Zürich-Affoltern IV vs Thalwil (2)
UID:102e9a13-bc5f-49ac-bdf1-a6545ddb471d
STATUS:CONFIRMED
LAST-MODIFIED:20250902T124653Z
DESCRIPTION:Jugend\, 3. Liga\, Gruppe 3\, Vorrunde\nBegegnungs-Nr: 2\nHeim: Zürich-Affoltern IV\nGast: Thalwil\n\nAdresse: Rümlangstr. 89\, 8052 Zürich\n
LOCATION:Rümlangstr. 89\, 8052 Zürich
CATEGORIES:Saison 2025/26
END:VEVENT
BEGIN:VEVENT
DTSTAMP:20260424T025640Z
DTSTART;TZID=Europe/Berlin:20260328T160000
DTEND;TZID=Europe/Berlin:20260328T190000
SUMMARY:JUG\, 3.Li\, Gr.3\, Final St. Gallen III vs Thalwil (5)
UID:5036079a-16f5-45c9-b8d2-2d795d4ddd6d
STATUS:CONFIRMED
LAST-MODIFIED:20260401T140105Z
DESCRIPTION:Jugend\, 3. Liga\, Gruppe 3\, Final\nBegegnungs-Nr: 5\nHeim: St. Gallen III\nGast: Thalwil\n\nAdresse: Zilstrasse 61\, 9016 St.Gallen\n
LOCATION:Zilstrasse 61\, 9016 St.Gallen
CATEGORIES:Saison 2025/26
END:VEVENT
BEGIN:VEVENT
DTSTAMP:20260424T025640Z
DTSTART;TZID=Europe/Berlin:20260328T130000
DTEND;TZID=Europe/Berlin:20260328T160000
SUMMARY:JUG\, 3.Li\, Gr.3\, Final Horgen II vs Thalwil (1)
UID:c59b2995-9ce1-48df-8bd5-67640009b7d8
STATUS:CONFIRMED
LAST-MODIFIED:20260401T135849Z
DESCRIPTION:Jugend\, 3. Liga\, Gruppe 3\, Final\nBegegnungs-Nr: 1\nHeim: Horgen II\nGast: Thalwil\nHalle: Poule in Horgen\, Bildungszentrum 2. UG\nAdresse: Seestrasse 110\, 8810 Horgen\n
LOCATION:Poule in Horgen\, Bildungszentrum 2. UG Seestrasse 110\, 8810 Horgen
CATEGORIES:Saison 2025/26
END:VEVENT
END:VCALENDAR
