BEGIN:VCALENDAR
PRODID:-//nuDatenautomaten//framework iCal4j //DE
VERSION:2.0
CALSCALE:GREGORIAN
BEGIN:VTIMEZONE
TZID:Europe/Berlin
LAST-MODIFIED:20260306T231828Z
TZURL:https://www.tzurl.org/zoneinfo/Europe/Berlin
X-LIC-LOCATION:Europe/Berlin
X-PROLEPTIC-TZNAME:LMT
BEGIN:STANDARD
TZNAME:CET
TZOFFSETFROM:+005328
TZOFFSETTO:+0100
DTSTART:18930401T000000
END:STANDARD
BEGIN:DAYLIGHT
TZNAME:CEST
TZOFFSETFROM:+0100
TZOFFSETTO:+0200
DTSTART:19160430T230000
RDATE:19400401T020000
RDATE:19430329T020000
RDATE:19460414T020000
RDATE:19470406T030000
RDATE:19480418T020000
RDATE:19490410T020000
RDATE:19800406T020000
END:DAYLIGHT
BEGIN:STANDARD
TZNAME:CET
TZOFFSETFROM:+0200
TZOFFSETTO:+0100
DTSTART:19161001T010000
RDATE:19421102T030000
RDATE:19431004T030000
RDATE:19441002T030000
RDATE:19451118T030000
RDATE:19461007T030000
END:STANDARD
BEGIN:DAYLIGHT
TZNAME:CEST
TZOFFSETFROM:+0100
TZOFFSETTO:+0200
DTSTART:19170416T020000
RRULE:FREQ=YEARLY;UNTIL=19180415T010000Z;BYMONTH=4;BYDAY=3MO
END:DAYLIGHT
BEGIN:STANDARD
TZNAME:CET
TZOFFSETFROM:+0200
TZOFFSETTO:+0100
DTSTART:19170917T030000
RRULE:FREQ=YEARLY;UNTIL=19180916T010000Z;BYMONTH=9;BYDAY=3MO
END:STANDARD
BEGIN:DAYLIGHT
TZNAME:CEST
TZOFFSETFROM:+0100
TZOFFSETTO:+0200
DTSTART:19440403T020000
RRULE:FREQ=YEARLY;UNTIL=19450402T010000Z;BYMONTH=4;BYDAY=1MO
END:DAYLIGHT
BEGIN:DAYLIGHT
TZNAME:CEMT
TZOFFSETFROM:+0200
TZOFFSETTO:+0300
DTSTART:19450524T020000
RDATE:19470511T030000
END:DAYLIGHT
BEGIN:DAYLIGHT
TZNAME:CEST
TZOFFSETFROM:+0300
TZOFFSETTO:+0200
DTSTART:19450924T030000
RDATE:19470629T030000
END:DAYLIGHT
BEGIN:STANDARD
TZNAME:CET
TZOFFSETFROM:+0100
TZOFFSETTO:+0100
DTSTART:19460101T000000
RDATE:19800101T000000
END:STANDARD
BEGIN:STANDARD
TZNAME:CET
TZOFFSETFROM:+0200
TZOFFSETTO:+0100
DTSTART:19471005T030000
RRULE:FREQ=YEARLY;UNTIL=19491002T010000Z;BYMONTH=10;BYDAY=1SU
END:STANDARD
BEGIN:STANDARD
TZNAME:CET
TZOFFSETFROM:+0200
TZOFFSETTO:+0100
DTSTART:19800928T030000
RRULE:FREQ=YEARLY;UNTIL=19950924T010000Z;BYMONTH=9;BYDAY=-1SU
END:STANDARD
BEGIN:DAYLIGHT
TZNAME:CEST
TZOFFSETFROM:+0100
TZOFFSETTO:+0200
DTSTART:19810329T020000
RRULE:FREQ=YEARLY;BYMONTH=3;BYDAY=-1SU
END:DAYLIGHT
BEGIN:STANDARD
TZNAME:CET
TZOFFSETFROM:+0200
TZOFFSETTO:+0100
DTSTART:19961027T030000
RRULE:FREQ=YEARLY;BYMONTH=10;BYDAY=-1SU
END:STANDARD
END:VTIMEZONE
BEGIN:VEVENT
DTSTAMP:20260424T134201Z
DTSTART;TZID=Europe/Berlin:20250830T130000
DTEND;TZID=Europe/Berlin:20250830T160000
SUMMARY:JUG\, 3.Li\, Gr.8\, VR BW-Wollishofen vs Winterthur II (1)
UID:15fcd1fd-b26b-48ac-a106-099decd17a4f
STATUS:CONFIRMED
LAST-MODIFIED:20250902T125512Z
DESCRIPTION:Jugend\, 3. Liga\, Gruppe 8\, Vorrunde\nBegegnungs-Nr: 1\nHeim: BW-Wollishofen\nGast: Winterthur II\nHalle: Poule in Zürich-Wollishofen\, SH Hans Asper\nAdresse: Kilchbergstr. 28\, 8038 Zürich\n
LOCATION:Poule in Zürich-Wollishofen\, SH Hans Asper Kilchbergstr. 28\, 8038 Zürich
CATEGORIES:Saison 2025/26
END:VEVENT
BEGIN:VEVENT
DTSTAMP:20260424T134201Z
DTSTART;TZID=Europe/Berlin:20250830T160000
DTEND;TZID=Europe/Berlin:20250830T190000
SUMMARY:JUG\, 3.Li\, Gr.8\, VR BW-Wollishofen vs TSV Zumikon (3)
UID:91985de5-4cad-4bcb-9ca5-4fbb118f5136
STATUS:CONFIRMED
LAST-MODIFIED:20250902T125545Z
DESCRIPTION:Jugend\, 3. Liga\, Gruppe 8\, Vorrunde\nBegegnungs-Nr: 3\nHeim: BW-Wollishofen\nGast: TSV Zumikon\n\nAdresse: Kilchbergstr. 28\, 8038 Zürich\n
LOCATION:Kilchbergstr. 28\, 8038 Zürich
CATEGORIES:Saison 2025/26
END:VEVENT
BEGIN:VEVENT
DTSTAMP:20260424T134201Z
DTSTART;TZID=Europe/Berlin:20251115T160000
DTEND;TZID=Europe/Berlin:20251115T190000
SUMMARY:JUG\, 3.Li\, Gr.5\, ZR BW-Wollishofen vs Neuhausen III (5)
UID:ab722a34-fb90-4af3-8f7e-4b1a6f7111cf
STATUS:CONFIRMED
LAST-MODIFIED:20251121T100309Z
DESCRIPTION:Jugend\, 3. Liga\, Gruppe 5\, Zwischenrunde\nBegegnungs-Nr: 5\nHeim: BW-Wollishofen\nGast: Neuhausen III\n\nAdresse: Kilchbergstr. 28\, 8038 Zürich\n
LOCATION:Kilchbergstr. 28\, 8038 Zürich
CATEGORIES:Saison 2025/26
END:VEVENT
BEGIN:VEVENT
DTSTAMP:20260424T134201Z
DTSTART;TZID=Europe/Berlin:20251115T130000
DTEND;TZID=Europe/Berlin:20251115T160000
SUMMARY:JUG\, 3.Li\, Gr.5\, ZR BW-Wollishofen vs Zürich-Affoltern IV (2)
UID:8dd9b8e3-352b-44da-9bb8-b540c6f158e3
STATUS:CONFIRMED
LAST-MODIFIED:20251124T150729Z
DESCRIPTION:Jugend\, 3. Liga\, Gruppe 5\, Zwischenrunde\nBegegnungs-Nr: 2\nHeim: BW-Wollishofen\nGast: Zürich-Affoltern IV\n\nAdresse: Kilchbergstr. 28\, 8038 Zürich\n
LOCATION:Kilchbergstr. 28\, 8038 Zürich
CATEGORIES:Saison 2025/26
END:VEVENT
BEGIN:VEVENT
DTSTAMP:20260424T134201Z
DTSTART;TZID=Europe/Berlin:20260328T143000
DTEND;TZID=Europe/Berlin:20260328T173000
SUMMARY:JUG\, 3.Li\, Gr.5\, Final BW-Wollishofen vs TSV Zumikon (4)
UID:18318088-886f-418f-83d3-891341bfb48f
STATUS:CONFIRMED
LAST-MODIFIED:20260401T140450Z
DESCRIPTION:Jugend\, 3. Liga\, Gruppe 5\, Final\nBegegnungs-Nr: 4\nHeim: BW-Wollishofen\nGast: TSV Zumikon\n\nAdresse: Kilchbergstr. 28\, 8038 Zürich\n
LOCATION:Kilchbergstr. 28\, 8038 Zürich
CATEGORIES:Saison 2025/26
END:VEVENT
BEGIN:VEVENT
DTSTAMP:20260424T134201Z
DTSTART;TZID=Europe/Berlin:20260328T130000
DTEND;TZID=Europe/Berlin:20260328T160000
SUMMARY:JUG\, 3.Li\, Gr.5\, Final BW-Wollishofen vs Zürich-Affoltern V (1)
UID:1b782ab4-a026-40fb-adf9-f860b3871760
STATUS:CONFIRMED
LAST-MODIFIED:20260401T140406Z
DESCRIPTION:Jugend\, 3. Liga\, Gruppe 5\, Final\nBegegnungs-Nr: 1\nHeim: BW-Wollishofen\nGast: Zürich-Affoltern V\nHalle: Poule in Wollishofen\, TH Hans Asper\nAdresse: Kilchbergstr. 28\, 8038 Zürich\n
LOCATION:Poule in Wollishofen\, TH Hans Asper Kilchbergstr. 28\, 8038 Zürich
CATEGORIES:Saison 2025/26
END:VEVENT
BEGIN:VEVENT
DTSTAMP:20260424T134201Z
DTSTART;TZID=Europe/Berlin:20251115T143000
DTEND;TZID=Europe/Berlin:20251115T173000
SUMMARY:JUG\, 3.Li\, Gr.5\, ZR Herisau vs BW-Wollishofen (4)
UID:f918be0c-ab11-4413-82eb-50d7b8bb34e8
STATUS:CONFIRMED
LAST-MODIFIED:20251121T100301Z
DESCRIPTION:Jugend\, 3. Liga\, Gruppe 5\, Zwischenrunde\nBegegnungs-Nr: 4\nHeim: Herisau\nGast: BW-Wollishofen\n\nAdresse: Schwellbrunnerstrasse 29\, 9100 Herisau\n
LOCATION:Schwellbrunnerstrasse 29\, 9100 Herisau
CATEGORIES:Saison 2025/26
END:VEVENT
BEGIN:VEVENT
DTSTAMP:20260424T134201Z
DTSTART;TZID=Europe/Berlin:20260328T160000
DTEND;TZID=Europe/Berlin:20260328T190000
SUMMARY:JUG\, 3.Li\, Gr.5\, Final Ettenhausen II vs BW-Wollishofen (6)
UID:74db437e-9903-4b83-8416-a717cb09353f
STATUS:CONFIRMED
LAST-MODIFIED:20260401T140547Z
DESCRIPTION:Jugend\, 3. Liga\, Gruppe 5\, Final\nBegegnungs-Nr: 6\nHeim: Ettenhausen II\nGast: BW-Wollishofen\n\nAdresse: Weidlistrasse 12\, 8356 Ettenhausen\n
LOCATION:Weidlistrasse 12\, 8356 Ettenhausen
CATEGORIES:Saison 2025/26
END:VEVENT
END:VCALENDAR
