BEGIN:VCALENDAR
PRODID:-//nuDatenautomaten//framework iCal4j //DE
VERSION:2.0
CALSCALE:GREGORIAN
BEGIN:VTIMEZONE
TZID:Europe/Berlin
LAST-MODIFIED:20260306T231828Z
TZURL:https://www.tzurl.org/zoneinfo/Europe/Berlin
X-LIC-LOCATION:Europe/Berlin
X-PROLEPTIC-TZNAME:LMT
BEGIN:STANDARD
TZNAME:CET
TZOFFSETFROM:+005328
TZOFFSETTO:+0100
DTSTART:18930401T000000
END:STANDARD
BEGIN:DAYLIGHT
TZNAME:CEST
TZOFFSETFROM:+0100
TZOFFSETTO:+0200
DTSTART:19160430T230000
RDATE:19400401T020000
RDATE:19430329T020000
RDATE:19460414T020000
RDATE:19470406T030000
RDATE:19480418T020000
RDATE:19490410T020000
RDATE:19800406T020000
END:DAYLIGHT
BEGIN:STANDARD
TZNAME:CET
TZOFFSETFROM:+0200
TZOFFSETTO:+0100
DTSTART:19161001T010000
RDATE:19421102T030000
RDATE:19431004T030000
RDATE:19441002T030000
RDATE:19451118T030000
RDATE:19461007T030000
END:STANDARD
BEGIN:DAYLIGHT
TZNAME:CEST
TZOFFSETFROM:+0100
TZOFFSETTO:+0200
DTSTART:19170416T020000
RRULE:FREQ=YEARLY;UNTIL=19180415T010000Z;BYMONTH=4;BYDAY=3MO
END:DAYLIGHT
BEGIN:STANDARD
TZNAME:CET
TZOFFSETFROM:+0200
TZOFFSETTO:+0100
DTSTART:19170917T030000
RRULE:FREQ=YEARLY;UNTIL=19180916T010000Z;BYMONTH=9;BYDAY=3MO
END:STANDARD
BEGIN:DAYLIGHT
TZNAME:CEST
TZOFFSETFROM:+0100
TZOFFSETTO:+0200
DTSTART:19440403T020000
RRULE:FREQ=YEARLY;UNTIL=19450402T010000Z;BYMONTH=4;BYDAY=1MO
END:DAYLIGHT
BEGIN:DAYLIGHT
TZNAME:CEMT
TZOFFSETFROM:+0200
TZOFFSETTO:+0300
DTSTART:19450524T020000
RDATE:19470511T030000
END:DAYLIGHT
BEGIN:DAYLIGHT
TZNAME:CEST
TZOFFSETFROM:+0300
TZOFFSETTO:+0200
DTSTART:19450924T030000
RDATE:19470629T030000
END:DAYLIGHT
BEGIN:STANDARD
TZNAME:CET
TZOFFSETFROM:+0100
TZOFFSETTO:+0100
DTSTART:19460101T000000
RDATE:19800101T000000
END:STANDARD
BEGIN:STANDARD
TZNAME:CET
TZOFFSETFROM:+0200
TZOFFSETTO:+0100
DTSTART:19471005T030000
RRULE:FREQ=YEARLY;UNTIL=19491002T010000Z;BYMONTH=10;BYDAY=1SU
END:STANDARD
BEGIN:STANDARD
TZNAME:CET
TZOFFSETFROM:+0200
TZOFFSETTO:+0100
DTSTART:19800928T030000
RRULE:FREQ=YEARLY;UNTIL=19950924T010000Z;BYMONTH=9;BYDAY=-1SU
END:STANDARD
BEGIN:DAYLIGHT
TZNAME:CEST
TZOFFSETFROM:+0100
TZOFFSETTO:+0200
DTSTART:19810329T020000
RRULE:FREQ=YEARLY;BYMONTH=3;BYDAY=-1SU
END:DAYLIGHT
BEGIN:STANDARD
TZNAME:CET
TZOFFSETFROM:+0200
TZOFFSETTO:+0100
DTSTART:19961027T030000
RRULE:FREQ=YEARLY;BYMONTH=10;BYDAY=-1SU
END:STANDARD
END:VTIMEZONE
BEGIN:VEVENT
DTSTAMP:20260424T135212Z
DTSTART;TZID=Europe/Berlin:20260325T201500
DTEND;TZID=Europe/Berlin:20260325T231500
SUMMARY:HE 6. Liga Gr. 6 Zürich-Affoltern IX vs Höngg IV (0)
UID:1770ccdc-e3f4-4aea-821c-f974cd14316e
STATUS:CONFIRMED
LAST-MODIFIED:20260326T155213Z
DESCRIPTION:6. Liga Herren Gruppe 6\nBegegnungs-Nr: 0\nHeim: Zürich-Affoltern IX\nGast: Höngg IV\n\nAdresse: Rümlangstr. 89\, 8052 Zürich\n
LOCATION:Rümlangstr. 89\, 8052 Zürich
CATEGORIES:Saison 2025/26
END:VEVENT
BEGIN:VEVENT
DTSTAMP:20260424T135212Z
DTSTART;TZID=Europe/Berlin:20260107T201500
DTEND;TZID=Europe/Berlin:20260107T231500
SUMMARY:HE 6. Liga Gr. 6 Zürich-Affoltern IX vs Libera Zürich II (0)
UID:3d901370-2797-4307-a478-43da75370832
STATUS:CONFIRMED
LAST-MODIFIED:20260109T080448Z
DESCRIPTION:6. Liga Herren Gruppe 6\nBegegnungs-Nr: 0\nHeim: Zürich-Affoltern IX\nGast: Libera Zürich II\n\nAdresse: Rümlangstr. 89\, 8052 Zürich\n
LOCATION:Rümlangstr. 89\, 8052 Zürich
CATEGORIES:Saison 2025/26
END:VEVENT
BEGIN:VEVENT
DTSTAMP:20260424T135212Z
DTSTART;TZID=Europe/Berlin:20260128T201500
DTEND;TZID=Europe/Berlin:20260128T231500
SUMMARY:HE 6. Liga Gr. 6 Zürich-Affoltern IX vs Buchs Zürich IV (0)
UID:16b47e54-4ff9-49f2-aae8-653304b4f277
STATUS:CONFIRMED
LAST-MODIFIED:20260130T131014Z
DESCRIPTION:6. Liga Herren Gruppe 6\nBegegnungs-Nr: 0\nHeim: Zürich-Affoltern IX\nGast: Buchs Zürich IV\n\nAdresse: Rümlangstr. 89\, 8052 Zürich\n
LOCATION:Rümlangstr. 89\, 8052 Zürich
CATEGORIES:Saison 2025/26
END:VEVENT
BEGIN:VEVENT
DTSTAMP:20260424T135212Z
DTSTART;TZID=Europe/Berlin:20250903T201500
DTEND;TZID=Europe/Berlin:20250903T231500
SUMMARY:HE 6. Liga Gr. 6 Zürich-Affoltern IX vs Pinguin Zürich VI (0)
UID:1036ee22-47a2-4fa3-a2a8-0f39a6127de9
STATUS:CONFIRMED
LAST-MODIFIED:20250926T125206Z
DESCRIPTION:6. Liga Herren Gruppe 6\nBegegnungs-Nr: 0\nHeim: Zürich-Affoltern IX\nGast: Pinguin Zürich VI\n\nAdresse: Rümlangstr. 89\, 8052 Zürich\n
LOCATION:Rümlangstr. 89\, 8052 Zürich
CATEGORIES:Saison 2025/26
END:VEVENT
BEGIN:VEVENT
DTSTAMP:20260424T135212Z
DTSTART;TZID=Europe/Berlin:20250924T201500
DTEND;TZID=Europe/Berlin:20250924T231500
SUMMARY:HE 6. Liga Gr. 6 Zürich-Affoltern IX vs Seebach-Kügeliloo IV (0)
UID:01d02137-1e5d-4b68-89a7-9cf95c828163
STATUS:CONFIRMED
LAST-MODIFIED:20250926T134019Z
DESCRIPTION:6. Liga Herren Gruppe 6\nBegegnungs-Nr: 0\nHeim: Zürich-Affoltern IX\nGast: Seebach-Kügeliloo IV\n\nAdresse: Rümlangstr. 89\, 8052 Zürich\n
LOCATION:Rümlangstr. 89\, 8052 Zürich
CATEGORIES:Saison 2025/26
END:VEVENT
BEGIN:VEVENT
DTSTAMP:20260424T135212Z
DTSTART;TZID=Europe/Berlin:20251029T201500
DTEND;TZID=Europe/Berlin:20251029T231500
SUMMARY:HE 6. Liga Gr. 6 Zürich-Affoltern IX vs Young Stars ZH IX (0)
UID:21f05040-d35a-4ba8-9e5d-020ea4030dc1
STATUS:CONFIRMED
LAST-MODIFIED:20251031T144527Z
DESCRIPTION:6. Liga Herren Gruppe 6\nBegegnungs-Nr: 0\nHeim: Zürich-Affoltern IX\nGast: Young Stars ZH IX\n\nAdresse: Rümlangstr. 89\, 8052 Zürich\n
LOCATION:Rümlangstr. 89\, 8052 Zürich
CATEGORIES:Saison 2025/26
END:VEVENT
BEGIN:VEVENT
DTSTAMP:20260424T135212Z
DTSTART;TZID=Europe/Berlin:20251203T201500
DTEND;TZID=Europe/Berlin:20251203T231500
SUMMARY:HE 6. Liga Gr. 6 Zürich-Affoltern IX vs Thalwil VI (0)
UID:645857ab-0a14-44c0-ab46-70907bfcd22c
STATUS:CONFIRMED
LAST-MODIFIED:20251205T131152Z
DESCRIPTION:6. Liga Herren Gruppe 6\nBegegnungs-Nr: 0\nHeim: Zürich-Affoltern IX\nGast: Thalwil VI\n\nAdresse: Rümlangstr. 89\, 8052 Zürich\n
LOCATION:Rümlangstr. 89\, 8052 Zürich
CATEGORIES:Saison 2025/26
END:VEVENT
BEGIN:VEVENT
DTSTAMP:20260424T135212Z
DTSTART;TZID=Europe/Berlin:20260417T193000
DTEND;TZID=Europe/Berlin:20260417T223000
SUMMARY:HE 6. Liga Gr. 6 Thalwil VI vs Zürich-Affoltern IX (0)
UID:57c906ef-0f8d-4d5a-8cf2-d83af9505481
STATUS:CONFIRMED
LAST-MODIFIED:20260420T123847Z
DESCRIPTION:6. Liga Herren Gruppe 6\nBegegnungs-Nr: 0\nHeim: Thalwil VI\nGast: Zürich-Affoltern IX\n\nAdresse: Bergstrasse 2\, 8800 Thalwil\n
LOCATION:Bergstrasse 2\, 8800 Thalwil
CATEGORIES:Saison 2025/26
END:VEVENT
BEGIN:VEVENT
DTSTAMP:20260424T135212Z
DTSTART;TZID=Europe/Berlin:20260123T193000
DTEND;TZID=Europe/Berlin:20260123T223000
SUMMARY:HE 6. Liga Gr. 6 Pinguin Zürich VI vs Zürich-Affoltern IX (0)
UID:bb7a66a6-d321-4073-8c93-0526b349f2d3
STATUS:CONFIRMED
LAST-MODIFIED:20260130T125037Z
DESCRIPTION:6. Liga Herren Gruppe 6\nBegegnungs-Nr: 0\nHeim: Pinguin Zürich VI\nGast: Zürich-Affoltern IX\n\nAdresse: Basteiplatz\, 8001 Zürich\n
LOCATION:Basteiplatz\, 8001 Zürich
CATEGORIES:Saison 2025/26
END:VEVENT
BEGIN:VEVENT
DTSTAMP:20260424T135212Z
DTSTART;TZID=Europe/Berlin:20260317T200000
DTEND;TZID=Europe/Berlin:20260317T230000
SUMMARY:HE 6. Liga Gr. 6 Seebach-Kügeliloo IV vs Zürich-Affoltern IX (0)
UID:8e8755ca-6589-45a6-a03a-0996526afc02
STATUS:CONFIRMED
LAST-MODIFIED:20260318T111247Z
DESCRIPTION:6. Liga Herren Gruppe 6\nBegegnungs-Nr: 0\nHeim: Seebach-Kügeliloo IV\nGast: Zürich-Affoltern IX\n\nAdresse: Sperletweg 71\, 8052 Zürich\n
LOCATION:Sperletweg 71\, 8052 Zürich
CATEGORIES:Saison 2025/26
END:VEVENT
BEGIN:VEVENT
DTSTAMP:20260424T135212Z
DTSTART;TZID=Europe/Berlin:20260313T200000
DTEND;TZID=Europe/Berlin:20260313T230000
SUMMARY:HE 6. Liga Gr. 6 Young Stars ZH IX vs Zürich-Affoltern IX (0)
UID:9817c96a-9dd8-4961-b478-f36514746aa6
STATUS:CONFIRMED
LAST-MODIFIED:20260317T145531Z
DESCRIPTION:6. Liga Herren Gruppe 6\nBegegnungs-Nr: 0\nHeim: Young Stars ZH IX\nGast: Zürich-Affoltern IX\n\nAdresse: Balgriststrasse 55\, 8008 Zürich\n
LOCATION:Balgriststrasse 55\, 8008 Zürich
CATEGORIES:Saison 2025/26
END:VEVENT
BEGIN:VEVENT
DTSTAMP:20260424T135212Z
DTSTART;TZID=Europe/Berlin:20250828T200000
DTEND;TZID=Europe/Berlin:20250828T230000
SUMMARY:HE 6. Liga Gr. 6 Libera Zürich II vs Zürich-Affoltern IX (0)
UID:bd23a526-000b-4d5f-9436-2d6a1ab003cc
STATUS:CONFIRMED
LAST-MODIFIED:20250829T144347Z
DESCRIPTION:6. Liga Herren Gruppe 6\nBegegnungs-Nr: 0\nHeim: Libera Zürich II\nGast: Zürich-Affoltern IX\n\nAdresse: Sperletweg 71\, 8052 Zürich\n
LOCATION:Sperletweg 71\, 8052 Zürich
CATEGORIES:Saison 2025/26
END:VEVENT
BEGIN:VEVENT
DTSTAMP:20260424T135212Z
DTSTART;TZID=Europe/Berlin:20250919T201500
DTEND;TZID=Europe/Berlin:20250919T231500
SUMMARY:HE 6. Liga Gr. 6 Buchs Zürich IV vs Zürich-Affoltern IX (0)
UID:19884c8b-ace6-4dd2-94df-1c5e8d0ecc15
STATUS:CONFIRMED
LAST-MODIFIED:20250926T134003Z
DESCRIPTION:6. Liga Herren Gruppe 6\nBegegnungs-Nr: 0\nHeim: Buchs Zürich IV\nGast: Zürich-Affoltern IX\n\nAdresse: Drisglerstrasse 3\, 8107 Buchs ZH\n
LOCATION:Drisglerstrasse 3\, 8107 Buchs ZH
CATEGORIES:Saison 2025/26
END:VEVENT
BEGIN:VEVENT
DTSTAMP:20260424T135212Z
DTSTART;TZID=Europe/Berlin:20251105T200000
DTEND;TZID=Europe/Berlin:20251105T230000
SUMMARY:HE 6. Liga Gr. 6 Höngg IV vs Zürich-Affoltern IX (0)
UID:d2e47ceb-8baf-4d62-aa87-9d360bd1fced
STATUS:CONFIRMED
LAST-MODIFIED:20251107T145449Z
DESCRIPTION:6. Liga Herren Gruppe 6\nBegegnungs-Nr: 0\nHeim: Höngg IV\nGast: Zürich-Affoltern IX\n\nAdresse: Bläsistrasse 2\, 8049 Zürich\n
LOCATION:Bläsistrasse 2\, 8049 Zürich
CATEGORIES:Saison 2025/26
END:VEVENT
END:VCALENDAR
