BEGIN:VCALENDAR
PRODID:-//nuDatenautomaten//framework iCal4j //DE
VERSION:2.0
CALSCALE:GREGORIAN
BEGIN:VTIMEZONE
TZID:Europe/Berlin
LAST-MODIFIED:20260306T231828Z
TZURL:https://www.tzurl.org/zoneinfo/Europe/Berlin
X-LIC-LOCATION:Europe/Berlin
X-PROLEPTIC-TZNAME:LMT
BEGIN:STANDARD
TZNAME:CET
TZOFFSETFROM:+005328
TZOFFSETTO:+0100
DTSTART:18930401T000000
END:STANDARD
BEGIN:DAYLIGHT
TZNAME:CEST
TZOFFSETFROM:+0100
TZOFFSETTO:+0200
DTSTART:19160430T230000
RDATE:19400401T020000
RDATE:19430329T020000
RDATE:19460414T020000
RDATE:19470406T030000
RDATE:19480418T020000
RDATE:19490410T020000
RDATE:19800406T020000
END:DAYLIGHT
BEGIN:STANDARD
TZNAME:CET
TZOFFSETFROM:+0200
TZOFFSETTO:+0100
DTSTART:19161001T010000
RDATE:19421102T030000
RDATE:19431004T030000
RDATE:19441002T030000
RDATE:19451118T030000
RDATE:19461007T030000
END:STANDARD
BEGIN:DAYLIGHT
TZNAME:CEST
TZOFFSETFROM:+0100
TZOFFSETTO:+0200
DTSTART:19170416T020000
RRULE:FREQ=YEARLY;UNTIL=19180415T010000Z;BYMONTH=4;BYDAY=3MO
END:DAYLIGHT
BEGIN:STANDARD
TZNAME:CET
TZOFFSETFROM:+0200
TZOFFSETTO:+0100
DTSTART:19170917T030000
RRULE:FREQ=YEARLY;UNTIL=19180916T010000Z;BYMONTH=9;BYDAY=3MO
END:STANDARD
BEGIN:DAYLIGHT
TZNAME:CEST
TZOFFSETFROM:+0100
TZOFFSETTO:+0200
DTSTART:19440403T020000
RRULE:FREQ=YEARLY;UNTIL=19450402T010000Z;BYMONTH=4;BYDAY=1MO
END:DAYLIGHT
BEGIN:DAYLIGHT
TZNAME:CEMT
TZOFFSETFROM:+0200
TZOFFSETTO:+0300
DTSTART:19450524T020000
RDATE:19470511T030000
END:DAYLIGHT
BEGIN:DAYLIGHT
TZNAME:CEST
TZOFFSETFROM:+0300
TZOFFSETTO:+0200
DTSTART:19450924T030000
RDATE:19470629T030000
END:DAYLIGHT
BEGIN:STANDARD
TZNAME:CET
TZOFFSETFROM:+0100
TZOFFSETTO:+0100
DTSTART:19460101T000000
RDATE:19800101T000000
END:STANDARD
BEGIN:STANDARD
TZNAME:CET
TZOFFSETFROM:+0200
TZOFFSETTO:+0100
DTSTART:19471005T030000
RRULE:FREQ=YEARLY;UNTIL=19491002T010000Z;BYMONTH=10;BYDAY=1SU
END:STANDARD
BEGIN:STANDARD
TZNAME:CET
TZOFFSETFROM:+0200
TZOFFSETTO:+0100
DTSTART:19800928T030000
RRULE:FREQ=YEARLY;UNTIL=19950924T010000Z;BYMONTH=9;BYDAY=-1SU
END:STANDARD
BEGIN:DAYLIGHT
TZNAME:CEST
TZOFFSETFROM:+0100
TZOFFSETTO:+0200
DTSTART:19810329T020000
RRULE:FREQ=YEARLY;BYMONTH=3;BYDAY=-1SU
END:DAYLIGHT
BEGIN:STANDARD
TZNAME:CET
TZOFFSETFROM:+0200
TZOFFSETTO:+0100
DTSTART:19961027T030000
RRULE:FREQ=YEARLY;BYMONTH=10;BYDAY=-1SU
END:STANDARD
END:VTIMEZONE
BEGIN:VEVENT
DTSTAMP:20260424T181544Z
DTSTART;TZID=Europe/Berlin:20260120T194500
DTEND;TZID=Europe/Berlin:20260120T224500
SUMMARY:HE 6. Liga Gr. 9 Triesen IV vs Glarus V (0)
UID:02c9151d-7a57-4070-beda-3b0bea29ee07
STATUS:CONFIRMED
LAST-MODIFIED:20260121T092830Z
DESCRIPTION:6. Liga Herren Gruppe 9\nBegegnungs-Nr: 0\nHeim: Triesen IV\nGast: Glarus V\n\nAdresse: Gässle 12\, 9495 Triesen\n
LOCATION:Gässle 12\, 9495 Triesen
CATEGORIES:Saison 2025/26
END:VEVENT
BEGIN:VEVENT
DTSTAMP:20260424T181544Z
DTSTART;TZID=Europe/Berlin:20260303T194500
DTEND;TZID=Europe/Berlin:20260303T224500
SUMMARY:HE 6. Liga Gr. 9 Triesen IV vs Chur VII (0)
UID:e9d9a48d-f3f7-4d27-9fbd-5a24d70e1336
STATUS:CONFIRMED
LAST-MODIFIED:20260304T104151Z
DESCRIPTION:6. Liga Herren Gruppe 9\nBegegnungs-Nr: 0\nHeim: Triesen IV\nGast: Chur VII\n\nAdresse: Gässle 12\, 9495 Triesen\n
LOCATION:Gässle 12\, 9495 Triesen
CATEGORIES:Saison 2025/26
END:VEVENT
BEGIN:VEVENT
DTSTAMP:20260424T181544Z
DTSTART;TZID=Europe/Berlin:20260310T194500
DTEND;TZID=Europe/Berlin:20260310T224500
SUMMARY:HE 6. Liga Gr. 9 Triesen IV vs Chur VIII (0)
UID:ab5a4d21-96dc-45cb-ad67-04e591294ec4
STATUS:CONFIRMED
LAST-MODIFIED:20260313T132921Z
DESCRIPTION:6. Liga Herren Gruppe 9\nBegegnungs-Nr: 0\nHeim: Triesen IV\nGast: Chur VIII\n\nAdresse: Gässle 12\, 9495 Triesen\n
LOCATION:Gässle 12\, 9495 Triesen
CATEGORIES:Saison 2025/26
END:VEVENT
BEGIN:VEVENT
DTSTAMP:20260424T181544Z
DTSTART;TZID=Europe/Berlin:20260317T194500
DTEND;TZID=Europe/Berlin:20260317T224500
SUMMARY:HE 6. Liga Gr. 9 Triesen IV vs Ruggell II (0)
UID:7d0f4705-9b33-40a4-a88c-b41c1f655301
STATUS:CONFIRMED
LAST-MODIFIED:20260318T111258Z
DESCRIPTION:6. Liga Herren Gruppe 9\nBegegnungs-Nr: 0\nHeim: Triesen IV\nGast: Ruggell II\n\nAdresse: Gässle 12\, 9495 Triesen\n
LOCATION:Gässle 12\, 9495 Triesen
CATEGORIES:Saison 2025/26
END:VEVENT
BEGIN:VEVENT
DTSTAMP:20260424T181544Z
DTSTART;TZID=Europe/Berlin:20250826T194500
DTEND;TZID=Europe/Berlin:20250826T224500
SUMMARY:HE 6. Liga Gr. 9 Triesen IV vs Buchs St.Gallen (0)
UID:d6c85c89-4ddb-418c-90c3-9f207ff6838b
STATUS:CONFIRMED
LAST-MODIFIED:20250829T144609Z
DESCRIPTION:6. Liga Herren Gruppe 9\nBegegnungs-Nr: 0\nHeim: Triesen IV\nGast: Buchs St.Gallen\n\nAdresse: Gässle 12\, 9495 Triesen\n
LOCATION:Gässle 12\, 9495 Triesen
CATEGORIES:Saison 2025/26
END:VEVENT
BEGIN:VEVENT
DTSTAMP:20260424T181544Z
DTSTART;TZID=Europe/Berlin:20250916T194500
DTEND;TZID=Europe/Berlin:20250916T224500
SUMMARY:HE 6. Liga Gr. 9 Triesen IV vs Balzers III (0)
UID:d1a51c45-87c6-4668-985d-a9bb50675a78
STATUS:CONFIRMED
LAST-MODIFIED:20250926T135456Z
DESCRIPTION:6. Liga Herren Gruppe 9\nBegegnungs-Nr: 0\nHeim: Triesen IV\nGast: Balzers III\n\nAdresse: Gässle 12\, 9495 Triesen\n
LOCATION:Gässle 12\, 9495 Triesen
CATEGORIES:Saison 2025/26
END:VEVENT
BEGIN:VEVENT
DTSTAMP:20260424T181544Z
DTSTART;TZID=Europe/Berlin:20251104T194500
DTEND;TZID=Europe/Berlin:20251104T224500
SUMMARY:HE 6. Liga Gr. 9 Triesen IV vs Schaan-Eschen/Mauren III (0)
UID:67a4e284-443c-46a0-b927-3175ebe4b36a
STATUS:CONFIRMED
LAST-MODIFIED:20251107T145558Z
DESCRIPTION:6. Liga Herren Gruppe 9\nBegegnungs-Nr: 0\nHeim: Triesen IV\nGast: Schaan-Eschen/Mauren III\n\nAdresse: Gässle 12\, 9495 Triesen\n
LOCATION:Gässle 12\, 9495 Triesen
CATEGORIES:Saison 2025/26
END:VEVENT
BEGIN:VEVENT
DTSTAMP:20260424T181544Z
DTSTART;TZID=Europe/Berlin:20260209T200000
DTEND;TZID=Europe/Berlin:20260209T230000
SUMMARY:HE 6. Liga Gr. 9 Buchs St.Gallen vs Triesen IV (0)
UID:4afdd959-d856-4bb3-be2f-703c738cad84
STATUS:CONFIRMED
LAST-MODIFIED:20260217T074311Z
DESCRIPTION:6. Liga Herren Gruppe 9\nBegegnungs-Nr: 0\nHeim: Buchs St.Gallen\nGast: Triesen IV\n\nAdresse: Hanflandstrasse 17\, 9470 Buchs SG\n
LOCATION:Hanflandstrasse 17\, 9470 Buchs SG
CATEGORIES:Saison 2025/26
END:VEVENT
BEGIN:VEVENT
DTSTAMP:20260424T181544Z
DTSTART;TZID=Europe/Berlin:20260416T193000
DTEND;TZID=Europe/Berlin:20260416T223000
SUMMARY:HE 6. Liga Gr. 9 Balzers III vs Triesen IV (0)
UID:5530b90c-6719-4f7b-b6e3-949450e9fd61
STATUS:CONFIRMED
LAST-MODIFIED:20260420T123922Z
DESCRIPTION:6. Liga Herren Gruppe 9\nBegegnungs-Nr: 0\nHeim: Balzers III\nGast: Triesen IV\n\nAdresse: Gnetsch 41\, 9496 Balzers\n
LOCATION:Gnetsch 41\, 9496 Balzers
CATEGORIES:Saison 2025/26
END:VEVENT
BEGIN:VEVENT
DTSTAMP:20260424T181544Z
DTSTART;TZID=Europe/Berlin:20260326T194500
DTEND;TZID=Europe/Berlin:20260326T224500
SUMMARY:HE 6. Liga Gr. 9 Schaan-Eschen/Mauren III vs Triesen IV (0)
UID:1cdb61ca-d0b7-4e2e-bb8b-bd4b41912bb9
STATUS:CONFIRMED
LAST-MODIFIED:20260401T132734Z
DESCRIPTION:6. Liga Herren Gruppe 9\nBegegnungs-Nr: 0\nHeim: Schaan-Eschen/Mauren III\nGast: Triesen IV\n\nAdresse: Zur Schule\, 9494 Schaan\n
LOCATION:Zur Schule\, 9494 Schaan
CATEGORIES:Saison 2025/26
END:VEVENT
BEGIN:VEVENT
DTSTAMP:20260424T181544Z
DTSTART;TZID=Europe/Berlin:20250902T200000
DTEND;TZID=Europe/Berlin:20250902T230000
SUMMARY:HE 6. Liga Gr. 9 Glarus V vs Triesen IV (0)
UID:4196afe2-ac3d-458e-855e-f1ef1184ac67
STATUS:CONFIRMED
LAST-MODIFIED:20250905T124722Z
DESCRIPTION:6. Liga Herren Gruppe 9\nBegegnungs-Nr: 0\nHeim: Glarus V\nGast: Triesen IV\n\nAdresse: Schwertgasse 23\, 8750 Glarus\n
LOCATION:Schwertgasse 23\, 8750 Glarus
CATEGORIES:Saison 2025/26
END:VEVENT
BEGIN:VEVENT
DTSTAMP:20260424T181544Z
DTSTART;TZID=Europe/Berlin:20250925T200000
DTEND;TZID=Europe/Berlin:20250925T230000
SUMMARY:HE 6. Liga Gr. 9 Chur VII vs Triesen IV (0)
UID:a8b87588-6ea1-4c1a-a4aa-69c943f71d6c
STATUS:CONFIRMED
LAST-MODIFIED:20250926T135540Z
DESCRIPTION:6. Liga Herren Gruppe 9\nBegegnungs-Nr: 0\nHeim: Chur VII\nGast: Triesen IV\n\nAdresse: Sandstr. 35\, 7000 Chur\n
LOCATION:Sandstr. 35\, 7000 Chur
CATEGORIES:Saison 2025/26
END:VEVENT
BEGIN:VEVENT
DTSTAMP:20260424T181544Z
DTSTART;TZID=Europe/Berlin:20251113T200000
DTEND;TZID=Europe/Berlin:20251113T230000
SUMMARY:HE 6. Liga Gr. 9 Chur VIII vs Triesen IV (0)
UID:eb23ca0c-d38d-4f4e-b811-2102eb43e8d8
STATUS:CONFIRMED
LAST-MODIFIED:20251114T165639Z
DESCRIPTION:6. Liga Herren Gruppe 9\nBegegnungs-Nr: 0\nHeim: Chur VIII\nGast: Triesen IV\n\nAdresse: Sandstr. 35\, 7000 Chur\n
LOCATION:Sandstr. 35\, 7000 Chur
CATEGORIES:Saison 2025/26
END:VEVENT
BEGIN:VEVENT
DTSTAMP:20260424T181544Z
DTSTART;TZID=Europe/Berlin:20251204T200000
DTEND;TZID=Europe/Berlin:20251204T230000
SUMMARY:HE 6. Liga Gr. 9 Ruggell II vs Triesen IV (0)
UID:bad0a67b-88e1-415a-b52a-3aa7ab7f2df5
STATUS:CONFIRMED
LAST-MODIFIED:20251205T131305Z
DESCRIPTION:6. Liga Herren Gruppe 9\nBegegnungs-Nr: 0\nHeim: Ruggell II\nGast: Triesen IV\n\nAdresse: Nellengasse 40\, 9491 Ruggell\n
LOCATION:Nellengasse 40\, 9491 Ruggell
CATEGORIES:Saison 2025/26
END:VEVENT
END:VCALENDAR
