BEGIN:VCALENDAR
PRODID:-//nuDatenautomaten//framework iCal4j //DE
VERSION:2.0
CALSCALE:GREGORIAN
BEGIN:VTIMEZONE
TZID:Europe/Berlin
LAST-MODIFIED:20260306T231828Z
TZURL:https://www.tzurl.org/zoneinfo/Europe/Berlin
X-LIC-LOCATION:Europe/Berlin
X-PROLEPTIC-TZNAME:LMT
BEGIN:STANDARD
TZNAME:CET
TZOFFSETFROM:+005328
TZOFFSETTO:+0100
DTSTART:18930401T000000
END:STANDARD
BEGIN:DAYLIGHT
TZNAME:CEST
TZOFFSETFROM:+0100
TZOFFSETTO:+0200
DTSTART:19160430T230000
RDATE:19400401T020000
RDATE:19430329T020000
RDATE:19460414T020000
RDATE:19470406T030000
RDATE:19480418T020000
RDATE:19490410T020000
RDATE:19800406T020000
END:DAYLIGHT
BEGIN:STANDARD
TZNAME:CET
TZOFFSETFROM:+0200
TZOFFSETTO:+0100
DTSTART:19161001T010000
RDATE:19421102T030000
RDATE:19431004T030000
RDATE:19441002T030000
RDATE:19451118T030000
RDATE:19461007T030000
END:STANDARD
BEGIN:DAYLIGHT
TZNAME:CEST
TZOFFSETFROM:+0100
TZOFFSETTO:+0200
DTSTART:19170416T020000
RRULE:FREQ=YEARLY;UNTIL=19180415T010000Z;BYMONTH=4;BYDAY=3MO
END:DAYLIGHT
BEGIN:STANDARD
TZNAME:CET
TZOFFSETFROM:+0200
TZOFFSETTO:+0100
DTSTART:19170917T030000
RRULE:FREQ=YEARLY;UNTIL=19180916T010000Z;BYMONTH=9;BYDAY=3MO
END:STANDARD
BEGIN:DAYLIGHT
TZNAME:CEST
TZOFFSETFROM:+0100
TZOFFSETTO:+0200
DTSTART:19440403T020000
RRULE:FREQ=YEARLY;UNTIL=19450402T010000Z;BYMONTH=4;BYDAY=1MO
END:DAYLIGHT
BEGIN:DAYLIGHT
TZNAME:CEMT
TZOFFSETFROM:+0200
TZOFFSETTO:+0300
DTSTART:19450524T020000
RDATE:19470511T030000
END:DAYLIGHT
BEGIN:DAYLIGHT
TZNAME:CEST
TZOFFSETFROM:+0300
TZOFFSETTO:+0200
DTSTART:19450924T030000
RDATE:19470629T030000
END:DAYLIGHT
BEGIN:STANDARD
TZNAME:CET
TZOFFSETFROM:+0100
TZOFFSETTO:+0100
DTSTART:19460101T000000
RDATE:19800101T000000
END:STANDARD
BEGIN:STANDARD
TZNAME:CET
TZOFFSETFROM:+0200
TZOFFSETTO:+0100
DTSTART:19471005T030000
RRULE:FREQ=YEARLY;UNTIL=19491002T010000Z;BYMONTH=10;BYDAY=1SU
END:STANDARD
BEGIN:STANDARD
TZNAME:CET
TZOFFSETFROM:+0200
TZOFFSETTO:+0100
DTSTART:19800928T030000
RRULE:FREQ=YEARLY;UNTIL=19950924T010000Z;BYMONTH=9;BYDAY=-1SU
END:STANDARD
BEGIN:DAYLIGHT
TZNAME:CEST
TZOFFSETFROM:+0100
TZOFFSETTO:+0200
DTSTART:19810329T020000
RRULE:FREQ=YEARLY;BYMONTH=3;BYDAY=-1SU
END:DAYLIGHT
BEGIN:STANDARD
TZNAME:CET
TZOFFSETFROM:+0200
TZOFFSETTO:+0100
DTSTART:19961027T030000
RRULE:FREQ=YEARLY;BYMONTH=10;BYDAY=-1SU
END:STANDARD
END:VTIMEZONE
BEGIN:VEVENT
DTSTAMP:20260424T135221Z
DTSTART;TZID=Europe/Berlin:20260123T194500
DTEND;TZID=Europe/Berlin:20260123T224500
SUMMARY:HE 6. Liga Gr. 4 Wohlen II vs Brugg IV (0)
UID:8d783700-8693-47ee-a236-fac39f894ca5
STATUS:CONFIRMED
LAST-MODIFIED:20260130T084947Z
DESCRIPTION:6. Liga Herren Gruppe 4\nBegegnungs-Nr: 0\nHeim: Wohlen II\nGast: Brugg IV\n\nAdresse: Hofmattenweg 17\, 5610 Wohlen\, bei verschlossener Tür Klingel Halle 1 betätigen (links neben Türen)\n
LOCATION:Hofmattenweg 17\, 5610 Wohlen\, bei verschlossener Tür Klingel Halle 1 betätigen (links neben Türen)
CATEGORIES:Saison 2025/26
END:VEVENT
BEGIN:VEVENT
DTSTAMP:20260424T135221Z
DTSTART;TZID=Europe/Berlin:20251212T194500
DTEND;TZID=Europe/Berlin:20251212T224500
SUMMARY:HE 6. Liga Gr. 4 Wohlen II vs Zofingen VI (0)
UID:ee8376c1-ceb3-4150-87af-7c3937177491
STATUS:CONFIRMED
LAST-MODIFIED:20251216T122404Z
DESCRIPTION:6. Liga Herren Gruppe 4\nBegegnungs-Nr: 0\nHeim: Wohlen II\nGast: Zofingen VI\n\nAdresse: Hofmattenweg 17\, 5610 Wohlen\, bei verschlossener Tür Klingel Halle 1 betätigen (links neben Türen)\n
LOCATION:Hofmattenweg 17\, 5610 Wohlen\, bei verschlossener Tür Klingel Halle 1 betätigen (links neben Türen)
CATEGORIES:Saison 2025/26
END:VEVENT
BEGIN:VEVENT
DTSTAMP:20260424T135221Z
DTSTART;TZID=Europe/Berlin:20251107T194500
DTEND;TZID=Europe/Berlin:20251107T224500
SUMMARY:HE 6. Liga Gr. 4 Wohlen II vs Birrfeld V (0)
UID:83a677b0-f63a-4302-96a4-dafc2cc94471
STATUS:CONFIRMED
LAST-MODIFIED:20251119T123119Z
DESCRIPTION:6. Liga Herren Gruppe 4\nBegegnungs-Nr: 0\nHeim: Wohlen II\nGast: Birrfeld V\n\nAdresse: Hofmattenweg 17\, 5610 Wohlen\, bei verschlossener Tür Klingel Halle 1 betätigen (links neben Türen)\n
LOCATION:Hofmattenweg 17\, 5610 Wohlen\, bei verschlossener Tür Klingel Halle 1 betätigen (links neben Türen)
CATEGORIES:Saison 2025/26
END:VEVENT
BEGIN:VEVENT
DTSTAMP:20260424T135221Z
DTSTART;TZID=Europe/Berlin:20250905T194500
DTEND;TZID=Europe/Berlin:20250905T224500
SUMMARY:HE 6. Liga Gr. 4 Wohlen II vs Baden-Wettingen VIII (0)
UID:da9bd082-d1e9-46dc-b0ba-d6f28b2885b4
STATUS:CONFIRMED
LAST-MODIFIED:20250911T112458Z
DESCRIPTION:6. Liga Herren Gruppe 4\nBegegnungs-Nr: 0\nHeim: Wohlen II\nGast: Baden-Wettingen VIII\n\nAdresse: Hofmattenweg 17\, 5610 Wohlen\, bei verschlossener Tür Klingel Halle 1 betätigen (links neben Türen)\n
LOCATION:Hofmattenweg 17\, 5610 Wohlen\, bei verschlossener Tür Klingel Halle 1 betätigen (links neben Türen)
CATEGORIES:Saison 2025/26
END:VEVENT
BEGIN:VEVENT
DTSTAMP:20260424T135221Z
DTSTART;TZID=Europe/Berlin:20251017T194500
DTEND;TZID=Europe/Berlin:20251017T224500
SUMMARY:HE 6. Liga Gr. 4 Wohlen II vs Mellingen III (0)
UID:0056d60e-e0e7-420c-abe9-ef9492e14522
STATUS:CONFIRMED
LAST-MODIFIED:20251020T113101Z
DESCRIPTION:6. Liga Herren Gruppe 4\nBegegnungs-Nr: 0\nHeim: Wohlen II\nGast: Mellingen III\n\nAdresse: Hofmattenweg 17\, 5610 Wohlen\, bei verschlossener Tür Klingel Halle 1 betätigen (links neben Türen)\n
LOCATION:Hofmattenweg 17\, 5610 Wohlen\, bei verschlossener Tür Klingel Halle 1 betätigen (links neben Türen)
CATEGORIES:Saison 2025/26
END:VEVENT
BEGIN:VEVENT
DTSTAMP:20260424T135221Z
DTSTART;TZID=Europe/Berlin:20260313T194500
DTEND;TZID=Europe/Berlin:20260313T224500
SUMMARY:HE 6. Liga Gr. 4 Wohlen II vs Muri III (0)
UID:0fb6984e-7a5f-4018-ab83-4a966110531f
STATUS:CONFIRMED
LAST-MODIFIED:20260420T134542Z
DESCRIPTION:6. Liga Herren Gruppe 4\nBegegnungs-Nr: 0\nHeim: Wohlen II\nGast: Muri III\n\nAdresse: Hofmattenweg 17\, 5610 Wohlen\, bei verschlossener Tür Klingel Halle 1 betätigen (links neben Türen)\n
LOCATION:Hofmattenweg 17\, 5610 Wohlen\, bei verschlossener Tür Klingel Halle 1 betätigen (links neben Türen)
CATEGORIES:Saison 2025/26
END:VEVENT
BEGIN:VEVENT
DTSTAMP:20260424T135221Z
DTSTART;TZID=Europe/Berlin:20260116T194500
DTEND;TZID=Europe/Berlin:20260116T224500
SUMMARY:HE 6. Liga Gr. 4 Wohlen II vs Birrfeld IV (0)
UID:3059832d-0ad2-449a-a730-6efbfda27b28
STATUS:CONFIRMED
LAST-MODIFIED:20260130T084932Z
DESCRIPTION:6. Liga Herren Gruppe 4\nBegegnungs-Nr: 0\nHeim: Wohlen II\nGast: Birrfeld IV\n\nAdresse: Hofmattenweg 17\, 5610 Wohlen\, bei verschlossener Tür Klingel Halle 1 betätigen (links neben Türen)\n
LOCATION:Hofmattenweg 17\, 5610 Wohlen\, bei verschlossener Tür Klingel Halle 1 betätigen (links neben Türen)
CATEGORIES:Saison 2025/26
END:VEVENT
BEGIN:VEVENT
DTSTAMP:20260424T135221Z
DTSTART;TZID=Europe/Berlin:20251120T200000
DTEND;TZID=Europe/Berlin:20251120T230000
SUMMARY:HE 6. Liga Gr. 4 Muri III vs Wohlen II (0)
UID:9ce55e57-b7fe-4be8-8a48-88bce631af64
STATUS:CONFIRMED
LAST-MODIFIED:20251124T082727Z
DESCRIPTION:6. Liga Herren Gruppe 4\nBegegnungs-Nr: 0\nHeim: Muri III\nGast: Wohlen II\n\nAdresse: Badweiherstrasse\, 5630 Muri AG\n
LOCATION:Badweiherstrasse\, 5630 Muri AG
CATEGORIES:Saison 2025/26
END:VEVENT
BEGIN:VEVENT
DTSTAMP:20260424T135221Z
DTSTART;TZID=Europe/Berlin:20250819T194500
DTEND;TZID=Europe/Berlin:20250819T224500
SUMMARY:HE 6. Liga Gr. 4 Brugg IV vs Wohlen II (0)
UID:d807aa5e-ac9c-48d8-8268-879a486820a4
STATUS:CONFIRMED
LAST-MODIFIED:20250825T070825Z
DESCRIPTION:6. Liga Herren Gruppe 4\nBegegnungs-Nr: 0\nHeim: Brugg IV\nGast: Wohlen II\n\nAdresse: Sommerhaldenstrasse 29\, 5200 Brugg/Lauffohr\n
LOCATION:Sommerhaldenstrasse 29\, 5200 Brugg/Lauffohr
CATEGORIES:Saison 2025/26
END:VEVENT
BEGIN:VEVENT
DTSTAMP:20260424T135221Z
DTSTART;TZID=Europe/Berlin:20250927T130000
DTEND;TZID=Europe/Berlin:20250927T160000
SUMMARY:HE 6. Liga Gr. 4 Birrfeld IV vs Wohlen II (0)
UID:5466202d-d50c-48fb-9501-13384972cba0
STATUS:CONFIRMED
LAST-MODIFIED:20250930T084817Z
DESCRIPTION:6. Liga Herren Gruppe 4\nBegegnungs-Nr: 0\nHeim: Birrfeld IV\nGast: Wohlen II\n\nAdresse: Zentralstrasse 30\, 5242 Birr\n
LOCATION:Zentralstrasse 30\, 5242 Birr
CATEGORIES:Saison 2025/26
END:VEVENT
BEGIN:VEVENT
DTSTAMP:20260424T135221Z
DTSTART;TZID=Europe/Berlin:20260327T194500
DTEND;TZID=Europe/Berlin:20260327T224500
SUMMARY:HE 6. Liga Gr. 4 Zofingen VI vs Wohlen II (0)
UID:ff7fb14c-0eb6-46d9-95ed-f8091776b683
STATUS:CONFIRMED
LAST-MODIFIED:20260416T095246Z
DESCRIPTION:6. Liga Herren Gruppe 4\nBegegnungs-Nr: 0\nHeim: Zofingen VI\nGast: Wohlen II\n\nAdresse: Strengelbacherstrasse 14\, 4800 Zofingen\n
LOCATION:Strengelbacherstrasse 14\, 4800 Zofingen
CATEGORIES:Saison 2025/26
END:VEVENT
BEGIN:VEVENT
DTSTAMP:20260424T135221Z
DTSTART;TZID=Europe/Berlin:20260311T194500
DTEND;TZID=Europe/Berlin:20260311T224500
SUMMARY:HE 6. Liga Gr. 4 Birrfeld V vs Wohlen II (0)
UID:e04d1162-2f69-4f20-8e05-96eade945e61
STATUS:CONFIRMED
LAST-MODIFIED:20260313T125916Z
DESCRIPTION:6. Liga Herren Gruppe 4\nBegegnungs-Nr: 0\nHeim: Birrfeld V\nGast: Wohlen II\n\nAdresse: Zentralstrasse 30\, 5242 Birr\n
LOCATION:Zentralstrasse 30\, 5242 Birr
CATEGORIES:Saison 2025/26
END:VEVENT
BEGIN:VEVENT
DTSTAMP:20260424T135221Z
DTSTART;TZID=Europe/Berlin:20260219T200000
DTEND;TZID=Europe/Berlin:20260219T230000
SUMMARY:HE 6. Liga Gr. 4 Mellingen III vs Wohlen II (0)
UID:327ce40e-4827-43fb-814a-416810183432
STATUS:CONFIRMED
LAST-MODIFIED:20260220T122833Z
DESCRIPTION:6. Liga Herren Gruppe 4\nBegegnungs-Nr: 0\nHeim: Mellingen III\nGast: Wohlen II\n\nAdresse: Bahnhofstrasse 22\, 5507 Mellingen\n
LOCATION:Bahnhofstrasse 22\, 5507 Mellingen
CATEGORIES:Saison 2025/26
END:VEVENT
BEGIN:VEVENT
DTSTAMP:20260424T135221Z
DTSTART;TZID=Europe/Berlin:20260121T194500
DTEND;TZID=Europe/Berlin:20260121T224500
SUMMARY:HE 6. Liga Gr. 4 Baden-Wettingen VIII vs Wohlen II (0)
UID:f101d817-859a-4d22-bf2c-3c8d5619bb8f
STATUS:CONFIRMED
LAST-MODIFIED:20260123T082126Z
DESCRIPTION:6. Liga Herren Gruppe 4\nBegegnungs-Nr: 0\nHeim: Baden-Wettingen VIII\nGast: Wohlen II\n\nAdresse: Wiesenstrasse 32 (Parkhaus Schmiede Fabrikstrasse)\, 5400 Baden\n
LOCATION:Wiesenstrasse 32 (Parkhaus Schmiede Fabrikstrasse)\, 5400 Baden
CATEGORIES:Saison 2025/26
END:VEVENT
END:VCALENDAR
