BEGIN:VCALENDAR
PRODID:-//nuDatenautomaten//framework iCal4j //DE
VERSION:2.0
CALSCALE:GREGORIAN
BEGIN:VTIMEZONE
TZID:Europe/Berlin
LAST-MODIFIED:20260306T231828Z
TZURL:https://www.tzurl.org/zoneinfo/Europe/Berlin
X-LIC-LOCATION:Europe/Berlin
X-PROLEPTIC-TZNAME:LMT
BEGIN:STANDARD
TZNAME:CET
TZOFFSETFROM:+005328
TZOFFSETTO:+0100
DTSTART:18930401T000000
END:STANDARD
BEGIN:DAYLIGHT
TZNAME:CEST
TZOFFSETFROM:+0100
TZOFFSETTO:+0200
DTSTART:19160430T230000
RDATE:19400401T020000
RDATE:19430329T020000
RDATE:19460414T020000
RDATE:19470406T030000
RDATE:19480418T020000
RDATE:19490410T020000
RDATE:19800406T020000
END:DAYLIGHT
BEGIN:STANDARD
TZNAME:CET
TZOFFSETFROM:+0200
TZOFFSETTO:+0100
DTSTART:19161001T010000
RDATE:19421102T030000
RDATE:19431004T030000
RDATE:19441002T030000
RDATE:19451118T030000
RDATE:19461007T030000
END:STANDARD
BEGIN:DAYLIGHT
TZNAME:CEST
TZOFFSETFROM:+0100
TZOFFSETTO:+0200
DTSTART:19170416T020000
RRULE:FREQ=YEARLY;UNTIL=19180415T010000Z;BYMONTH=4;BYDAY=3MO
END:DAYLIGHT
BEGIN:STANDARD
TZNAME:CET
TZOFFSETFROM:+0200
TZOFFSETTO:+0100
DTSTART:19170917T030000
RRULE:FREQ=YEARLY;UNTIL=19180916T010000Z;BYMONTH=9;BYDAY=3MO
END:STANDARD
BEGIN:DAYLIGHT
TZNAME:CEST
TZOFFSETFROM:+0100
TZOFFSETTO:+0200
DTSTART:19440403T020000
RRULE:FREQ=YEARLY;UNTIL=19450402T010000Z;BYMONTH=4;BYDAY=1MO
END:DAYLIGHT
BEGIN:DAYLIGHT
TZNAME:CEMT
TZOFFSETFROM:+0200
TZOFFSETTO:+0300
DTSTART:19450524T020000
RDATE:19470511T030000
END:DAYLIGHT
BEGIN:DAYLIGHT
TZNAME:CEST
TZOFFSETFROM:+0300
TZOFFSETTO:+0200
DTSTART:19450924T030000
RDATE:19470629T030000
END:DAYLIGHT
BEGIN:STANDARD
TZNAME:CET
TZOFFSETFROM:+0100
TZOFFSETTO:+0100
DTSTART:19460101T000000
RDATE:19800101T000000
END:STANDARD
BEGIN:STANDARD
TZNAME:CET
TZOFFSETFROM:+0200
TZOFFSETTO:+0100
DTSTART:19471005T030000
RRULE:FREQ=YEARLY;UNTIL=19491002T010000Z;BYMONTH=10;BYDAY=1SU
END:STANDARD
BEGIN:STANDARD
TZNAME:CET
TZOFFSETFROM:+0200
TZOFFSETTO:+0100
DTSTART:19800928T030000
RRULE:FREQ=YEARLY;UNTIL=19950924T010000Z;BYMONTH=9;BYDAY=-1SU
END:STANDARD
BEGIN:DAYLIGHT
TZNAME:CEST
TZOFFSETFROM:+0100
TZOFFSETTO:+0200
DTSTART:19810329T020000
RRULE:FREQ=YEARLY;BYMONTH=3;BYDAY=-1SU
END:DAYLIGHT
BEGIN:STANDARD
TZNAME:CET
TZOFFSETFROM:+0200
TZOFFSETTO:+0100
DTSTART:19961027T030000
RRULE:FREQ=YEARLY;BYMONTH=10;BYDAY=-1SU
END:STANDARD
END:VTIMEZONE
BEGIN:VEVENT
DTSTAMP:20260424T044524Z
DTSTART;TZID=Europe/Berlin:20260116T200000
DTEND;TZID=Europe/Berlin:20260116T230000
SUMMARY:O40 4. Liga Gr. 2 Eschenbach vs Wolfhausen II (0)
UID:7cf566c3-1d2b-4775-ba88-4e777db4afb6
STATUS:CONFIRMED
LAST-MODIFIED:20260119T091931Z
DESCRIPTION:4. Liga O40 Gruppe 2\nBegegnungs-Nr: 0\nHeim: Eschenbach\nGast: Wolfhausen II\n\nAdresse: Bildstöcklistrasse 2\, 8733 Eschenbach\n
LOCATION:Bildstöcklistrasse 2\, 8733 Eschenbach
CATEGORIES:Saison 2025/26
END:VEVENT
BEGIN:VEVENT
DTSTAMP:20260424T044524Z
DTSTART;TZID=Europe/Berlin:20260320T200000
DTEND;TZID=Europe/Berlin:20260320T230000
SUMMARY:O40 4. Liga Gr. 2 Eschenbach vs Kloten (0)
UID:16ec927c-a4d3-4b2f-983d-3533adc80524
STATUS:CONFIRMED
LAST-MODIFIED:20260326T155505Z
DESCRIPTION:4. Liga O40 Gruppe 2\nBegegnungs-Nr: 0\nHeim: Eschenbach\nGast: Kloten\n\nAdresse: Bildstöcklistrasse 2\, 8733 Eschenbach\n
LOCATION:Bildstöcklistrasse 2\, 8733 Eschenbach
CATEGORIES:Saison 2025/26
END:VEVENT
BEGIN:VEVENT
DTSTAMP:20260424T044524Z
DTSTART;TZID=Europe/Berlin:20260220T200000
DTEND;TZID=Europe/Berlin:20260220T230000
SUMMARY:O40 4. Liga Gr. 2 Eschenbach vs Zürich-Affoltern III (0)
UID:0dc6d9e5-87db-44b8-84ca-7377870bd0bd
STATUS:CONFIRMED
LAST-MODIFIED:20260225T112438Z
DESCRIPTION:4. Liga O40 Gruppe 2\nBegegnungs-Nr: 0\nHeim: Eschenbach\nGast: Zürich-Affoltern III\n\nAdresse: Bildstöcklistrasse 2\, 8733 Eschenbach\n
LOCATION:Bildstöcklistrasse 2\, 8733 Eschenbach
CATEGORIES:Saison 2025/26
END:VEVENT
BEGIN:VEVENT
DTSTAMP:20260424T044524Z
DTSTART;TZID=Europe/Berlin:20250912T200000
DTEND;TZID=Europe/Berlin:20250912T230000
SUMMARY:O40 4. Liga Gr. 2 Eschenbach vs Dübendorf-Volketswil III (0)
UID:d5a03c80-a57e-4b2e-8d54-83e85c7b8797
STATUS:CONFIRMED
LAST-MODIFIED:20250915T084938Z
DESCRIPTION:4. Liga O40 Gruppe 2\nBegegnungs-Nr: 0\nHeim: Eschenbach\nGast: Dübendorf-Volketswil III\n\nAdresse: Bildstöcklistrasse 2\, 8733 Eschenbach\n
LOCATION:Bildstöcklistrasse 2\, 8733 Eschenbach
CATEGORIES:Saison 2025/26
END:VEVENT
BEGIN:VEVENT
DTSTAMP:20260424T044524Z
DTSTART;TZID=Europe/Berlin:20251024T200000
DTEND;TZID=Europe/Berlin:20251024T230000
SUMMARY:O40 4. Liga Gr. 2 Eschenbach vs Uster II (0)
UID:c026d45d-b5f0-4cba-9487-9e93446e905f
STATUS:CONFIRMED
LAST-MODIFIED:20251031T144901Z
DESCRIPTION:4. Liga O40 Gruppe 2\nBegegnungs-Nr: 0\nHeim: Eschenbach\nGast: Uster II\n\nAdresse: Bildstöcklistrasse 2\, 8733 Eschenbach\n
LOCATION:Bildstöcklistrasse 2\, 8733 Eschenbach
CATEGORIES:Saison 2025/26
END:VEVENT
BEGIN:VEVENT
DTSTAMP:20260424T044524Z
DTSTART;TZID=Europe/Berlin:20260205T194500
DTEND;TZID=Europe/Berlin:20260205T224500
SUMMARY:O40 4. Liga Gr. 2 Dübendorf-Volketswil III vs Eschenbach (0)
UID:173a0647-ed67-4472-81ac-62b426ba6f55
STATUS:CONFIRMED
LAST-MODIFIED:20260206T141920Z
DESCRIPTION:4. Liga O40 Gruppe 2\nBegegnungs-Nr: 0\nHeim: Dübendorf-Volketswil III\nGast: Eschenbach\n\nAdresse: Wasserfurrenstrasse 7\, 8600 Dübendorf\n
LOCATION:Wasserfurrenstrasse 7\, 8600 Dübendorf
CATEGORIES:Saison 2025/26
END:VEVENT
BEGIN:VEVENT
DTSTAMP:20260424T044524Z
DTSTART;TZID=Europe/Berlin:20260224T201500
DTEND;TZID=Europe/Berlin:20260224T231500
SUMMARY:O40 4. Liga Gr. 2 Uster II vs Eschenbach (0)
UID:5d3685d0-54b3-4e43-9d9c-b385a9e18480
STATUS:CONFIRMED
LAST-MODIFIED:20260225T112501Z
DESCRIPTION:4. Liga O40 Gruppe 2\nBegegnungs-Nr: 0\nHeim: Uster II\nGast: Eschenbach\n\nAdresse: Wilstrasse 30 / Zürcherstrasse\, 8610 Uster\n
LOCATION:Wilstrasse 30 / Zürcherstrasse\, 8610 Uster
CATEGORIES:Saison 2025/26
END:VEVENT
BEGIN:VEVENT
DTSTAMP:20260424T044524Z
DTSTART;TZID=Europe/Berlin:20250822T200000
DTEND;TZID=Europe/Berlin:20250822T230000
SUMMARY:O40 4. Liga Gr. 2 Wolfhausen II vs Eschenbach (0)
UID:5a2e89af-0c78-4443-8e67-20dc9ea51426
STATUS:CONFIRMED
LAST-MODIFIED:20250826T115159Z
DESCRIPTION:4. Liga O40 Gruppe 2\nBegegnungs-Nr: 0\nHeim: Wolfhausen II\nGast: Eschenbach\n\nAdresse: Schulstrasse 9\, 8633 Wolfhausen\n
LOCATION:Schulstrasse 9\, 8633 Wolfhausen
CATEGORIES:Saison 2025/26
END:VEVENT
BEGIN:VEVENT
DTSTAMP:20260424T044524Z
DTSTART;TZID=Europe/Berlin:20251119T193000
DTEND;TZID=Europe/Berlin:20251119T223000
SUMMARY:O40 4. Liga Gr. 2 Kloten vs Eschenbach (0)
UID:d572ba2b-ed8e-43e9-b1c2-a1b8dd85448f
STATUS:CONFIRMED
LAST-MODIFIED:20251121T095221Z
DESCRIPTION:4. Liga O40 Gruppe 2\nBegegnungs-Nr: 0\nHeim: Kloten\nGast: Eschenbach\n\nAdresse: Schluefweg 10\, 8302 Kloten\n
LOCATION:Schluefweg 10\, 8302 Kloten
CATEGORIES:Saison 2025/26
END:VEVENT
BEGIN:VEVENT
DTSTAMP:20260424T044524Z
DTSTART;TZID=Europe/Berlin:20251126T194500
DTEND;TZID=Europe/Berlin:20251126T224500
SUMMARY:O40 4. Liga Gr. 2 Zürich-Affoltern III vs Eschenbach (0)
UID:c9c57df7-0f2c-4fed-8803-0e8b31faa69a
STATUS:CONFIRMED
LAST-MODIFIED:20251210T094033Z
DESCRIPTION:4. Liga O40 Gruppe 2\nBegegnungs-Nr: 0\nHeim: Zürich-Affoltern III\nGast: Eschenbach\n\nAdresse: Fronwaldstr.115\, 8046 Zürich\n
LOCATION:Fronwaldstr.115\, 8046 Zürich
CATEGORIES:Saison 2025/26
END:VEVENT
END:VCALENDAR
