BEGIN:VCALENDAR
PRODID:-//nuDatenautomaten//framework iCal4j //DE
VERSION:2.0
CALSCALE:GREGORIAN
BEGIN:VTIMEZONE
TZID:Europe/Berlin
LAST-MODIFIED:20260306T231828Z
TZURL:https://www.tzurl.org/zoneinfo/Europe/Berlin
X-LIC-LOCATION:Europe/Berlin
X-PROLEPTIC-TZNAME:LMT
BEGIN:STANDARD
TZNAME:CET
TZOFFSETFROM:+005328
TZOFFSETTO:+0100
DTSTART:18930401T000000
END:STANDARD
BEGIN:DAYLIGHT
TZNAME:CEST
TZOFFSETFROM:+0100
TZOFFSETTO:+0200
DTSTART:19160430T230000
RDATE:19400401T020000
RDATE:19430329T020000
RDATE:19460414T020000
RDATE:19470406T030000
RDATE:19480418T020000
RDATE:19490410T020000
RDATE:19800406T020000
END:DAYLIGHT
BEGIN:STANDARD
TZNAME:CET
TZOFFSETFROM:+0200
TZOFFSETTO:+0100
DTSTART:19161001T010000
RDATE:19421102T030000
RDATE:19431004T030000
RDATE:19441002T030000
RDATE:19451118T030000
RDATE:19461007T030000
END:STANDARD
BEGIN:DAYLIGHT
TZNAME:CEST
TZOFFSETFROM:+0100
TZOFFSETTO:+0200
DTSTART:19170416T020000
RRULE:FREQ=YEARLY;UNTIL=19180415T010000Z;BYMONTH=4;BYDAY=3MO
END:DAYLIGHT
BEGIN:STANDARD
TZNAME:CET
TZOFFSETFROM:+0200
TZOFFSETTO:+0100
DTSTART:19170917T030000
RRULE:FREQ=YEARLY;UNTIL=19180916T010000Z;BYMONTH=9;BYDAY=3MO
END:STANDARD
BEGIN:DAYLIGHT
TZNAME:CEST
TZOFFSETFROM:+0100
TZOFFSETTO:+0200
DTSTART:19440403T020000
RRULE:FREQ=YEARLY;UNTIL=19450402T010000Z;BYMONTH=4;BYDAY=1MO
END:DAYLIGHT
BEGIN:DAYLIGHT
TZNAME:CEMT
TZOFFSETFROM:+0200
TZOFFSETTO:+0300
DTSTART:19450524T020000
RDATE:19470511T030000
END:DAYLIGHT
BEGIN:DAYLIGHT
TZNAME:CEST
TZOFFSETFROM:+0300
TZOFFSETTO:+0200
DTSTART:19450924T030000
RDATE:19470629T030000
END:DAYLIGHT
BEGIN:STANDARD
TZNAME:CET
TZOFFSETFROM:+0100
TZOFFSETTO:+0100
DTSTART:19460101T000000
RDATE:19800101T000000
END:STANDARD
BEGIN:STANDARD
TZNAME:CET
TZOFFSETFROM:+0200
TZOFFSETTO:+0100
DTSTART:19471005T030000
RRULE:FREQ=YEARLY;UNTIL=19491002T010000Z;BYMONTH=10;BYDAY=1SU
END:STANDARD
BEGIN:STANDARD
TZNAME:CET
TZOFFSETFROM:+0200
TZOFFSETTO:+0100
DTSTART:19800928T030000
RRULE:FREQ=YEARLY;UNTIL=19950924T010000Z;BYMONTH=9;BYDAY=-1SU
END:STANDARD
BEGIN:DAYLIGHT
TZNAME:CEST
TZOFFSETFROM:+0100
TZOFFSETTO:+0200
DTSTART:19810329T020000
RRULE:FREQ=YEARLY;BYMONTH=3;BYDAY=-1SU
END:DAYLIGHT
BEGIN:STANDARD
TZNAME:CET
TZOFFSETFROM:+0200
TZOFFSETTO:+0100
DTSTART:19961027T030000
RRULE:FREQ=YEARLY;BYMONTH=10;BYDAY=-1SU
END:STANDARD
END:VTIMEZONE
BEGIN:VEVENT
DTSTAMP:20260424T135212Z
DTSTART;TZID=Europe/Berlin:20260105T201500
DTEND;TZID=Europe/Berlin:20260105T231500
SUMMARY:O40 1. Liga Gelterkinden vs Birrfeld (0)
UID:1e751844-27ba-4742-9fc6-05891c63bf9f
STATUS:CONFIRMED
LAST-MODIFIED:20260109T074551Z
DESCRIPTION:1. Liga O40\nBegegnungs-Nr: 0\nHeim: Gelterkinden\nGast: Birrfeld\n\nAdresse: Turnhallenstrasse 18\, 4460 Gelterkinden\n
LOCATION:Turnhallenstrasse 18\, 4460 Gelterkinden
CATEGORIES:Saison 2025/26
END:VEVENT
BEGIN:VEVENT
DTSTAMP:20260424T135212Z
DTSTART;TZID=Europe/Berlin:20251027T201500
DTEND;TZID=Europe/Berlin:20251027T231500
SUMMARY:O40 1. Liga Gelterkinden vs Aarau (0)
UID:11271cb8-c883-4262-857d-99de309b743a
STATUS:CONFIRMED
LAST-MODIFIED:20251029T100649Z
DESCRIPTION:1. Liga O40\nBegegnungs-Nr: 0\nHeim: Gelterkinden\nGast: Aarau\n\nAdresse: Turnhallenstrasse 18\, 4460 Gelterkinden\n
LOCATION:Turnhallenstrasse 18\, 4460 Gelterkinden
CATEGORIES:Saison 2025/26
END:VEVENT
BEGIN:VEVENT
DTSTAMP:20260424T135212Z
DTSTART;TZID=Europe/Berlin:20251013T201500
DTEND;TZID=Europe/Berlin:20251013T231500
SUMMARY:O40 1. Liga Gelterkinden vs Baden-Wettingen (0)
UID:36da5ee4-e2bc-4250-ae00-71fc1d16e9c4
STATUS:CONFIRMED
LAST-MODIFIED:20251016T145813Z
DESCRIPTION:1. Liga O40\nBegegnungs-Nr: 0\nHeim: Gelterkinden\nGast: Baden-Wettingen\n\nAdresse: Turnhallenstrasse 18\, 4460 Gelterkinden\n
LOCATION:Turnhallenstrasse 18\, 4460 Gelterkinden
CATEGORIES:Saison 2025/26
END:VEVENT
BEGIN:VEVENT
DTSTAMP:20260424T135212Z
DTSTART;TZID=Europe/Berlin:20250827T201500
DTEND;TZID=Europe/Berlin:20250827T231500
SUMMARY:O40 1. Liga Gelterkinden vs Olten (0)
UID:5a483d08-4445-4711-8936-08896a11d323
STATUS:CONFIRMED
LAST-MODIFIED:20250918T095725Z
DESCRIPTION:1. Liga O40\nBegegnungs-Nr: 0\nHeim: Gelterkinden\nGast: Olten\n\nAdresse: Turnhallenstrasse 18\, 4460 Gelterkinden\n
LOCATION:Turnhallenstrasse 18\, 4460 Gelterkinden
CATEGORIES:Saison 2025/26
END:VEVENT
BEGIN:VEVENT
DTSTAMP:20260424T135212Z
DTSTART;TZID=Europe/Berlin:20260309T201500
DTEND;TZID=Europe/Berlin:20260309T231500
SUMMARY:O40 1. Liga Gelterkinden vs Schöftland (0)
UID:2c6611df-2d02-49b3-b9ff-12b27dcd78a5
STATUS:CONFIRMED
LAST-MODIFIED:20260313T130941Z
DESCRIPTION:1. Liga O40\nBegegnungs-Nr: 0\nHeim: Gelterkinden\nGast: Schöftland\n\nAdresse: Turnhallenstrasse 18\, 4460 Gelterkinden\n
LOCATION:Turnhallenstrasse 18\, 4460 Gelterkinden
CATEGORIES:Saison 2025/26
END:VEVENT
BEGIN:VEVENT
DTSTAMP:20260424T135212Z
DTSTART;TZID=Europe/Berlin:20260126T201500
DTEND;TZID=Europe/Berlin:20260126T231500
SUMMARY:O40 1. Liga Gelterkinden vs Aesch (0)
UID:3c103ac5-0ef1-4ca1-bcb0-4e8f1f93535a
STATUS:CONFIRMED
LAST-MODIFIED:20260130T084830Z
DESCRIPTION:1. Liga O40\nBegegnungs-Nr: 0\nHeim: Gelterkinden\nGast: Aesch\n\nAdresse: Turnhallenstrasse 18\, 4460 Gelterkinden\n
LOCATION:Turnhallenstrasse 18\, 4460 Gelterkinden
CATEGORIES:Saison 2025/26
END:VEVENT
BEGIN:VEVENT
DTSTAMP:20260424T135212Z
DTSTART;TZID=Europe/Berlin:20251215T201500
DTEND;TZID=Europe/Berlin:20251215T231500
SUMMARY:O40 1. Liga Gelterkinden vs Mellingen (0)
UID:7c8a2eca-3a14-450f-b524-a1847f3070a6
STATUS:CONFIRMED
LAST-MODIFIED:20251217T100644Z
DESCRIPTION:1. Liga O40\nBegegnungs-Nr: 0\nHeim: Gelterkinden\nGast: Mellingen\n\nAdresse: Turnhallenstrasse 18\, 4460 Gelterkinden\n
LOCATION:Turnhallenstrasse 18\, 4460 Gelterkinden
CATEGORIES:Saison 2025/26
END:VEVENT
BEGIN:VEVENT
DTSTAMP:20260424T135212Z
DTSTART;TZID=Europe/Berlin:20251121T200000
DTEND;TZID=Europe/Berlin:20251121T230000
SUMMARY:O40 1. Liga Schöftland vs Gelterkinden (0)
UID:e7de9fc4-2811-4352-ba8e-4682854f2211
STATUS:CONFIRMED
LAST-MODIFIED:20251124T082755Z
DESCRIPTION:1. Liga O40\nBegegnungs-Nr: 0\nHeim: Schöftland\nGast: Gelterkinden\n\nAdresse: Birkenweg\, 5040 Schöftland\n
LOCATION:Birkenweg\, 5040 Schöftland
CATEGORIES:Saison 2025/26
END:VEVENT
BEGIN:VEVENT
DTSTAMP:20260424T135212Z
DTSTART;TZID=Europe/Berlin:20250911T193000
DTEND;TZID=Europe/Berlin:20250911T223000
SUMMARY:O40 1. Liga Aesch vs Gelterkinden (0)
UID:0843fe81-6483-40e9-893c-31edcfb0554f
STATUS:CONFIRMED
LAST-MODIFIED:20250922T081803Z
DESCRIPTION:1. Liga O40\nBegegnungs-Nr: 0\nHeim: Aesch\nGast: Gelterkinden\n\nAdresse: Dornacherstrasse\, 4147 Aesch\n
LOCATION:Dornacherstrasse\, 4147 Aesch
CATEGORIES:Saison 2025/26
END:VEVENT
BEGIN:VEVENT
DTSTAMP:20260424T135212Z
DTSTART;TZID=Europe/Berlin:20250828T200000
DTEND;TZID=Europe/Berlin:20250828T230000
SUMMARY:O40 1. Liga Mellingen vs Gelterkinden (0)
UID:61a79d06-9b03-4e35-8153-c1560558d2dc
STATUS:CONFIRMED
LAST-MODIFIED:20250905T122001Z
DESCRIPTION:1. Liga O40\nBegegnungs-Nr: 0\nHeim: Mellingen\nGast: Gelterkinden\n\nAdresse: Bahnhofstrasse 22\, 5507 Mellingen\n
LOCATION:Bahnhofstrasse 22\, 5507 Mellingen
CATEGORIES:Saison 2025/26
END:VEVENT
BEGIN:VEVENT
DTSTAMP:20260424T135212Z
DTSTART;TZID=Europe/Berlin:20260328T130000
DTEND;TZID=Europe/Berlin:20260328T160000
SUMMARY:O40 1. Liga Birrfeld vs Gelterkinden (0)
UID:05ecd1f6-0d43-4228-a5d4-06cfb07f0b48
STATUS:CONFIRMED
LAST-MODIFIED:20260416T095328Z
DESCRIPTION:1. Liga O40\nBegegnungs-Nr: 0\nHeim: Birrfeld\nGast: Gelterkinden\n\nAdresse: Zentralstrasse 30\, 5242 Birr\n
LOCATION:Zentralstrasse 30\, 5242 Birr
CATEGORIES:Saison 2025/26
END:VEVENT
BEGIN:VEVENT
DTSTAMP:20260424T135212Z
DTSTART;TZID=Europe/Berlin:20260304T194500
DTEND;TZID=Europe/Berlin:20260304T224500
SUMMARY:O40 1. Liga Aarau vs Gelterkinden (0)
UID:77f0899c-3482-479e-b784-557d5ab0ddb7
STATUS:CONFIRMED
LAST-MODIFIED:20260313T130002Z
DESCRIPTION:1. Liga O40\nBegegnungs-Nr: 0\nHeim: Aarau\nGast: Gelterkinden\n\nAdresse: Weltistrasse 20\, 5000 Aarau\n
LOCATION:Weltistrasse 20\, 5000 Aarau
CATEGORIES:Saison 2025/26
END:VEVENT
BEGIN:VEVENT
DTSTAMP:20260424T135212Z
DTSTART;TZID=Europe/Berlin:20260330T194500
DTEND;TZID=Europe/Berlin:20260330T224500
SUMMARY:O40 1. Liga Baden-Wettingen vs Gelterkinden (0)
UID:6b1c6f6f-5997-4a53-9831-df1402e2b23f
STATUS:CONFIRMED
LAST-MODIFIED:20260416T095337Z
DESCRIPTION:1. Liga O40\nBegegnungs-Nr: 0\nHeim: Baden-Wettingen\nGast: Gelterkinden\n\nAdresse: Wiesenstrasse 32 (Parkhaus Schmiede Fabrikstrasse)\, 5400 Baden\n
LOCATION:Wiesenstrasse 32 (Parkhaus Schmiede Fabrikstrasse)\, 5400 Baden
CATEGORIES:Saison 2025/26
END:VEVENT
BEGIN:VEVENT
DTSTAMP:20260424T135212Z
DTSTART;TZID=Europe/Berlin:20260116T200000
DTEND;TZID=Europe/Berlin:20260116T230000
SUMMARY:O40 1. Liga Olten vs Gelterkinden (0)
UID:269efd3b-43a1-4c7c-8487-ec0ee79cb32f
STATUS:CONFIRMED
LAST-MODIFIED:20260123T082147Z
DESCRIPTION:1. Liga O40\nBegegnungs-Nr: 0\nHeim: Olten\nGast: Gelterkinden\n\nAdresse: Stockackerstrasse 17\, 5013 Niedergösgen\n
LOCATION:Stockackerstrasse 17\, 5013 Niedergösgen
CATEGORIES:Saison 2025/26
END:VEVENT
END:VCALENDAR
