BEGIN:VCALENDAR
PRODID:-//nuDatenautomaten//framework iCal4j //DE
VERSION:2.0
CALSCALE:GREGORIAN
BEGIN:VTIMEZONE
TZID:Europe/Berlin
LAST-MODIFIED:20260306T231828Z
TZURL:https://www.tzurl.org/zoneinfo/Europe/Berlin
X-LIC-LOCATION:Europe/Berlin
X-PROLEPTIC-TZNAME:LMT
BEGIN:STANDARD
TZNAME:CET
TZOFFSETFROM:+005328
TZOFFSETTO:+0100
DTSTART:18930401T000000
END:STANDARD
BEGIN:DAYLIGHT
TZNAME:CEST
TZOFFSETFROM:+0100
TZOFFSETTO:+0200
DTSTART:19160430T230000
RDATE:19400401T020000
RDATE:19430329T020000
RDATE:19460414T020000
RDATE:19470406T030000
RDATE:19480418T020000
RDATE:19490410T020000
RDATE:19800406T020000
END:DAYLIGHT
BEGIN:STANDARD
TZNAME:CET
TZOFFSETFROM:+0200
TZOFFSETTO:+0100
DTSTART:19161001T010000
RDATE:19421102T030000
RDATE:19431004T030000
RDATE:19441002T030000
RDATE:19451118T030000
RDATE:19461007T030000
END:STANDARD
BEGIN:DAYLIGHT
TZNAME:CEST
TZOFFSETFROM:+0100
TZOFFSETTO:+0200
DTSTART:19170416T020000
RRULE:FREQ=YEARLY;UNTIL=19180415T010000Z;BYMONTH=4;BYDAY=3MO
END:DAYLIGHT
BEGIN:STANDARD
TZNAME:CET
TZOFFSETFROM:+0200
TZOFFSETTO:+0100
DTSTART:19170917T030000
RRULE:FREQ=YEARLY;UNTIL=19180916T010000Z;BYMONTH=9;BYDAY=3MO
END:STANDARD
BEGIN:DAYLIGHT
TZNAME:CEST
TZOFFSETFROM:+0100
TZOFFSETTO:+0200
DTSTART:19440403T020000
RRULE:FREQ=YEARLY;UNTIL=19450402T010000Z;BYMONTH=4;BYDAY=1MO
END:DAYLIGHT
BEGIN:DAYLIGHT
TZNAME:CEMT
TZOFFSETFROM:+0200
TZOFFSETTO:+0300
DTSTART:19450524T020000
RDATE:19470511T030000
END:DAYLIGHT
BEGIN:DAYLIGHT
TZNAME:CEST
TZOFFSETFROM:+0300
TZOFFSETTO:+0200
DTSTART:19450924T030000
RDATE:19470629T030000
END:DAYLIGHT
BEGIN:STANDARD
TZNAME:CET
TZOFFSETFROM:+0100
TZOFFSETTO:+0100
DTSTART:19460101T000000
RDATE:19800101T000000
END:STANDARD
BEGIN:STANDARD
TZNAME:CET
TZOFFSETFROM:+0200
TZOFFSETTO:+0100
DTSTART:19471005T030000
RRULE:FREQ=YEARLY;UNTIL=19491002T010000Z;BYMONTH=10;BYDAY=1SU
END:STANDARD
BEGIN:STANDARD
TZNAME:CET
TZOFFSETFROM:+0200
TZOFFSETTO:+0100
DTSTART:19800928T030000
RRULE:FREQ=YEARLY;UNTIL=19950924T010000Z;BYMONTH=9;BYDAY=-1SU
END:STANDARD
BEGIN:DAYLIGHT
TZNAME:CEST
TZOFFSETFROM:+0100
TZOFFSETTO:+0200
DTSTART:19810329T020000
RRULE:FREQ=YEARLY;BYMONTH=3;BYDAY=-1SU
END:DAYLIGHT
BEGIN:STANDARD
TZNAME:CET
TZOFFSETFROM:+0200
TZOFFSETTO:+0100
DTSTART:19961027T030000
RRULE:FREQ=YEARLY;BYMONTH=10;BYDAY=-1SU
END:STANDARD
END:VTIMEZONE
BEGIN:VEVENT
DTSTAMP:20260424T135220Z
DTSTART;TZID=Europe/Berlin:20260126T201500
DTEND;TZID=Europe/Berlin:20260126T231500
SUMMARY:HE 6. Liga Gr. 2 Döttingen VI vs Gelterkinden V (0)
UID:fcd821bc-dde9-4586-9ddd-0cd5db889277
STATUS:CONFIRMED
LAST-MODIFIED:20260130T133546Z
DESCRIPTION:6. Liga Herren Gruppe 2\nBegegnungs-Nr: 0\nHeim: Döttingen VI\nGast: Gelterkinden V\n\nAdresse: Im Bogen\, Chilbert 25\, 5312 Döttingen\n
LOCATION:Im Bogen\, Chilbert 25\, 5312 Döttingen
CATEGORIES:Saison 2025/26
END:VEVENT
BEGIN:VEVENT
DTSTAMP:20260424T135220Z
DTSTART;TZID=Europe/Berlin:20260122T201500
DTEND;TZID=Europe/Berlin:20260122T231500
SUMMARY:HE 6. Liga Gr. 2 Döttingen VI vs Möhlin III (0)
UID:1e8d199c-6bd3-4083-abb4-a6b9591524a8
STATUS:CONFIRMED
LAST-MODIFIED:20260123T082021Z
DESCRIPTION:6. Liga Herren Gruppe 2\nBegegnungs-Nr: 0\nHeim: Döttingen VI\nGast: Möhlin III\n\nAdresse: Im Bogen\, Chilbert 25\, 5312 Döttingen\n
LOCATION:Im Bogen\, Chilbert 25\, 5312 Döttingen
CATEGORIES:Saison 2025/26
END:VEVENT
BEGIN:VEVENT
DTSTAMP:20260424T135220Z
DTSTART;TZID=Europe/Berlin:20250904T201500
DTEND;TZID=Europe/Berlin:20250904T231500
SUMMARY:HE 6. Liga Gr. 2 Döttingen VI vs Olten VII (0)
UID:d5994858-5743-4549-9a3d-5e280bdcbb0b
STATUS:CONFIRMED
LAST-MODIFIED:20250905T121914Z
DESCRIPTION:6. Liga Herren Gruppe 2\nBegegnungs-Nr: 0\nHeim: Döttingen VI\nGast: Olten VII\n\nAdresse: Im Bogen\, Chilbert 25\, 5312 Döttingen\n
LOCATION:Im Bogen\, Chilbert 25\, 5312 Döttingen
CATEGORIES:Saison 2025/26
END:VEVENT
BEGIN:VEVENT
DTSTAMP:20260424T135220Z
DTSTART;TZID=Europe/Berlin:20251016T201500
DTEND;TZID=Europe/Berlin:20251016T231500
SUMMARY:HE 6. Liga Gr. 2 Döttingen VI vs Oberwil VIII (0)
UID:36b7332d-5c8f-48ed-b6fe-a5c97ca1efd0
STATUS:CONFIRMED
LAST-MODIFIED:20251017T073515Z
DESCRIPTION:6. Liga Herren Gruppe 2\nBegegnungs-Nr: 0\nHeim: Döttingen VI\nGast: Oberwil VIII\n\nAdresse: Im Bogen\, Chilbert 25\, 5312 Döttingen\n
LOCATION:Im Bogen\, Chilbert 25\, 5312 Döttingen
CATEGORIES:Saison 2025/26
END:VEVENT
BEGIN:VEVENT
DTSTAMP:20260424T135220Z
DTSTART;TZID=Europe/Berlin:20251110T201500
DTEND;TZID=Europe/Berlin:20251110T231500
SUMMARY:HE 6. Liga Gr. 2 Döttingen VI vs Waldenburg II (0)
UID:114dd19e-28bc-4a78-b4c8-62f26eae33d3
STATUS:CONFIRMED
LAST-MODIFIED:20251114T140827Z
DESCRIPTION:6. Liga Herren Gruppe 2\nBegegnungs-Nr: 0\nHeim: Döttingen VI\nGast: Waldenburg II\n\nAdresse: Im Bogen\, Chilbert 25\, 5312 Döttingen\n
LOCATION:Im Bogen\, Chilbert 25\, 5312 Döttingen
CATEGORIES:Saison 2025/26
END:VEVENT
BEGIN:VEVENT
DTSTAMP:20260424T135220Z
DTSTART;TZID=Europe/Berlin:20251211T201500
DTEND;TZID=Europe/Berlin:20251211T231500
SUMMARY:HE 6. Liga Gr. 2 Döttingen VI vs Frick VI (0)
UID:247b679e-77fe-4257-881c-767f4cbb23c2
STATUS:CONFIRMED
LAST-MODIFIED:20251216T122117Z
DESCRIPTION:6. Liga Herren Gruppe 2\nBegegnungs-Nr: 0\nHeim: Döttingen VI\nGast: Frick VI\n\nAdresse: Im Bogen\, Chilbert 25\, 5312 Döttingen\n
LOCATION:Im Bogen\, Chilbert 25\, 5312 Döttingen
CATEGORIES:Saison 2025/26
END:VEVENT
BEGIN:VEVENT
DTSTAMP:20260424T135220Z
DTSTART;TZID=Europe/Berlin:20260330T200000
DTEND;TZID=Europe/Berlin:20260330T230000
SUMMARY:HE 6. Liga Gr. 2 Frick VI vs Döttingen VI (0)
UID:f5f7f358-020a-456d-8bcc-0c7258a8f643
STATUS:CONFIRMED
LAST-MODIFIED:20260416T094352Z
DESCRIPTION:6. Liga Herren Gruppe 2\nBegegnungs-Nr: 0\nHeim: Frick VI\nGast: Döttingen VI\n\nAdresse: Schulstrasse 51\, 5070 Frick\n
LOCATION:Schulstrasse 51\, 5070 Frick
CATEGORIES:Saison 2025/26
END:VEVENT
BEGIN:VEVENT
DTSTAMP:20260424T135220Z
DTSTART;TZID=Europe/Berlin:20260116T194500
DTEND;TZID=Europe/Berlin:20260116T224500
SUMMARY:HE 6. Liga Gr. 2 Olten VII vs Döttingen VI (0)
UID:a401f907-a367-4c77-9cce-8eb8e8701958
STATUS:CONFIRMED
LAST-MODIFIED:20260123T081959Z
DESCRIPTION:6. Liga Herren Gruppe 2\nBegegnungs-Nr: 0\nHeim: Olten VII\nGast: Döttingen VI\n\nAdresse: Engelbergstrasse 60\, 4600 Olten\n
LOCATION:Engelbergstrasse 60\, 4600 Olten
CATEGORIES:Saison 2025/26
END:VEVENT
BEGIN:VEVENT
DTSTAMP:20260424T135220Z
DTSTART;TZID=Europe/Berlin:20260202T194500
DTEND;TZID=Europe/Berlin:20260202T224500
SUMMARY:HE 6. Liga Gr. 2 Oberwil VIII vs Döttingen VI (0)
UID:219fbf0d-9157-449c-9211-1ab8dbe1d776
STATUS:CONFIRMED
LAST-MODIFIED:20260211T100535Z
DESCRIPTION:6. Liga Herren Gruppe 2\nBegegnungs-Nr: 0\nHeim: Oberwil VIII\nGast: Döttingen VI\n\nAdresse: Schulstrasse\, 4104 Oberwil\n
LOCATION:Schulstrasse\, 4104 Oberwil
CATEGORIES:Saison 2025/26
END:VEVENT
BEGIN:VEVENT
DTSTAMP:20260424T135220Z
DTSTART;TZID=Europe/Berlin:20260305T200000
DTEND;TZID=Europe/Berlin:20260305T230000
SUMMARY:HE 6. Liga Gr. 2 Waldenburg II vs Döttingen VI (0)
UID:12cba58e-ff65-4be9-a7f7-ef7201360e77
STATUS:CONFIRMED
LAST-MODIFIED:20260313T125805Z
DESCRIPTION:6. Liga Herren Gruppe 2\nBegegnungs-Nr: 0\nHeim: Waldenburg II\nGast: Döttingen VI\n\nAdresse: Hauptstrasse 30\, 4437 Waldenburg\n
LOCATION:Hauptstrasse 30\, 4437 Waldenburg
CATEGORIES:Saison 2025/26
END:VEVENT
BEGIN:VEVENT
DTSTAMP:20260424T135220Z
DTSTART;TZID=Europe/Berlin:20250825T201500
DTEND;TZID=Europe/Berlin:20250825T231500
SUMMARY:HE 6. Liga Gr. 2 Gelterkinden V vs Döttingen VI (0)
UID:87f960ba-df84-4bb3-bfcb-ffee5a06996d
STATUS:CONFIRMED
LAST-MODIFIED:20250826T122604Z
DESCRIPTION:6. Liga Herren Gruppe 2\nBegegnungs-Nr: 0\nHeim: Gelterkinden V\nGast: Döttingen VI\n\nAdresse: Turnhallenstrasse 18\, 4460 Gelterkinden\n
LOCATION:Turnhallenstrasse 18\, 4460 Gelterkinden
CATEGORIES:Saison 2025/26
END:VEVENT
BEGIN:VEVENT
DTSTAMP:20260424T135220Z
DTSTART;TZID=Europe/Berlin:20250919T200000
DTEND;TZID=Europe/Berlin:20250919T230000
SUMMARY:HE 6. Liga Gr. 2 Möhlin III vs Döttingen VI (0)
UID:0a8d14f1-5279-4e21-a339-456c46beb32e
STATUS:CONFIRMED
LAST-MODIFIED:20250926T124040Z
DESCRIPTION:6. Liga Herren Gruppe 2\nBegegnungs-Nr: 0\nHeim: Möhlin III\nGast: Döttingen VI\n\nAdresse: Schulhausweg\, 4313 Möhlin\n
LOCATION:Schulhausweg\, 4313 Möhlin
CATEGORIES:Saison 2025/26
END:VEVENT
END:VCALENDAR
