BEGIN:VCALENDAR
PRODID:-//nuDatenautomaten//framework iCal4j //DE
VERSION:2.0
CALSCALE:GREGORIAN
BEGIN:VTIMEZONE
TZID:Europe/Berlin
LAST-MODIFIED:20260306T231828Z
TZURL:https://www.tzurl.org/zoneinfo/Europe/Berlin
X-LIC-LOCATION:Europe/Berlin
X-PROLEPTIC-TZNAME:LMT
BEGIN:STANDARD
TZNAME:CET
TZOFFSETFROM:+005328
TZOFFSETTO:+0100
DTSTART:18930401T000000
END:STANDARD
BEGIN:DAYLIGHT
TZNAME:CEST
TZOFFSETFROM:+0100
TZOFFSETTO:+0200
DTSTART:19160430T230000
RDATE:19400401T020000
RDATE:19430329T020000
RDATE:19460414T020000
RDATE:19470406T030000
RDATE:19480418T020000
RDATE:19490410T020000
RDATE:19800406T020000
END:DAYLIGHT
BEGIN:STANDARD
TZNAME:CET
TZOFFSETFROM:+0200
TZOFFSETTO:+0100
DTSTART:19161001T010000
RDATE:19421102T030000
RDATE:19431004T030000
RDATE:19441002T030000
RDATE:19451118T030000
RDATE:19461007T030000
END:STANDARD
BEGIN:DAYLIGHT
TZNAME:CEST
TZOFFSETFROM:+0100
TZOFFSETTO:+0200
DTSTART:19170416T020000
RRULE:FREQ=YEARLY;UNTIL=19180415T010000Z;BYMONTH=4;BYDAY=3MO
END:DAYLIGHT
BEGIN:STANDARD
TZNAME:CET
TZOFFSETFROM:+0200
TZOFFSETTO:+0100
DTSTART:19170917T030000
RRULE:FREQ=YEARLY;UNTIL=19180916T010000Z;BYMONTH=9;BYDAY=3MO
END:STANDARD
BEGIN:DAYLIGHT
TZNAME:CEST
TZOFFSETFROM:+0100
TZOFFSETTO:+0200
DTSTART:19440403T020000
RRULE:FREQ=YEARLY;UNTIL=19450402T010000Z;BYMONTH=4;BYDAY=1MO
END:DAYLIGHT
BEGIN:DAYLIGHT
TZNAME:CEMT
TZOFFSETFROM:+0200
TZOFFSETTO:+0300
DTSTART:19450524T020000
RDATE:19470511T030000
END:DAYLIGHT
BEGIN:DAYLIGHT
TZNAME:CEST
TZOFFSETFROM:+0300
TZOFFSETTO:+0200
DTSTART:19450924T030000
RDATE:19470629T030000
END:DAYLIGHT
BEGIN:STANDARD
TZNAME:CET
TZOFFSETFROM:+0100
TZOFFSETTO:+0100
DTSTART:19460101T000000
RDATE:19800101T000000
END:STANDARD
BEGIN:STANDARD
TZNAME:CET
TZOFFSETFROM:+0200
TZOFFSETTO:+0100
DTSTART:19471005T030000
RRULE:FREQ=YEARLY;UNTIL=19491002T010000Z;BYMONTH=10;BYDAY=1SU
END:STANDARD
BEGIN:STANDARD
TZNAME:CET
TZOFFSETFROM:+0200
TZOFFSETTO:+0100
DTSTART:19800928T030000
RRULE:FREQ=YEARLY;UNTIL=19950924T010000Z;BYMONTH=9;BYDAY=-1SU
END:STANDARD
BEGIN:DAYLIGHT
TZNAME:CEST
TZOFFSETFROM:+0100
TZOFFSETTO:+0200
DTSTART:19810329T020000
RRULE:FREQ=YEARLY;BYMONTH=3;BYDAY=-1SU
END:DAYLIGHT
BEGIN:STANDARD
TZNAME:CET
TZOFFSETFROM:+0200
TZOFFSETTO:+0100
DTSTART:19961027T030000
RRULE:FREQ=YEARLY;BYMONTH=10;BYDAY=-1SU
END:STANDARD
END:VTIMEZONE
BEGIN:VEVENT
DTSTAMP:20260424T050407Z
DTSTART;TZID=Europe/Berlin:20260107T194500
DTEND;TZID=Europe/Berlin:20260107T224500
SUMMARY:HE 5. Liga Gr. 3 Birrfeld II vs Lenzburg III (0)
UID:fbe78e68-3589-4bfe-afa3-ab8f05f57a82
STATUS:CONFIRMED
LAST-MODIFIED:20260109T074410Z
DESCRIPTION:5. Liga Herren Gruppe 3\nBegegnungs-Nr: 0\nHeim: Birrfeld II\nGast: Lenzburg III\n\nAdresse: Zentralstrasse 30\, 5242 Birr\n
LOCATION:Zentralstrasse 30\, 5242 Birr
CATEGORIES:Saison 2025/26
END:VEVENT
BEGIN:VEVENT
DTSTAMP:20260424T050407Z
DTSTART;TZID=Europe/Berlin:20260121T194500
DTEND;TZID=Europe/Berlin:20260121T224500
SUMMARY:HE 5. Liga Gr. 3 Birrfeld II vs Olten VI (0)
UID:38177692-409b-4efd-8a47-6de3b065125a
STATUS:CONFIRMED
LAST-MODIFIED:20260123T081854Z
DESCRIPTION:5. Liga Herren Gruppe 3\nBegegnungs-Nr: 0\nHeim: Birrfeld II\nGast: Olten VI\n\nAdresse: Zentralstrasse 30\, 5242 Birr\n
LOCATION:Zentralstrasse 30\, 5242 Birr
CATEGORIES:Saison 2025/26
END:VEVENT
BEGIN:VEVENT
DTSTAMP:20260424T050407Z
DTSTART;TZID=Europe/Berlin:20260311T194500
DTEND;TZID=Europe/Berlin:20260311T224500
SUMMARY:HE 5. Liga Gr. 3 Birrfeld II vs Zofingen IV (0)
UID:6c6eff19-6a5b-4489-a473-63e66b6db563
STATUS:CONFIRMED
LAST-MODIFIED:20260313T125556Z
DESCRIPTION:5. Liga Herren Gruppe 3\nBegegnungs-Nr: 0\nHeim: Birrfeld II\nGast: Zofingen IV\n\nAdresse: Zentralstrasse 30\, 5242 Birr\n
LOCATION:Zentralstrasse 30\, 5242 Birr
CATEGORIES:Saison 2025/26
END:VEVENT
BEGIN:VEVENT
DTSTAMP:20260424T050407Z
DTSTART;TZID=Europe/Berlin:20250827T194500
DTEND;TZID=Europe/Berlin:20250827T224500
SUMMARY:HE 5. Liga Gr. 3 Birrfeld II vs Döttingen V (0)
UID:d6815912-b204-4e7e-8d48-4ff887403c49
STATUS:CONFIRMED
LAST-MODIFIED:20250905T121638Z
DESCRIPTION:5. Liga Herren Gruppe 3\nBegegnungs-Nr: 0\nHeim: Birrfeld II\nGast: Döttingen V\n\nAdresse: Zentralstrasse 30\, 5242 Birr\n
LOCATION:Zentralstrasse 30\, 5242 Birr
CATEGORIES:Saison 2025/26
END:VEVENT
BEGIN:VEVENT
DTSTAMP:20260424T050407Z
DTSTART;TZID=Europe/Berlin:20251015T194500
DTEND;TZID=Europe/Berlin:20251015T224500
SUMMARY:HE 5. Liga Gr. 3 Birrfeld II vs Aarau IV (0)
UID:f9a47fca-04e1-41d8-8751-a3db5f9a86c8
STATUS:CONFIRMED
LAST-MODIFIED:20251016T072200Z
DESCRIPTION:5. Liga Herren Gruppe 3\nBegegnungs-Nr: 0\nHeim: Birrfeld II\nGast: Aarau IV\n\nAdresse: Zentralstrasse 30\, 5242 Birr\n
LOCATION:Zentralstrasse 30\, 5242 Birr
CATEGORIES:Saison 2025/26
END:VEVENT
BEGIN:VEVENT
DTSTAMP:20260424T050407Z
DTSTART;TZID=Europe/Berlin:20251105T194500
DTEND;TZID=Europe/Berlin:20251105T224500
SUMMARY:HE 5. Liga Gr. 3 Birrfeld II vs Frick V (0)
UID:be849b52-ddd1-4758-8989-928751a6abc6
STATUS:CONFIRMED
LAST-MODIFIED:20251107T143417Z
DESCRIPTION:5. Liga Herren Gruppe 3\nBegegnungs-Nr: 0\nHeim: Birrfeld II\nGast: Frick V\n\nAdresse: Zentralstrasse 30\, 5242 Birr\n
LOCATION:Zentralstrasse 30\, 5242 Birr
CATEGORIES:Saison 2025/26
END:VEVENT
BEGIN:VEVENT
DTSTAMP:20260424T050407Z
DTSTART;TZID=Europe/Berlin:20251210T194500
DTEND;TZID=Europe/Berlin:20251210T224500
SUMMARY:HE 5. Liga Gr. 3 Birrfeld II vs BW Rupperswil III (0)
UID:62a3e7b5-1558-40eb-a5fe-65d9a3c97f2d
STATUS:CONFIRMED
LAST-MODIFIED:20251211T112124Z
DESCRIPTION:5. Liga Herren Gruppe 3\nBegegnungs-Nr: 0\nHeim: Birrfeld II\nGast: BW Rupperswil III\n\nAdresse: Zentralstrasse 30\, 5242 Birr\n
LOCATION:Zentralstrasse 30\, 5242 Birr
CATEGORIES:Saison 2025/26
END:VEVENT
BEGIN:VEVENT
DTSTAMP:20260424T050407Z
DTSTART;TZID=Europe/Berlin:20250822T201500
DTEND;TZID=Europe/Berlin:20250822T231500
SUMMARY:HE 5. Liga Gr. 3 Lenzburg III vs Birrfeld II (0)
UID:4589dcea-1476-47d4-ada0-257ad083e0fe
STATUS:CONFIRMED
LAST-MODIFIED:20250918T094730Z
DESCRIPTION:5. Liga Herren Gruppe 3\nBegegnungs-Nr: 0\nHeim: Lenzburg III\nGast: Birrfeld II\n\nAdresse: Turnerweg\, 5600 Lenzburg\n
LOCATION:Turnerweg\, 5600 Lenzburg
CATEGORIES:Saison 2025/26
END:VEVENT
BEGIN:VEVENT
DTSTAMP:20260424T050407Z
DTSTART;TZID=Europe/Berlin:20260113T201500
DTEND;TZID=Europe/Berlin:20260113T231500
SUMMARY:HE 5. Liga Gr. 3 Döttingen V vs Birrfeld II (0)
UID:a2441d57-0dff-41c3-938e-3b2bca2798e2
STATUS:CONFIRMED
LAST-MODIFIED:20260115T094944Z
DESCRIPTION:5. Liga Herren Gruppe 3\nBegegnungs-Nr: 0\nHeim: Döttingen V\nGast: Birrfeld II\n\nAdresse: Im Bogen\, Chilbert 25\, 5312 Döttingen\n
LOCATION:Im Bogen\, Chilbert 25\, 5312 Döttingen
CATEGORIES:Saison 2025/26
END:VEVENT
BEGIN:VEVENT
DTSTAMP:20260424T050407Z
DTSTART;TZID=Europe/Berlin:20260211T194500
DTEND;TZID=Europe/Berlin:20260211T224500
SUMMARY:HE 5. Liga Gr. 3 Aarau IV vs Birrfeld II (0)
UID:dd34b9e4-ad4f-4fb2-9224-e9c447ab2026
STATUS:CONFIRMED
LAST-MODIFIED:20260212T100251Z
DESCRIPTION:5. Liga Herren Gruppe 3\nBegegnungs-Nr: 0\nHeim: Aarau IV\nGast: Birrfeld II\n\nAdresse: Weltistrasse 20\, 5000 Aarau\n
LOCATION:Weltistrasse 20\, 5000 Aarau
CATEGORIES:Saison 2025/26
END:VEVENT
BEGIN:VEVENT
DTSTAMP:20260424T050407Z
DTSTART;TZID=Europe/Berlin:20260223T200000
DTEND;TZID=Europe/Berlin:20260223T230000
SUMMARY:HE 5. Liga Gr. 3 Frick V vs Birrfeld II (0)
UID:ec44697a-7274-4511-ba57-4537474971ce
STATUS:CONFIRMED
LAST-MODIFIED:20260225T111911Z
DESCRIPTION:5. Liga Herren Gruppe 3\nBegegnungs-Nr: 0\nHeim: Frick V\nGast: Birrfeld II\n\nAdresse: Schulstrasse 51\, 5070 Frick\n
LOCATION:Schulstrasse 51\, 5070 Frick
CATEGORIES:Saison 2025/26
END:VEVENT
BEGIN:VEVENT
DTSTAMP:20260424T050407Z
DTSTART;TZID=Europe/Berlin:20260325T200000
DTEND;TZID=Europe/Berlin:20260325T230000
SUMMARY:HE 5. Liga Gr. 3 BW Rupperswil III vs Birrfeld II (0)
UID:ad02aea3-def9-43f5-8c8b-af14f7622884
STATUS:CONFIRMED
LAST-MODIFIED:20260416T094138Z
DESCRIPTION:5. Liga Herren Gruppe 3\nBegegnungs-Nr: 0\nHeim: BW Rupperswil III\nGast: Birrfeld II\n\nAdresse: -\, 5102 Rupperswil\n
LOCATION:-\, 5102 Rupperswil
CATEGORIES:Saison 2025/26
END:VEVENT
BEGIN:VEVENT
DTSTAMP:20260424T050407Z
DTSTART;TZID=Europe/Berlin:20250915T194500
DTEND;TZID=Europe/Berlin:20250915T224500
SUMMARY:HE 5. Liga Gr. 3 Olten VI vs Birrfeld II (0)
UID:6c0754a9-809d-4393-a5f7-af424827adc7
STATUS:CONFIRMED
LAST-MODIFIED:20250918T095402Z
DESCRIPTION:5. Liga Herren Gruppe 3\nBegegnungs-Nr: 0\nHeim: Olten VI\nGast: Birrfeld II\n\nAdresse: Lostorferstrasse 16\, 4652 Winznau\n
LOCATION:Lostorferstrasse 16\, 4652 Winznau
CATEGORIES:Saison 2025/26
END:VEVENT
BEGIN:VEVENT
DTSTAMP:20260424T050407Z
DTSTART;TZID=Europe/Berlin:20251119T194500
DTEND;TZID=Europe/Berlin:20251119T224500
SUMMARY:HE 5. Liga Gr. 3 Zofingen IV vs Birrfeld II (0)
UID:bc29e270-28b1-4de5-9e63-d7f890a62832
STATUS:CONFIRMED
LAST-MODIFIED:20251121T093528Z
DESCRIPTION:5. Liga Herren Gruppe 3\nBegegnungs-Nr: 0\nHeim: Zofingen IV\nGast: Birrfeld II\n\nAdresse: Kreuzplatz\, 4802 Strengelbach\n
LOCATION:Kreuzplatz\, 4802 Strengelbach
CATEGORIES:Saison 2025/26
END:VEVENT
END:VCALENDAR
