BEGIN:VCALENDAR
PRODID:-//nuDatenautomaten//framework iCal4j //DE
VERSION:2.0
CALSCALE:GREGORIAN
BEGIN:VTIMEZONE
TZID:Europe/Berlin
LAST-MODIFIED:20260306T231828Z
TZURL:https://www.tzurl.org/zoneinfo/Europe/Berlin
X-LIC-LOCATION:Europe/Berlin
X-PROLEPTIC-TZNAME:LMT
BEGIN:STANDARD
TZNAME:CET
TZOFFSETFROM:+005328
TZOFFSETTO:+0100
DTSTART:18930401T000000
END:STANDARD
BEGIN:DAYLIGHT
TZNAME:CEST
TZOFFSETFROM:+0100
TZOFFSETTO:+0200
DTSTART:19160430T230000
RDATE:19400401T020000
RDATE:19430329T020000
RDATE:19460414T020000
RDATE:19470406T030000
RDATE:19480418T020000
RDATE:19490410T020000
RDATE:19800406T020000
END:DAYLIGHT
BEGIN:STANDARD
TZNAME:CET
TZOFFSETFROM:+0200
TZOFFSETTO:+0100
DTSTART:19161001T010000
RDATE:19421102T030000
RDATE:19431004T030000
RDATE:19441002T030000
RDATE:19451118T030000
RDATE:19461007T030000
END:STANDARD
BEGIN:DAYLIGHT
TZNAME:CEST
TZOFFSETFROM:+0100
TZOFFSETTO:+0200
DTSTART:19170416T020000
RRULE:FREQ=YEARLY;UNTIL=19180415T010000Z;BYMONTH=4;BYDAY=3MO
END:DAYLIGHT
BEGIN:STANDARD
TZNAME:CET
TZOFFSETFROM:+0200
TZOFFSETTO:+0100
DTSTART:19170917T030000
RRULE:FREQ=YEARLY;UNTIL=19180916T010000Z;BYMONTH=9;BYDAY=3MO
END:STANDARD
BEGIN:DAYLIGHT
TZNAME:CEST
TZOFFSETFROM:+0100
TZOFFSETTO:+0200
DTSTART:19440403T020000
RRULE:FREQ=YEARLY;UNTIL=19450402T010000Z;BYMONTH=4;BYDAY=1MO
END:DAYLIGHT
BEGIN:DAYLIGHT
TZNAME:CEMT
TZOFFSETFROM:+0200
TZOFFSETTO:+0300
DTSTART:19450524T020000
RDATE:19470511T030000
END:DAYLIGHT
BEGIN:DAYLIGHT
TZNAME:CEST
TZOFFSETFROM:+0300
TZOFFSETTO:+0200
DTSTART:19450924T030000
RDATE:19470629T030000
END:DAYLIGHT
BEGIN:STANDARD
TZNAME:CET
TZOFFSETFROM:+0100
TZOFFSETTO:+0100
DTSTART:19460101T000000
RDATE:19800101T000000
END:STANDARD
BEGIN:STANDARD
TZNAME:CET
TZOFFSETFROM:+0200
TZOFFSETTO:+0100
DTSTART:19471005T030000
RRULE:FREQ=YEARLY;UNTIL=19491002T010000Z;BYMONTH=10;BYDAY=1SU
END:STANDARD
BEGIN:STANDARD
TZNAME:CET
TZOFFSETFROM:+0200
TZOFFSETTO:+0100
DTSTART:19800928T030000
RRULE:FREQ=YEARLY;UNTIL=19950924T010000Z;BYMONTH=9;BYDAY=-1SU
END:STANDARD
BEGIN:DAYLIGHT
TZNAME:CEST
TZOFFSETFROM:+0100
TZOFFSETTO:+0200
DTSTART:19810329T020000
RRULE:FREQ=YEARLY;BYMONTH=3;BYDAY=-1SU
END:DAYLIGHT
BEGIN:STANDARD
TZNAME:CET
TZOFFSETFROM:+0200
TZOFFSETTO:+0100
DTSTART:19961027T030000
RRULE:FREQ=YEARLY;BYMONTH=10;BYDAY=-1SU
END:STANDARD
END:VTIMEZONE
BEGIN:VEVENT
DTSTAMP:20260424T181716Z
DTSTART;TZID=Europe/Berlin:20251212T190000
DTEND;TZID=Europe/Berlin:20251212T220000
SUMMARY:HE 6. Liga Gr. 1 Allschwil vs Aesch V (null)
UID:87d6e342-f06d-42e6-a735-fd808553ec24
STATUS:CONFIRMED
LAST-MODIFIED:20251216T122249Z
DESCRIPTION:6. Liga Herren Gruppe 1\nBegegnungs-Nr: null\nHeim: Allschwil\nGast: Aesch V\n\nAdresse: Schönenbuchstrasse 12\, 4123 Allschwil\n
LOCATION:Schönenbuchstrasse 12\, 4123 Allschwil
CATEGORIES:Saison 2025/26
END:VEVENT
BEGIN:VEVENT
DTSTAMP:20260424T181716Z
DTSTART;TZID=Europe/Berlin:20250829T193000
DTEND;TZID=Europe/Berlin:20250829T223000
SUMMARY:HE 6. Liga Gr. 1 Allschwil vs KV Liestal V (null)
UID:34cb7b00-6ce7-4ff6-8492-4d5500a02a05
STATUS:CONFIRMED
LAST-MODIFIED:20250905T121839Z
DESCRIPTION:6. Liga Herren Gruppe 1\nBegegnungs-Nr: null\nHeim: Allschwil\nGast: KV Liestal V\n\nAdresse: Schönenbuchstrasse 12\, 4123 Allschwil\n
LOCATION:Schönenbuchstrasse 12\, 4123 Allschwil
CATEGORIES:Saison 2025/26
END:VEVENT
BEGIN:VEVENT
DTSTAMP:20260424T181716Z
DTSTART;TZID=Europe/Berlin:20250919T190000
DTEND;TZID=Europe/Berlin:20250919T220000
SUMMARY:HE 6. Liga Gr. 1 Allschwil vs Binningen IV (null)
UID:c9ca7668-4919-40bc-8258-961d90684cba
STATUS:CONFIRMED
LAST-MODIFIED:20250926T124015Z
DESCRIPTION:6. Liga Herren Gruppe 1\nBegegnungs-Nr: null\nHeim: Allschwil\nGast: Binningen IV\n\nAdresse: Schönenbuchstrasse 12\, 4123 Allschwil\n
LOCATION:Schönenbuchstrasse 12\, 4123 Allschwil
CATEGORIES:Saison 2025/26
END:VEVENT
BEGIN:VEVENT
DTSTAMP:20260424T181716Z
DTSTART;TZID=Europe/Berlin:20251114T190000
DTEND;TZID=Europe/Berlin:20251114T220000
SUMMARY:HE 6. Liga Gr. 1 Allschwil vs Old Boys Basel IV (null)
UID:44bd0f0d-9b70-4df3-b86c-dd1f35ed3cb6
STATUS:CONFIRMED
LAST-MODIFIED:20251119T123254Z
DESCRIPTION:6. Liga Herren Gruppe 1\nBegegnungs-Nr: null\nHeim: Allschwil\nGast: Old Boys Basel IV\n\nAdresse: Schönenbuchstrasse 12\, 4123 Allschwil\n
LOCATION:Schönenbuchstrasse 12\, 4123 Allschwil
CATEGORIES:Saison 2025/26
END:VEVENT
BEGIN:VEVENT
DTSTAMP:20260424T181716Z
DTSTART;TZID=Europe/Berlin:20260123T190000
DTEND;TZID=Europe/Berlin:20260123T220000
SUMMARY:HE 6. Liga Gr. 1 Allschwil vs Basel XII (null)
UID:da4d9fbd-8b48-4496-9c7c-16b65b580740
STATUS:CONFIRMED
LAST-MODIFIED:20260130T135636Z
DESCRIPTION:6. Liga Herren Gruppe 1\nBegegnungs-Nr: null\nHeim: Allschwil\nGast: Basel XII\n\nAdresse: Schönenbuchstrasse 12\, 4123 Allschwil\n
LOCATION:Schönenbuchstrasse 12\, 4123 Allschwil
CATEGORIES:Saison 2025/26
END:VEVENT
BEGIN:VEVENT
DTSTAMP:20260424T181716Z
DTSTART;TZID=Europe/Berlin:20260213T190000
DTEND;TZID=Europe/Berlin:20260213T220000
SUMMARY:HE 6. Liga Gr. 1 Allschwil vs Copains Birsfelden V (null)
UID:67fb2732-55cd-497e-ab09-d30622a4402c
STATUS:CONFIRMED
LAST-MODIFIED:20260218T071641Z
DESCRIPTION:6. Liga Herren Gruppe 1\nBegegnungs-Nr: null\nHeim: Allschwil\nGast: Copains Birsfelden V\n\nAdresse: Schönenbuchstrasse 12\, 4123 Allschwil\n
LOCATION:Schönenbuchstrasse 12\, 4123 Allschwil
CATEGORIES:Saison 2025/26
END:VEVENT
BEGIN:VEVENT
DTSTAMP:20260424T181716Z
DTSTART;TZID=Europe/Berlin:20260313T190000
DTEND;TZID=Europe/Berlin:20260313T220000
SUMMARY:HE 6. Liga Gr. 1 Allschwil vs Oberwil VII (null)
UID:e356e2c5-fbcc-4153-83e8-86468b104749
STATUS:CONFIRMED
LAST-MODIFIED:20260318T110241Z
DESCRIPTION:6. Liga Herren Gruppe 1\nBegegnungs-Nr: null\nHeim: Allschwil\nGast: Oberwil VII\n\nAdresse: Schönenbuchstrasse 12\, 4123 Allschwil\n
LOCATION:Schönenbuchstrasse 12\, 4123 Allschwil
CATEGORIES:Saison 2025/26
END:VEVENT
BEGIN:VEVENT
DTSTAMP:20260424T181716Z
DTSTART;TZID=Europe/Berlin:20250912T200000
DTEND;TZID=Europe/Berlin:20250912T230000
SUMMARY:HE 6. Liga Gr. 1 Basel XII vs Allschwil (null)
UID:2279e21b-d31d-421d-b18d-b565d2eeb269
STATUS:CONFIRMED
LAST-MODIFIED:20250918T095544Z
DESCRIPTION:6. Liga Herren Gruppe 1\nBegegnungs-Nr: null\nHeim: Basel XII\nGast: Allschwil\n\nAdresse: Schwarzwaldallee 107\, 4058 Basel\n
LOCATION:Schwarzwaldallee 107\, 4058 Basel
CATEGORIES:Saison 2025/26
END:VEVENT
BEGIN:VEVENT
DTSTAMP:20260424T181716Z
DTSTART;TZID=Europe/Berlin:20251022T191500
DTEND;TZID=Europe/Berlin:20251022T221500
SUMMARY:HE 6. Liga Gr. 1 Copains Birsfelden V vs Allschwil (null)
UID:f3390803-7d0e-40ff-a713-b8b5bf2351e8
STATUS:CONFIRMED
LAST-MODIFIED:20251023T142027Z
DESCRIPTION:6. Liga Herren Gruppe 1\nBegegnungs-Nr: null\nHeim: Copains Birsfelden V\nGast: Allschwil\n\nAdresse: Wartenbergstrasse (Hintereingang)\, 4127 Birsfelden\n
LOCATION:Wartenbergstrasse (Hintereingang)\, 4127 Birsfelden
CATEGORIES:Saison 2025/26
END:VEVENT
BEGIN:VEVENT
DTSTAMP:20260424T181716Z
DTSTART;TZID=Europe/Berlin:20251204T194500
DTEND;TZID=Europe/Berlin:20251204T224500
SUMMARY:HE 6. Liga Gr. 1 Oberwil VII vs Allschwil (null)
UID:c048c95e-b6a7-47d5-9f0c-3565ac0ce866
STATUS:CONFIRMED
LAST-MODIFIED:20251205T123425Z
DESCRIPTION:6. Liga Herren Gruppe 1\nBegegnungs-Nr: null\nHeim: Oberwil VII\nGast: Allschwil\n\nAdresse: Schulstrasse\, 4104 Oberwil\n
LOCATION:Schulstrasse\, 4104 Oberwil
CATEGORIES:Saison 2025/26
END:VEVENT
BEGIN:VEVENT
DTSTAMP:20260424T181716Z
DTSTART;TZID=Europe/Berlin:20260130T200000
DTEND;TZID=Europe/Berlin:20260130T230000
SUMMARY:HE 6. Liga Gr. 1 Binningen IV vs Allschwil (null)
UID:0e5db721-c987-48e5-914a-2591ce54a428
STATUS:CONFIRMED
LAST-MODIFIED:20260203T141618Z
DESCRIPTION:6. Liga Herren Gruppe 1\nBegegnungs-Nr: null\nHeim: Binningen IV\nGast: Allschwil\n\nAdresse: Rottmannsbodenstr./Neusatzweg\, 4102 Binningen\n
LOCATION:Rottmannsbodenstr./Neusatzweg\, 4102 Binningen
CATEGORIES:Saison 2025/26
END:VEVENT
BEGIN:VEVENT
DTSTAMP:20260424T181716Z
DTSTART;TZID=Europe/Berlin:20260108T200000
DTEND;TZID=Europe/Berlin:20260108T230000
SUMMARY:HE 6. Liga Gr. 1 KV Liestal V vs Allschwil (null)
UID:d7a9a8f6-d562-4a0c-8c97-983ad293dced
STATUS:CONFIRMED
LAST-MODIFIED:20260109T074443Z
DESCRIPTION:6. Liga Herren Gruppe 1\nBegegnungs-Nr: null\nHeim: KV Liestal V\nGast: Allschwil\n\nAdresse: Büchelistrasse\, 4410 Liestal\n
LOCATION:Büchelistrasse\, 4410 Liestal
CATEGORIES:Saison 2025/26
END:VEVENT
BEGIN:VEVENT
DTSTAMP:20260424T181716Z
DTSTART;TZID=Europe/Berlin:20260306T193000
DTEND;TZID=Europe/Berlin:20260306T223000
SUMMARY:HE 6. Liga Gr. 1 Old Boys Basel IV vs Allschwil (null)
UID:ffc0e6cc-8221-4fbf-90e8-b278ab2e0a0c
STATUS:CONFIRMED
LAST-MODIFIED:20260313T130850Z
DESCRIPTION:6. Liga Herren Gruppe 1\nBegegnungs-Nr: null\nHeim: Old Boys Basel IV\nGast: Allschwil\n\nAdresse: 5 Rue Saint-Exupéry\, \, 683020 St. Louis\n
LOCATION:5 Rue Saint-Exupéry\, \, 683020 St. Louis
CATEGORIES:Saison 2025/26
END:VEVENT
BEGIN:VEVENT
DTSTAMP:20260424T181716Z
DTSTART;TZID=Europe/Berlin:20260320T193000
DTEND;TZID=Europe/Berlin:20260320T223000
SUMMARY:HE 6. Liga Gr. 1 Aesch V vs Allschwil (null)
UID:392586ed-df0e-4f97-9105-d8203b980e13
STATUS:CONFIRMED
LAST-MODIFIED:20260416T094253Z
DESCRIPTION:6. Liga Herren Gruppe 1\nBegegnungs-Nr: null\nHeim: Aesch V\nGast: Allschwil\n\nAdresse: Dornacherstrasse\, 4147 Aesch\n
LOCATION:Dornacherstrasse\, 4147 Aesch
CATEGORIES:Saison 2025/26
END:VEVENT
END:VCALENDAR
