BEGIN:VCALENDAR
PRODID:-//nuDatenautomaten//framework iCal4j //DE
VERSION:2.0
CALSCALE:GREGORIAN
BEGIN:VTIMEZONE
TZID:Europe/Berlin
LAST-MODIFIED:20260306T231828Z
TZURL:https://www.tzurl.org/zoneinfo/Europe/Berlin
X-LIC-LOCATION:Europe/Berlin
X-PROLEPTIC-TZNAME:LMT
BEGIN:STANDARD
TZNAME:CET
TZOFFSETFROM:+005328
TZOFFSETTO:+0100
DTSTART:18930401T000000
END:STANDARD
BEGIN:DAYLIGHT
TZNAME:CEST
TZOFFSETFROM:+0100
TZOFFSETTO:+0200
DTSTART:19160430T230000
RDATE:19400401T020000
RDATE:19430329T020000
RDATE:19460414T020000
RDATE:19470406T030000
RDATE:19480418T020000
RDATE:19490410T020000
RDATE:19800406T020000
END:DAYLIGHT
BEGIN:STANDARD
TZNAME:CET
TZOFFSETFROM:+0200
TZOFFSETTO:+0100
DTSTART:19161001T010000
RDATE:19421102T030000
RDATE:19431004T030000
RDATE:19441002T030000
RDATE:19451118T030000
RDATE:19461007T030000
END:STANDARD
BEGIN:DAYLIGHT
TZNAME:CEST
TZOFFSETFROM:+0100
TZOFFSETTO:+0200
DTSTART:19170416T020000
RRULE:FREQ=YEARLY;UNTIL=19180415T010000Z;BYMONTH=4;BYDAY=3MO
END:DAYLIGHT
BEGIN:STANDARD
TZNAME:CET
TZOFFSETFROM:+0200
TZOFFSETTO:+0100
DTSTART:19170917T030000
RRULE:FREQ=YEARLY;UNTIL=19180916T010000Z;BYMONTH=9;BYDAY=3MO
END:STANDARD
BEGIN:DAYLIGHT
TZNAME:CEST
TZOFFSETFROM:+0100
TZOFFSETTO:+0200
DTSTART:19440403T020000
RRULE:FREQ=YEARLY;UNTIL=19450402T010000Z;BYMONTH=4;BYDAY=1MO
END:DAYLIGHT
BEGIN:DAYLIGHT
TZNAME:CEMT
TZOFFSETFROM:+0200
TZOFFSETTO:+0300
DTSTART:19450524T020000
RDATE:19470511T030000
END:DAYLIGHT
BEGIN:DAYLIGHT
TZNAME:CEST
TZOFFSETFROM:+0300
TZOFFSETTO:+0200
DTSTART:19450924T030000
RDATE:19470629T030000
END:DAYLIGHT
BEGIN:STANDARD
TZNAME:CET
TZOFFSETFROM:+0100
TZOFFSETTO:+0100
DTSTART:19460101T000000
RDATE:19800101T000000
END:STANDARD
BEGIN:STANDARD
TZNAME:CET
TZOFFSETFROM:+0200
TZOFFSETTO:+0100
DTSTART:19471005T030000
RRULE:FREQ=YEARLY;UNTIL=19491002T010000Z;BYMONTH=10;BYDAY=1SU
END:STANDARD
BEGIN:STANDARD
TZNAME:CET
TZOFFSETFROM:+0200
TZOFFSETTO:+0100
DTSTART:19800928T030000
RRULE:FREQ=YEARLY;UNTIL=19950924T010000Z;BYMONTH=9;BYDAY=-1SU
END:STANDARD
BEGIN:DAYLIGHT
TZNAME:CEST
TZOFFSETFROM:+0100
TZOFFSETTO:+0200
DTSTART:19810329T020000
RRULE:FREQ=YEARLY;BYMONTH=3;BYDAY=-1SU
END:DAYLIGHT
BEGIN:STANDARD
TZNAME:CET
TZOFFSETFROM:+0200
TZOFFSETTO:+0100
DTSTART:19961027T030000
RRULE:FREQ=YEARLY;BYMONTH=10;BYDAY=-1SU
END:STANDARD
END:VTIMEZONE
BEGIN:VEVENT
DTSTAMP:20260424T151608Z
DTSTART;TZID=Europe/Berlin:20250912T193000
DTEND;TZID=Europe/Berlin:20250912T223000
SUMMARY:HE 6. Liga Gr. 1 Aesch V vs Copains Birsfelden V (null)
UID:2413923c-4dcc-4a5a-bde2-07af8290ce1a
STATUS:CONFIRMED
LAST-MODIFIED:20250918T095502Z
DESCRIPTION:6. Liga Herren Gruppe 1\nBegegnungs-Nr: null\nHeim: Aesch V\nGast: Copains Birsfelden V\n\nAdresse: Dornacherstrasse\, 4147 Aesch\n
LOCATION:Dornacherstrasse\, 4147 Aesch
CATEGORIES:Saison 2025/26
END:VEVENT
BEGIN:VEVENT
DTSTAMP:20260424T151608Z
DTSTART;TZID=Europe/Berlin:20250919T193000
DTEND;TZID=Europe/Berlin:20250919T223000
SUMMARY:HE 6. Liga Gr. 1 Aesch V vs Basel XII (null)
UID:ee9b6662-ea42-431f-aa8c-913ac0c01175
STATUS:CONFIRMED
LAST-MODIFIED:20250926T124031Z
DESCRIPTION:6. Liga Herren Gruppe 1\nBegegnungs-Nr: null\nHeim: Aesch V\nGast: Basel XII\n\nAdresse: Dornacherstrasse\, 4147 Aesch\n
LOCATION:Dornacherstrasse\, 4147 Aesch
CATEGORIES:Saison 2025/26
END:VEVENT
BEGIN:VEVENT
DTSTAMP:20260424T151608Z
DTSTART;TZID=Europe/Berlin:20251114T193000
DTEND;TZID=Europe/Berlin:20251114T223000
SUMMARY:HE 6. Liga Gr. 1 Aesch V vs Oberwil VII (null)
UID:46ef65a6-c7e0-40b6-810c-e09feefb2b74
STATUS:CONFIRMED
LAST-MODIFIED:20251119T123302Z
DESCRIPTION:6. Liga Herren Gruppe 1\nBegegnungs-Nr: null\nHeim: Aesch V\nGast: Oberwil VII\n\nAdresse: Dornacherstrasse\, 4147 Aesch\n
LOCATION:Dornacherstrasse\, 4147 Aesch
CATEGORIES:Saison 2025/26
END:VEVENT
BEGIN:VEVENT
DTSTAMP:20260424T151608Z
DTSTART;TZID=Europe/Berlin:20260123T193000
DTEND;TZID=Europe/Berlin:20260123T223000
SUMMARY:HE 6. Liga Gr. 1 Aesch V vs KV Liestal V (null)
UID:c8898f15-c248-4079-b8dd-fa280859641f
STATUS:CONFIRMED
LAST-MODIFIED:20260130T133505Z
DESCRIPTION:6. Liga Herren Gruppe 1\nBegegnungs-Nr: null\nHeim: Aesch V\nGast: KV Liestal V\n\nAdresse: Dornacherstrasse\, 4147 Aesch\n
LOCATION:Dornacherstrasse\, 4147 Aesch
CATEGORIES:Saison 2025/26
END:VEVENT
BEGIN:VEVENT
DTSTAMP:20260424T151608Z
DTSTART;TZID=Europe/Berlin:20260206T193000
DTEND;TZID=Europe/Berlin:20260206T223000
SUMMARY:HE 6. Liga Gr. 1 Aesch V vs Binningen IV (null)
UID:ab039901-21a8-4f53-86a0-602fd5219567
STATUS:CONFIRMED
LAST-MODIFIED:20260211T100525Z
DESCRIPTION:6. Liga Herren Gruppe 1\nBegegnungs-Nr: null\nHeim: Aesch V\nGast: Binningen IV\n\nAdresse: Dornacherstrasse\, 4147 Aesch\n
LOCATION:Dornacherstrasse\, 4147 Aesch
CATEGORIES:Saison 2025/26
END:VEVENT
BEGIN:VEVENT
DTSTAMP:20260424T151608Z
DTSTART;TZID=Europe/Berlin:20260313T193000
DTEND;TZID=Europe/Berlin:20260313T223000
SUMMARY:HE 6. Liga Gr. 1 Aesch V vs Old Boys Basel IV (null)
UID:8e9b3c0c-fa6f-4a47-9ab0-8ccefebc7dd3
STATUS:CONFIRMED
LAST-MODIFIED:20260420T134420Z
DESCRIPTION:6. Liga Herren Gruppe 1\nBegegnungs-Nr: null\nHeim: Aesch V\nGast: Old Boys Basel IV\n\nAdresse: Dornacherstrasse\, 4147 Aesch\n
LOCATION:Dornacherstrasse\, 4147 Aesch
CATEGORIES:Saison 2025/26
END:VEVENT
BEGIN:VEVENT
DTSTAMP:20260424T151608Z
DTSTART;TZID=Europe/Berlin:20260320T193000
DTEND;TZID=Europe/Berlin:20260320T223000
SUMMARY:HE 6. Liga Gr. 1 Aesch V vs Allschwil (null)
UID:392586ed-df0e-4f97-9105-d8203b980e13
STATUS:CONFIRMED
LAST-MODIFIED:20260416T094253Z
DESCRIPTION:6. Liga Herren Gruppe 1\nBegegnungs-Nr: null\nHeim: Aesch V\nGast: Allschwil\n\nAdresse: Dornacherstrasse\, 4147 Aesch\n
LOCATION:Dornacherstrasse\, 4147 Aesch
CATEGORIES:Saison 2025/26
END:VEVENT
BEGIN:VEVENT
DTSTAMP:20260424T151608Z
DTSTART;TZID=Europe/Berlin:20251212T190000
DTEND;TZID=Europe/Berlin:20251212T220000
SUMMARY:HE 6. Liga Gr. 1 Allschwil vs Aesch V (null)
UID:87d6e342-f06d-42e6-a735-fd808553ec24
STATUS:CONFIRMED
LAST-MODIFIED:20251216T122249Z
DESCRIPTION:6. Liga Herren Gruppe 1\nBegegnungs-Nr: null\nHeim: Allschwil\nGast: Aesch V\n\nAdresse: Schönenbuchstrasse 12\, 4123 Allschwil\n
LOCATION:Schönenbuchstrasse 12\, 4123 Allschwil
CATEGORIES:Saison 2025/26
END:VEVENT
BEGIN:VEVENT
DTSTAMP:20260424T151608Z
DTSTART;TZID=Europe/Berlin:20251021T200000
DTEND;TZID=Europe/Berlin:20251021T230000
SUMMARY:HE 6. Liga Gr. 1 KV Liestal V vs Aesch V (null)
UID:473df1a8-51cb-4cc9-a5e8-7a6220985adf
STATUS:CONFIRMED
LAST-MODIFIED:20251022T114007Z
DESCRIPTION:6. Liga Herren Gruppe 1\nBegegnungs-Nr: null\nHeim: KV Liestal V\nGast: Aesch V\n\nAdresse: Büchelistrasse\, 4410 Liestal\n
LOCATION:Büchelistrasse\, 4410 Liestal
CATEGORIES:Saison 2025/26
END:VEVENT
BEGIN:VEVENT
DTSTAMP:20260424T151608Z
DTSTART;TZID=Europe/Berlin:20251017T200000
DTEND;TZID=Europe/Berlin:20251017T230000
SUMMARY:HE 6. Liga Gr. 1 Binningen IV vs Aesch V (null)
UID:cb68c28c-99b5-44b9-859c-98797b5253ae
STATUS:CONFIRMED
LAST-MODIFIED:20251020T113028Z
DESCRIPTION:6. Liga Herren Gruppe 1\nBegegnungs-Nr: null\nHeim: Binningen IV\nGast: Aesch V\n\nAdresse: Rottmannsbodenstr./Neusatzweg\, 4102 Binningen\n
LOCATION:Rottmannsbodenstr./Neusatzweg\, 4102 Binningen
CATEGORIES:Saison 2025/26
END:VEVENT
BEGIN:VEVENT
DTSTAMP:20260424T151608Z
DTSTART;TZID=Europe/Berlin:20251128T193000
DTEND;TZID=Europe/Berlin:20251128T223000
SUMMARY:HE 6. Liga Gr. 1 Old Boys Basel IV vs Aesch V (null)
UID:34fb7cf8-a30b-4336-ae8a-c81575e7dc3f
STATUS:CONFIRMED
LAST-MODIFIED:20251201T142115Z
DESCRIPTION:6. Liga Herren Gruppe 1\nBegegnungs-Nr: null\nHeim: Old Boys Basel IV\nGast: Aesch V\n\nAdresse: 5 Rue Saint-Exupéry\, \, 683020 St. Louis\n
LOCATION:5 Rue Saint-Exupéry\, \, 683020 St. Louis
CATEGORIES:Saison 2025/26
END:VEVENT
BEGIN:VEVENT
DTSTAMP:20260424T151608Z
DTSTART;TZID=Europe/Berlin:20260108T191500
DTEND;TZID=Europe/Berlin:20260108T221500
SUMMARY:HE 6. Liga Gr. 1 Copains Birsfelden V vs Aesch V (null)
UID:7e1270a1-bc2b-47cc-bf74-a4dbcfdee49c
STATUS:CONFIRMED
LAST-MODIFIED:20260115T095006Z
DESCRIPTION:6. Liga Herren Gruppe 1\nBegegnungs-Nr: null\nHeim: Copains Birsfelden V\nGast: Aesch V\n\nAdresse: Wartenbergstrasse (Hintereingang)\, 4127 Birsfelden\n
LOCATION:Wartenbergstrasse (Hintereingang)\, 4127 Birsfelden
CATEGORIES:Saison 2025/26
END:VEVENT
BEGIN:VEVENT
DTSTAMP:20260424T151608Z
DTSTART;TZID=Europe/Berlin:20260130T200000
DTEND;TZID=Europe/Berlin:20260130T230000
SUMMARY:HE 6. Liga Gr. 1 Basel XII vs Aesch V (null)
UID:3dcd302f-c586-4ec2-a4f7-0783f7ede0db
STATUS:CONFIRMED
LAST-MODIFIED:20260211T100406Z
DESCRIPTION:6. Liga Herren Gruppe 1\nBegegnungs-Nr: null\nHeim: Basel XII\nGast: Aesch V\n\nAdresse: Schwarzwaldallee 107\, 4058 Basel\n
LOCATION:Schwarzwaldallee 107\, 4058 Basel
CATEGORIES:Saison 2025/26
END:VEVENT
BEGIN:VEVENT
DTSTAMP:20260424T151608Z
DTSTART;TZID=Europe/Berlin:20260302T194500
DTEND;TZID=Europe/Berlin:20260302T224500
SUMMARY:HE 6. Liga Gr. 1 Oberwil VII vs Aesch V (null)
UID:a91ce977-6869-485c-8c81-f15aed56e15c
STATUS:CONFIRMED
LAST-MODIFIED:20260304T104403Z
DESCRIPTION:6. Liga Herren Gruppe 1\nBegegnungs-Nr: null\nHeim: Oberwil VII\nGast: Aesch V\n\nAdresse: Schulstrasse\, 4104 Oberwil\n
LOCATION:Schulstrasse\, 4104 Oberwil
CATEGORIES:Saison 2025/26
END:VEVENT
END:VCALENDAR
