BEGIN:VCALENDAR
PRODID:-//nuDatenautomaten//framework iCal4j //DE
VERSION:2.0
CALSCALE:GREGORIAN
BEGIN:VTIMEZONE
TZID:Europe/Berlin
LAST-MODIFIED:20260306T231828Z
TZURL:https://www.tzurl.org/zoneinfo/Europe/Berlin
X-LIC-LOCATION:Europe/Berlin
X-PROLEPTIC-TZNAME:LMT
BEGIN:STANDARD
TZNAME:CET
TZOFFSETFROM:+005328
TZOFFSETTO:+0100
DTSTART:18930401T000000
END:STANDARD
BEGIN:DAYLIGHT
TZNAME:CEST
TZOFFSETFROM:+0100
TZOFFSETTO:+0200
DTSTART:19160430T230000
RDATE:19400401T020000
RDATE:19430329T020000
RDATE:19460414T020000
RDATE:19470406T030000
RDATE:19480418T020000
RDATE:19490410T020000
RDATE:19800406T020000
END:DAYLIGHT
BEGIN:STANDARD
TZNAME:CET
TZOFFSETFROM:+0200
TZOFFSETTO:+0100
DTSTART:19161001T010000
RDATE:19421102T030000
RDATE:19431004T030000
RDATE:19441002T030000
RDATE:19451118T030000
RDATE:19461007T030000
END:STANDARD
BEGIN:DAYLIGHT
TZNAME:CEST
TZOFFSETFROM:+0100
TZOFFSETTO:+0200
DTSTART:19170416T020000
RRULE:FREQ=YEARLY;UNTIL=19180415T010000Z;BYMONTH=4;BYDAY=3MO
END:DAYLIGHT
BEGIN:STANDARD
TZNAME:CET
TZOFFSETFROM:+0200
TZOFFSETTO:+0100
DTSTART:19170917T030000
RRULE:FREQ=YEARLY;UNTIL=19180916T010000Z;BYMONTH=9;BYDAY=3MO
END:STANDARD
BEGIN:DAYLIGHT
TZNAME:CEST
TZOFFSETFROM:+0100
TZOFFSETTO:+0200
DTSTART:19440403T020000
RRULE:FREQ=YEARLY;UNTIL=19450402T010000Z;BYMONTH=4;BYDAY=1MO
END:DAYLIGHT
BEGIN:DAYLIGHT
TZNAME:CEMT
TZOFFSETFROM:+0200
TZOFFSETTO:+0300
DTSTART:19450524T020000
RDATE:19470511T030000
END:DAYLIGHT
BEGIN:DAYLIGHT
TZNAME:CEST
TZOFFSETFROM:+0300
TZOFFSETTO:+0200
DTSTART:19450924T030000
RDATE:19470629T030000
END:DAYLIGHT
BEGIN:STANDARD
TZNAME:CET
TZOFFSETFROM:+0100
TZOFFSETTO:+0100
DTSTART:19460101T000000
RDATE:19800101T000000
END:STANDARD
BEGIN:STANDARD
TZNAME:CET
TZOFFSETFROM:+0200
TZOFFSETTO:+0100
DTSTART:19471005T030000
RRULE:FREQ=YEARLY;UNTIL=19491002T010000Z;BYMONTH=10;BYDAY=1SU
END:STANDARD
BEGIN:STANDARD
TZNAME:CET
TZOFFSETFROM:+0200
TZOFFSETTO:+0100
DTSTART:19800928T030000
RRULE:FREQ=YEARLY;UNTIL=19950924T010000Z;BYMONTH=9;BYDAY=-1SU
END:STANDARD
BEGIN:DAYLIGHT
TZNAME:CEST
TZOFFSETFROM:+0100
TZOFFSETTO:+0200
DTSTART:19810329T020000
RRULE:FREQ=YEARLY;BYMONTH=3;BYDAY=-1SU
END:DAYLIGHT
BEGIN:STANDARD
TZNAME:CET
TZOFFSETFROM:+0200
TZOFFSETTO:+0100
DTSTART:19961027T030000
RRULE:FREQ=YEARLY;BYMONTH=10;BYDAY=-1SU
END:STANDARD
END:VTIMEZONE
BEGIN:VEVENT
DTSTAMP:20260424T022656Z
DTSTART;TZID=Europe/Berlin:20250911T193000
DTEND;TZID=Europe/Berlin:20250911T223000
SUMMARY:ME L6 Gr 6\, Tours 1&2 Avry-Rosé VII vs Fribourg X (0)
UID:8c526bfa-258f-45e7-8a28-60fc117318ba
STATUS:CONFIRMED
LAST-MODIFIED:20250914T134516Z
DESCRIPTION:6ème ligue Hommes Groupe 6\, Tours 1&2\nBegegnungs-Nr: 0\nHeim: Avry-Rosé VII\nGast: Fribourg X\n\nAdresse: Route du Château 15\, 1754 Avry-sur-Matran\n
LOCATION:Route du Château 15\, 1754 Avry-sur-Matran
CATEGORIES:Saison 2025/26
END:VEVENT
BEGIN:VEVENT
DTSTAMP:20260424T022656Z
DTSTART;TZID=Europe/Berlin:20251003T193000
DTEND;TZID=Europe/Berlin:20251003T223000
SUMMARY:ME L6 Gr 6\, Tours 1&2 Avry-Rosé VII vs Matran III (0)
UID:ffab5cf9-bf65-46e6-b1bc-865a80b49ca5
STATUS:CONFIRMED
LAST-MODIFIED:20251013T195306Z
DESCRIPTION:6ème ligue Hommes Groupe 6\, Tours 1&2\nBegegnungs-Nr: 0\nHeim: Avry-Rosé VII\nGast: Matran III\n\nAdresse: Route du Château 15\, 1754 Avry-sur-Matran\n
LOCATION:Route du Château 15\, 1754 Avry-sur-Matran
CATEGORIES:Saison 2025/26
END:VEVENT
BEGIN:VEVENT
DTSTAMP:20260424T022656Z
DTSTART;TZID=Europe/Berlin:20251009T193000
DTEND;TZID=Europe/Berlin:20251009T223000
SUMMARY:ME L6 Gr 6\, Tours 1&2 Avry-Rosé VII vs Marly III (0)
UID:08408628-9d0a-4563-b972-3404bc653e28
STATUS:CONFIRMED
LAST-MODIFIED:20251011T112541Z
DESCRIPTION:6ème ligue Hommes Groupe 6\, Tours 1&2\nBegegnungs-Nr: 0\nHeim: Avry-Rosé VII\nGast: Marly III\n\nAdresse: Route du Château 15\, 1754 Avry-sur-Matran\n
LOCATION:Route du Château 15\, 1754 Avry-sur-Matran
CATEGORIES:Saison 2025/26
END:VEVENT
BEGIN:VEVENT
DTSTAMP:20260424T022656Z
DTSTART;TZID=Europe/Berlin:20251030T193000
DTEND;TZID=Europe/Berlin:20251030T223000
SUMMARY:ME L6 Gr 6\, Tours 1&2 Avry-Rosé VII vs Avry-Rosé V (0)
UID:a355d377-f4e7-46cf-8eb0-e95ce42651ce
STATUS:CONFIRMED
LAST-MODIFIED:20251106T100546Z
DESCRIPTION:6ème ligue Hommes Groupe 6\, Tours 1&2\nBegegnungs-Nr: 0\nHeim: Avry-Rosé VII\nGast: Avry-Rosé V\n\nAdresse: Route du Château 15\, 1754 Avry-sur-Matran\n
LOCATION:Route du Château 15\, 1754 Avry-sur-Matran
CATEGORIES:Saison 2025/26
END:VEVENT
BEGIN:VEVENT
DTSTAMP:20260424T022656Z
DTSTART;TZID=Europe/Berlin:20251121T193000
DTEND;TZID=Europe/Berlin:20251121T223000
SUMMARY:ME L6 Gr 6\, Tours 1&2 Avry-Rosé VII vs Rossens VI (0)
UID:1afb1a80-fe9c-4319-8d21-c4c621d09213
STATUS:CONFIRMED
LAST-MODIFIED:20251123T223142Z
DESCRIPTION:6ème ligue Hommes Groupe 6\, Tours 1&2\nBegegnungs-Nr: 0\nHeim: Avry-Rosé VII\nGast: Rossens VI\n\nAdresse: Route du Château 15\, 1754 Avry-sur-Matran\n
LOCATION:Route du Château 15\, 1754 Avry-sur-Matran
CATEGORIES:Saison 2025/26
END:VEVENT
BEGIN:VEVENT
DTSTAMP:20260424T022656Z
DTSTART;TZID=Europe/Berlin:20260312T193000
DTEND;TZID=Europe/Berlin:20260312T223000
SUMMARY:ME L6 Gr 5\, Tours 3&4 Avry-Rosé VII vs Matran III (0)
UID:064b70af-e219-4138-9168-60676d546b59
STATUS:CONFIRMED
LAST-MODIFIED:20260315T145105Z
DESCRIPTION:6ème ligue Hommes Groupe 5\, Tours 3&4\nBegegnungs-Nr: 0\nHeim: Avry-Rosé VII\nGast: Matran III\n\nAdresse: Route du Château 15\, 1754 Avry-sur-Matran\n
LOCATION:Route du Château 15\, 1754 Avry-sur-Matran
CATEGORIES:Saison 2025/26
END:VEVENT
BEGIN:VEVENT
DTSTAMP:20260424T022656Z
DTSTART;TZID=Europe/Berlin:20260423T193000
DTEND;TZID=Europe/Berlin:20260423T223000
SUMMARY:ME L6 Gr 5\, Tours 3&4 Avry-Rosé VII vs Fribourg X (0)
UID:6bd100ea-70e9-458c-a01b-7b592592e022
STATUS:CONFIRMED
DESCRIPTION:6ème ligue Hommes Groupe 5\, Tours 3&4\nBegegnungs-Nr: 0\nHeim: Avry-Rosé VII\nGast: Fribourg X\n\nAdresse: Route du Château 15\, 1754 Avry-sur-Matran\n
LOCATION:Route du Château 15\, 1754 Avry-sur-Matran
CATEGORIES:Saison 2025/26
END:VEVENT
BEGIN:VEVENT
DTSTAMP:20260424T022656Z
DTSTART;TZID=Europe/Berlin:20260430T193000
DTEND;TZID=Europe/Berlin:20260430T223000
SUMMARY:ME L6 Gr 5\, Tours 3&4 Avry-Rosé VII vs Fribourg XI (0)
UID:8147ef52-ae58-4c4f-bb04-2515e4e66bf9
STATUS:CONFIRMED
DESCRIPTION:6ème ligue Hommes Groupe 5\, Tours 3&4\nBegegnungs-Nr: 0\nHeim: Avry-Rosé VII\nGast: Fribourg XI\n\nAdresse: Route du Château 15\, 1754 Avry-sur-Matran\n
LOCATION:Route du Château 15\, 1754 Avry-sur-Matran
CATEGORIES:Saison 2025/26
END:VEVENT
BEGIN:VEVENT
DTSTAMP:20260424T022656Z
DTSTART;TZID=Europe/Berlin:20260122T193000
DTEND;TZID=Europe/Berlin:20260122T223000
SUMMARY:ME L6 Gr 5\, Tours 3&4 Avry-Rosé VII vs Marly III (0)
UID:788e46ac-2626-4e87-86af-d356f5cb57b5
STATUS:CONFIRMED
LAST-MODIFIED:20260124T154751Z
DESCRIPTION:6ème ligue Hommes Groupe 5\, Tours 3&4\nBegegnungs-Nr: 0\nHeim: Avry-Rosé VII\nGast: Marly III\n\nAdresse: Route du Château 15\, 1754 Avry-sur-Matran\n
LOCATION:Route du Château 15\, 1754 Avry-sur-Matran
CATEGORIES:Saison 2025/26
END:VEVENT
BEGIN:VEVENT
DTSTAMP:20260424T022656Z
DTSTART;TZID=Europe/Berlin:20260205T193000
DTEND;TZID=Europe/Berlin:20260205T223000
SUMMARY:ME L6 Gr 5\, Tours 3&4 Avry-Rosé VII vs Marly (0)
UID:5dde78fc-3625-4a90-8678-0880e85dcab9
STATUS:CONFIRMED
LAST-MODIFIED:20260210T202916Z
DESCRIPTION:6ème ligue Hommes Groupe 5\, Tours 3&4\nBegegnungs-Nr: 0\nHeim: Avry-Rosé VII\nGast: Marly\n\nAdresse: Route du Château 15\, 1754 Avry-sur-Matran\n
LOCATION:Route du Château 15\, 1754 Avry-sur-Matran
CATEGORIES:Saison 2025/26
END:VEVENT
BEGIN:VEVENT
DTSTAMP:20260424T022656Z
DTSTART;TZID=Europe/Berlin:20250902T200000
DTEND;TZID=Europe/Berlin:20250902T230000
SUMMARY:ME L6 Gr 6\, Tours 1&2 Avry-Rosé V vs Avry-Rosé VII (0)
UID:21d4570b-89aa-4f3f-96f1-dd9d21111feb
STATUS:CONFIRMED
LAST-MODIFIED:20250903T213251Z
DESCRIPTION:6ème ligue Hommes Groupe 6\, Tours 1&2\nBegegnungs-Nr: 0\nHeim: Avry-Rosé V\nGast: Avry-Rosé VII\n\nAdresse: Route du Château 15\, 1754 Avry-sur-Matran\n
LOCATION:Route du Château 15\, 1754 Avry-sur-Matran
CATEGORIES:Saison 2025/26
END:VEVENT
BEGIN:VEVENT
DTSTAMP:20260424T022656Z
DTSTART;TZID=Europe/Berlin:20250916T200000
DTEND;TZID=Europe/Berlin:20250916T230000
SUMMARY:ME L6 Gr 6\, Tours 1&2 Rossens VI vs Avry-Rosé VII (0)
UID:11555a59-cde5-420a-9f60-ebdddba6fe56
STATUS:CONFIRMED
LAST-MODIFIED:20250916T220958Z
DESCRIPTION:6ème ligue Hommes Groupe 6\, Tours 1&2\nBegegnungs-Nr: 0\nHeim: Rossens VI\nGast: Avry-Rosé VII\n\nAdresse: Route du Jordil 14\, 1728 Rossens\n
LOCATION:Route du Jordil 14\, 1728 Rossens
CATEGORIES:Saison 2025/26
END:VEVENT
BEGIN:VEVENT
DTSTAMP:20260424T022656Z
DTSTART;TZID=Europe/Berlin:20251107T191500
DTEND;TZID=Europe/Berlin:20251107T221500
SUMMARY:ME L6 Gr 6\, Tours 1&2 Fribourg X vs Avry-Rosé VII (0)
UID:8a373817-390a-48a8-acfb-c72f15828c4d
STATUS:CONFIRMED
LAST-MODIFIED:20251111T210224Z
DESCRIPTION:6ème ligue Hommes Groupe 6\, Tours 1&2\nBegegnungs-Nr: 0\nHeim: Fribourg X\nGast: Avry-Rosé VII\n\nAdresse: Avenue Général Guisan 61\, 1700 Fribourg\n
LOCATION:Avenue Général Guisan 61\, 1700 Fribourg
CATEGORIES:Saison 2025/26
END:VEVENT
BEGIN:VEVENT
DTSTAMP:20260424T022656Z
DTSTART;TZID=Europe/Berlin:20251124T200000
DTEND;TZID=Europe/Berlin:20251124T230000
SUMMARY:ME L6 Gr 6\, Tours 1&2 Matran III vs Avry-Rosé VII (0)
UID:868c34cc-ca9e-40ba-8e0b-320af5d55040
STATUS:CONFIRMED
LAST-MODIFIED:20251125T150639Z
DESCRIPTION:6ème ligue Hommes Groupe 6\, Tours 1&2\nBegegnungs-Nr: 0\nHeim: Matran III\nGast: Avry-Rosé VII\n\nAdresse: Route de l'Ecole\, 1753 Matran\n
LOCATION:Route de l'Ecole\, 1753 Matran
CATEGORIES:Saison 2025/26
END:VEVENT
BEGIN:VEVENT
DTSTAMP:20260424T022656Z
DTSTART;TZID=Europe/Berlin:20251211T200000
DTEND;TZID=Europe/Berlin:20251211T230000
SUMMARY:ME L6 Gr 6\, Tours 1&2 Marly III vs Avry-Rosé VII (0)
UID:71f1046b-26e7-42d1-a921-7f0bf19228e2
STATUS:CONFIRMED
LAST-MODIFIED:20251213T095236Z
DESCRIPTION:6ème ligue Hommes Groupe 6\, Tours 1&2\nBegegnungs-Nr: 0\nHeim: Marly III\nGast: Avry-Rosé VII\n\nAdresse: Grand Pré - Rte des Ecoles\, 1723 Marly\n
LOCATION:Grand Pré - Rte des Ecoles\, 1723 Marly
CATEGORIES:Saison 2025/26
END:VEVENT
BEGIN:VEVENT
DTSTAMP:20260424T022656Z
DTSTART;TZID=Europe/Berlin:20260317T193000
DTEND;TZID=Europe/Berlin:20260317T223000
SUMMARY:ME L6 Gr 5\, Tours 3&4 Marly III vs Avry-Rosé VII (0)
UID:3cc757ae-8b8d-4be3-a3bb-8836fb1aa499
STATUS:CONFIRMED
LAST-MODIFIED:20260321T102832Z
DESCRIPTION:6ème ligue Hommes Groupe 5\, Tours 3&4\nBegegnungs-Nr: 0\nHeim: Marly III\nGast: Avry-Rosé VII\n\nAdresse: Grand Pré - Rte des Ecoles\, 1723 Marly\n
LOCATION:Grand Pré - Rte des Ecoles\, 1723 Marly
CATEGORIES:Saison 2025/26
END:VEVENT
BEGIN:VEVENT
DTSTAMP:20260424T022656Z
DTSTART;TZID=Europe/Berlin:20260324T193000
DTEND;TZID=Europe/Berlin:20260324T223000
SUMMARY:ME L6 Gr 5\, Tours 3&4 Marly vs Avry-Rosé VII (0)
UID:733d4e69-19dc-4fbe-adca-05d14deee683
STATUS:CONFIRMED
LAST-MODIFIED:20260325T112020Z
DESCRIPTION:6ème ligue Hommes Groupe 5\, Tours 3&4\nBegegnungs-Nr: 0\nHeim: Marly\nGast: Avry-Rosé VII\n\nAdresse: Grand Pré - Rte des Ecoles\, 1723 Marly\n
LOCATION:Grand Pré - Rte des Ecoles\, 1723 Marly
CATEGORIES:Saison 2025/26
END:VEVENT
BEGIN:VEVENT
DTSTAMP:20260424T022656Z
DTSTART;TZID=Europe/Berlin:20260112T200000
DTEND;TZID=Europe/Berlin:20260112T230000
SUMMARY:ME L6 Gr 5\, Tours 3&4 Matran III vs Avry-Rosé VII (0)
UID:99f198d8-367f-49e8-9129-bd054aa9cea6
STATUS:CONFIRMED
LAST-MODIFIED:20260113T095119Z
DESCRIPTION:6ème ligue Hommes Groupe 5\, Tours 3&4\nBegegnungs-Nr: 0\nHeim: Matran III\nGast: Avry-Rosé VII\n\nAdresse: Route de l'Ecole\, 1753 Matran\n
LOCATION:Route de l'Ecole\, 1753 Matran
CATEGORIES:Saison 2025/26
END:VEVENT
BEGIN:VEVENT
DTSTAMP:20260424T022656Z
DTSTART;TZID=Europe/Berlin:20260213T191500
DTEND;TZID=Europe/Berlin:20260213T221500
SUMMARY:ME L6 Gr 5\, Tours 3&4 Fribourg X vs Avry-Rosé VII (0)
UID:884bd20b-0882-4726-a93a-80eafa79f93b
STATUS:CONFIRMED
LAST-MODIFIED:20260215T195325Z
DESCRIPTION:6ème ligue Hommes Groupe 5\, Tours 3&4\nBegegnungs-Nr: 0\nHeim: Fribourg X\nGast: Avry-Rosé VII\n\nAdresse: Avenue Général Guisan 61\, 1700 Fribourg\n
LOCATION:Avenue Général Guisan 61\, 1700 Fribourg
CATEGORIES:Saison 2025/26
END:VEVENT
BEGIN:VEVENT
DTSTAMP:20260424T022656Z
DTSTART;TZID=Europe/Berlin:20260226T193000
DTEND;TZID=Europe/Berlin:20260226T223000
SUMMARY:ME L6 Gr 5\, Tours 3&4 Fribourg XI vs Avry-Rosé VII (0)
UID:2ece6390-e498-4b08-aa9b-9556aa9931f4
STATUS:CONFIRMED
LAST-MODIFIED:20260301T135025Z
DESCRIPTION:6ème ligue Hommes Groupe 5\, Tours 3&4\nBegegnungs-Nr: 0\nHeim: Fribourg XI\nGast: Avry-Rosé VII\n\nAdresse: Avenue Général Guisan 61\, 1700 Fribourg\n
LOCATION:Avenue Général Guisan 61\, 1700 Fribourg
CATEGORIES:Saison 2025/26
END:VEVENT
END:VCALENDAR
