BEGIN:VCALENDAR
PRODID:-//nuDatenautomaten//framework iCal4j //DE
VERSION:2.0
CALSCALE:GREGORIAN
BEGIN:VTIMEZONE
TZID:Europe/Berlin
LAST-MODIFIED:20260306T231828Z
TZURL:https://www.tzurl.org/zoneinfo/Europe/Berlin
X-LIC-LOCATION:Europe/Berlin
X-PROLEPTIC-TZNAME:LMT
BEGIN:STANDARD
TZNAME:CET
TZOFFSETFROM:+005328
TZOFFSETTO:+0100
DTSTART:18930401T000000
END:STANDARD
BEGIN:DAYLIGHT
TZNAME:CEST
TZOFFSETFROM:+0100
TZOFFSETTO:+0200
DTSTART:19160430T230000
RDATE:19400401T020000
RDATE:19430329T020000
RDATE:19460414T020000
RDATE:19470406T030000
RDATE:19480418T020000
RDATE:19490410T020000
RDATE:19800406T020000
END:DAYLIGHT
BEGIN:STANDARD
TZNAME:CET
TZOFFSETFROM:+0200
TZOFFSETTO:+0100
DTSTART:19161001T010000
RDATE:19421102T030000
RDATE:19431004T030000
RDATE:19441002T030000
RDATE:19451118T030000
RDATE:19461007T030000
END:STANDARD
BEGIN:DAYLIGHT
TZNAME:CEST
TZOFFSETFROM:+0100
TZOFFSETTO:+0200
DTSTART:19170416T020000
RRULE:FREQ=YEARLY;UNTIL=19180415T010000Z;BYMONTH=4;BYDAY=3MO
END:DAYLIGHT
BEGIN:STANDARD
TZNAME:CET
TZOFFSETFROM:+0200
TZOFFSETTO:+0100
DTSTART:19170917T030000
RRULE:FREQ=YEARLY;UNTIL=19180916T010000Z;BYMONTH=9;BYDAY=3MO
END:STANDARD
BEGIN:DAYLIGHT
TZNAME:CEST
TZOFFSETFROM:+0100
TZOFFSETTO:+0200
DTSTART:19440403T020000
RRULE:FREQ=YEARLY;UNTIL=19450402T010000Z;BYMONTH=4;BYDAY=1MO
END:DAYLIGHT
BEGIN:DAYLIGHT
TZNAME:CEMT
TZOFFSETFROM:+0200
TZOFFSETTO:+0300
DTSTART:19450524T020000
RDATE:19470511T030000
END:DAYLIGHT
BEGIN:DAYLIGHT
TZNAME:CEST
TZOFFSETFROM:+0300
TZOFFSETTO:+0200
DTSTART:19450924T030000
RDATE:19470629T030000
END:DAYLIGHT
BEGIN:STANDARD
TZNAME:CET
TZOFFSETFROM:+0100
TZOFFSETTO:+0100
DTSTART:19460101T000000
RDATE:19800101T000000
END:STANDARD
BEGIN:STANDARD
TZNAME:CET
TZOFFSETFROM:+0200
TZOFFSETTO:+0100
DTSTART:19471005T030000
RRULE:FREQ=YEARLY;UNTIL=19491002T010000Z;BYMONTH=10;BYDAY=1SU
END:STANDARD
BEGIN:STANDARD
TZNAME:CET
TZOFFSETFROM:+0200
TZOFFSETTO:+0100
DTSTART:19800928T030000
RRULE:FREQ=YEARLY;UNTIL=19950924T010000Z;BYMONTH=9;BYDAY=-1SU
END:STANDARD
BEGIN:DAYLIGHT
TZNAME:CEST
TZOFFSETFROM:+0100
TZOFFSETTO:+0200
DTSTART:19810329T020000
RRULE:FREQ=YEARLY;BYMONTH=3;BYDAY=-1SU
END:DAYLIGHT
BEGIN:STANDARD
TZNAME:CET
TZOFFSETFROM:+0200
TZOFFSETTO:+0100
DTSTART:19961027T030000
RRULE:FREQ=YEARLY;BYMONTH=10;BYDAY=-1SU
END:STANDARD
END:VTIMEZONE
BEGIN:VEVENT
DTSTAMP:20260424T152429Z
DTSTART;TZID=Europe/Berlin:20251122T100000
DTEND;TZID=Europe/Berlin:20251122T130000
SUMMARY:J L3 Gr2\, Tours 1&2 Domdidier II vs Gland IV (8)
UID:891f69d2-5c28-48bf-b698-c0a5031eb4c7
STATUS:CONFIRMED
LAST-MODIFIED:20251127T112257Z
DESCRIPTION:3ème ligue Jeunesse Groupe 2\, Tours 1&2\nBegegnungs-Nr: 8\nHeim: Domdidier II\nGast: Gland IV\n\nAdresse: Pré-de-la-Cour\, 1564 Domdidier\n
LOCATION:Pré-de-la-Cour\, 1564 Domdidier
CATEGORIES:Saison 2025/26
END:VEVENT
BEGIN:VEVENT
DTSTAMP:20260424T152429Z
DTSTART;TZID=Europe/Berlin:20250906T150000
DTEND;TZID=Europe/Berlin:20250906T180000
SUMMARY:J L3 Gr2\, Tours 1&2 Domdidier II vs Vevey II (6)
UID:00f22222-33c0-4088-a473-d3e6b111d547
STATUS:CONFIRMED
LAST-MODIFIED:20250910T231629Z
DESCRIPTION:3ème ligue Jeunesse Groupe 2\, Tours 1&2\nBegegnungs-Nr: 6\nHeim: Domdidier II\nGast: Vevey II\n\nAdresse: Pré-de-la-Cour\, 1564 Domdidier\n
LOCATION:Pré-de-la-Cour\, 1564 Domdidier
CATEGORIES:Saison 2025/26
END:VEVENT
BEGIN:VEVENT
DTSTAMP:20260424T152429Z
DTSTART;TZID=Europe/Berlin:20260117T100000
DTEND;TZID=Europe/Berlin:20260117T130000
SUMMARY:J L3 Gr1\, Tours 3&4 Domdidier II vs Romont-Villaz (2)
UID:3f94d3cd-f5da-4b52-b842-b81a1b0507b5
STATUS:CONFIRMED
LAST-MODIFIED:20260117T132917Z
DESCRIPTION:3ème ligue Jeunesse Groupe 1\, Tours 3&4\nBegegnungs-Nr: 2\nHeim: Domdidier II\nGast: Romont-Villaz\n\nAdresse: Pré-de-la-Cour\, 1564 Domdidier\n
LOCATION:Pré-de-la-Cour\, 1564 Domdidier
CATEGORIES:Saison 2025/26
END:VEVENT
BEGIN:VEVENT
DTSTAMP:20260424T152429Z
DTSTART;TZID=Europe/Berlin:20260228T150000
DTEND;TZID=Europe/Berlin:20260228T180000
SUMMARY:J L3 Gr1\, Tours 3&4 Domdidier II vs Fribourg II (12)
UID:9784826e-7d1e-42d3-8e48-38fabb21e0b4
STATUS:CONFIRMED
LAST-MODIFIED:20260302T100259Z
DESCRIPTION:3ème ligue Jeunesse Groupe 1\, Tours 3&4\nBegegnungs-Nr: 12\nHeim: Domdidier II\nGast: Fribourg II\n\nAdresse: Pré-de-la-Cour\, 1564 Domdidier\n
LOCATION:Pré-de-la-Cour\, 1564 Domdidier
CATEGORIES:Saison 2025/26
END:VEVENT
BEGIN:VEVENT
DTSTAMP:20260424T152429Z
DTSTART;TZID=Europe/Berlin:20251122T130000
DTEND;TZID=Europe/Berlin:20251122T160000
SUMMARY:J L3 Gr2\, Tours 1&2 Vevey II vs Domdidier II (12)
UID:b16e63f1-c97a-4cf5-83c7-e346c106c180
STATUS:CONFIRMED
LAST-MODIFIED:20251123T123504Z
DESCRIPTION:3ème ligue Jeunesse Groupe 2\, Tours 1&2\nBegegnungs-Nr: 12\nHeim: Vevey II\nGast: Domdidier II\n\nAdresse: Rue Louis-Meyer\, 1800 Vevey\n
LOCATION:Rue Louis-Meyer\, 1800 Vevey
CATEGORIES:Saison 2025/26
END:VEVENT
BEGIN:VEVENT
DTSTAMP:20260424T152429Z
DTSTART;TZID=Europe/Berlin:20250906T100000
DTEND;TZID=Europe/Berlin:20250906T130000
SUMMARY:J L3 Gr2\, Tours 1&2 Gland IV vs Domdidier II (2)
UID:62a9f66e-d45b-4e0b-b886-f83549c31647
STATUS:CONFIRMED
LAST-MODIFIED:20250906T155424Z
DESCRIPTION:3ème ligue Jeunesse Groupe 2\, Tours 1&2\nBegegnungs-Nr: 2\nHeim: Gland IV\nGast: Domdidier II\n\nAdresse: Chemin de la Perroude 1\, 1196 Gland\n
LOCATION:Chemin de la Perroude 1\, 1196 Gland
CATEGORIES:Saison 2025/26
END:VEVENT
BEGIN:VEVENT
DTSTAMP:20260424T152429Z
DTSTART;TZID=Europe/Berlin:20260117T150000
DTEND;TZID=Europe/Berlin:20260117T180000
SUMMARY:J L3 Gr1\, Tours 3&4 Fribourg II vs Domdidier II (6)
UID:5845eaf5-50d3-4418-9252-edafe4329214
STATUS:CONFIRMED
LAST-MODIFIED:20260118T114527Z
DESCRIPTION:3ème ligue Jeunesse Groupe 1\, Tours 3&4\nBegegnungs-Nr: 6\nHeim: Fribourg II\nGast: Domdidier II\n\nAdresse: Avenue Général Guisan 61\, 1700 Fribourg\n
LOCATION:Avenue Général Guisan 61\, 1700 Fribourg
CATEGORIES:Saison 2025/26
END:VEVENT
BEGIN:VEVENT
DTSTAMP:20260424T152429Z
DTSTART;TZID=Europe/Berlin:20260228T100000
DTEND;TZID=Europe/Berlin:20260228T130000
SUMMARY:J L3 Gr1\, Tours 3&4 Romont-Villaz vs Domdidier II (8)
UID:b3e47a87-5c76-4fb4-a0a6-5626aab416df
STATUS:CONFIRMED
LAST-MODIFIED:20260301T135819Z
DESCRIPTION:3ème ligue Jeunesse Groupe 1\, Tours 3&4\nBegegnungs-Nr: 8\nHeim: Romont-Villaz\nGast: Domdidier II\n\nAdresse: Route de la Gare 5\, 1690 Villaz-St-Pierre\n
LOCATION:Route de la Gare 5\, 1690 Villaz-St-Pierre
CATEGORIES:Saison 2025/26
END:VEVENT
END:VCALENDAR
