BEGIN:VCALENDAR
PRODID:-//nuDatenautomaten//framework iCal4j //DE
VERSION:2.0
CALSCALE:GREGORIAN
BEGIN:VTIMEZONE
TZID:Europe/Berlin
LAST-MODIFIED:20260306T231828Z
TZURL:https://www.tzurl.org/zoneinfo/Europe/Berlin
X-LIC-LOCATION:Europe/Berlin
X-PROLEPTIC-TZNAME:LMT
BEGIN:STANDARD
TZNAME:CET
TZOFFSETFROM:+005328
TZOFFSETTO:+0100
DTSTART:18930401T000000
END:STANDARD
BEGIN:DAYLIGHT
TZNAME:CEST
TZOFFSETFROM:+0100
TZOFFSETTO:+0200
DTSTART:19160430T230000
RDATE:19400401T020000
RDATE:19430329T020000
RDATE:19460414T020000
RDATE:19470406T030000
RDATE:19480418T020000
RDATE:19490410T020000
RDATE:19800406T020000
END:DAYLIGHT
BEGIN:STANDARD
TZNAME:CET
TZOFFSETFROM:+0200
TZOFFSETTO:+0100
DTSTART:19161001T010000
RDATE:19421102T030000
RDATE:19431004T030000
RDATE:19441002T030000
RDATE:19451118T030000
RDATE:19461007T030000
END:STANDARD
BEGIN:DAYLIGHT
TZNAME:CEST
TZOFFSETFROM:+0100
TZOFFSETTO:+0200
DTSTART:19170416T020000
RRULE:FREQ=YEARLY;UNTIL=19180415T010000Z;BYMONTH=4;BYDAY=3MO
END:DAYLIGHT
BEGIN:STANDARD
TZNAME:CET
TZOFFSETFROM:+0200
TZOFFSETTO:+0100
DTSTART:19170917T030000
RRULE:FREQ=YEARLY;UNTIL=19180916T010000Z;BYMONTH=9;BYDAY=3MO
END:STANDARD
BEGIN:DAYLIGHT
TZNAME:CEST
TZOFFSETFROM:+0100
TZOFFSETTO:+0200
DTSTART:19440403T020000
RRULE:FREQ=YEARLY;UNTIL=19450402T010000Z;BYMONTH=4;BYDAY=1MO
END:DAYLIGHT
BEGIN:DAYLIGHT
TZNAME:CEMT
TZOFFSETFROM:+0200
TZOFFSETTO:+0300
DTSTART:19450524T020000
RDATE:19470511T030000
END:DAYLIGHT
BEGIN:DAYLIGHT
TZNAME:CEST
TZOFFSETFROM:+0300
TZOFFSETTO:+0200
DTSTART:19450924T030000
RDATE:19470629T030000
END:DAYLIGHT
BEGIN:STANDARD
TZNAME:CET
TZOFFSETFROM:+0100
TZOFFSETTO:+0100
DTSTART:19460101T000000
RDATE:19800101T000000
END:STANDARD
BEGIN:STANDARD
TZNAME:CET
TZOFFSETFROM:+0200
TZOFFSETTO:+0100
DTSTART:19471005T030000
RRULE:FREQ=YEARLY;UNTIL=19491002T010000Z;BYMONTH=10;BYDAY=1SU
END:STANDARD
BEGIN:STANDARD
TZNAME:CET
TZOFFSETFROM:+0200
TZOFFSETTO:+0100
DTSTART:19800928T030000
RRULE:FREQ=YEARLY;UNTIL=19950924T010000Z;BYMONTH=9;BYDAY=-1SU
END:STANDARD
BEGIN:DAYLIGHT
TZNAME:CEST
TZOFFSETFROM:+0100
TZOFFSETTO:+0200
DTSTART:19810329T020000
RRULE:FREQ=YEARLY;BYMONTH=3;BYDAY=-1SU
END:DAYLIGHT
BEGIN:STANDARD
TZNAME:CET
TZOFFSETFROM:+0200
TZOFFSETTO:+0100
DTSTART:19961027T030000
RRULE:FREQ=YEARLY;BYMONTH=10;BYDAY=-1SU
END:STANDARD
END:VTIMEZONE
BEGIN:VEVENT
DTSTAMP:20260424T141103Z
DTSTART;TZID=Europe/Berlin:20260105T200000
DTEND;TZID=Europe/Berlin:20260105T230000
SUMMARY:HE 6. Liga Gr. 4 Frauenfeld III vs Winterthur VI (0)
UID:b8462168-216a-4310-a4db-46243c2eed2c
STATUS:CONFIRMED
LAST-MODIFIED:20260112T100333Z
DESCRIPTION:6. Liga Herren Gruppe 4\nBegegnungs-Nr: 0\nHeim: Frauenfeld III\nGast: Winterthur VI\n\nAdresse: Scheuchenstrasse\, 8500 Frauenfeld\n
LOCATION:Scheuchenstrasse\, 8500 Frauenfeld
CATEGORIES:Saison 2025/26
END:VEVENT
BEGIN:VEVENT
DTSTAMP:20260424T141103Z
DTSTART;TZID=Europe/Berlin:20260209T200000
DTEND;TZID=Europe/Berlin:20260209T230000
SUMMARY:HE 6. Liga Gr. 4 Frauenfeld III vs Schlatt II (0)
UID:ca84811b-0447-4fb9-8dd7-5525822f2d62
STATUS:CONFIRMED
LAST-MODIFIED:20260216T103443Z
DESCRIPTION:6. Liga Herren Gruppe 4\nBegegnungs-Nr: 0\nHeim: Frauenfeld III\nGast: Schlatt II\n\nAdresse: Scheuchenstrasse\, 8500 Frauenfeld\n
LOCATION:Scheuchenstrasse\, 8500 Frauenfeld
CATEGORIES:Saison 2025/26
END:VEVENT
BEGIN:VEVENT
DTSTAMP:20260424T141103Z
DTSTART;TZID=Europe/Berlin:20260316T200000
DTEND;TZID=Europe/Berlin:20260316T230000
SUMMARY:HE 6. Liga Gr. 4 Frauenfeld III vs Imperial Winterthur IV (0)
UID:46803c37-fd02-46b7-910f-62fcf0383c29
STATUS:CONFIRMED
LAST-MODIFIED:20260317T145135Z
DESCRIPTION:6. Liga Herren Gruppe 4\nBegegnungs-Nr: 0\nHeim: Frauenfeld III\nGast: Imperial Winterthur IV\n\nAdresse: Scheuchenstrasse\, 8500 Frauenfeld\n
LOCATION:Scheuchenstrasse\, 8500 Frauenfeld
CATEGORIES:Saison 2025/26
END:VEVENT
BEGIN:VEVENT
DTSTAMP:20260424T141103Z
DTSTART;TZID=Europe/Berlin:20251201T200000
DTEND;TZID=Europe/Berlin:20251201T230000
SUMMARY:HE 6. Liga Gr. 4 Frauenfeld III vs Neuhausen VIII (0)
UID:1547f83b-a9a8-4204-adea-1846474b719b
STATUS:CONFIRMED
LAST-MODIFIED:20251205T131123Z
DESCRIPTION:6. Liga Herren Gruppe 4\nBegegnungs-Nr: 0\nHeim: Frauenfeld III\nGast: Neuhausen VIII\n\nAdresse: Scheuchenstrasse\, 8500 Frauenfeld\n
LOCATION:Scheuchenstrasse\, 8500 Frauenfeld
CATEGORIES:Saison 2025/26
END:VEVENT
BEGIN:VEVENT
DTSTAMP:20260424T141103Z
DTSTART;TZID=Europe/Berlin:20250901T200000
DTEND;TZID=Europe/Berlin:20250901T230000
SUMMARY:HE 6. Liga Gr. 4 Frauenfeld III vs Ettenhausen IV (0)
UID:fa5d45e9-0c30-4b4d-a362-03cacf51473e
STATUS:CONFIRMED
LAST-MODIFIED:20250902T093242Z
DESCRIPTION:6. Liga Herren Gruppe 4\nBegegnungs-Nr: 0\nHeim: Frauenfeld III\nGast: Ettenhausen IV\n\nAdresse: Scheuchenstrasse\, 8500 Frauenfeld\n
LOCATION:Scheuchenstrasse\, 8500 Frauenfeld
CATEGORIES:Saison 2025/26
END:VEVENT
BEGIN:VEVENT
DTSTAMP:20260424T141103Z
DTSTART;TZID=Europe/Berlin:20250922T200000
DTEND;TZID=Europe/Berlin:20250922T230000
SUMMARY:HE 6. Liga Gr. 4 Frauenfeld III vs Bülach VI (0)
UID:432a7338-225e-4aac-abe3-6b0fdce3e374
STATUS:CONFIRMED
LAST-MODIFIED:20250926T133755Z
DESCRIPTION:6. Liga Herren Gruppe 4\nBegegnungs-Nr: 0\nHeim: Frauenfeld III\nGast: Bülach VI\n\nAdresse: Scheuchenstrasse\, 8500 Frauenfeld\n
LOCATION:Scheuchenstrasse\, 8500 Frauenfeld
CATEGORIES:Saison 2025/26
END:VEVENT
BEGIN:VEVENT
DTSTAMP:20260424T141103Z
DTSTART;TZID=Europe/Berlin:20251103T200000
DTEND;TZID=Europe/Berlin:20251103T230000
SUMMARY:HE 6. Liga Gr. 4 Frauenfeld III vs Kloten IV (0)
UID:3f093d7d-2764-44aa-896d-3a7086d85f00
STATUS:CONFIRMED
LAST-MODIFIED:20251107T133048Z
DESCRIPTION:6. Liga Herren Gruppe 4\nBegegnungs-Nr: 0\nHeim: Frauenfeld III\nGast: Kloten IV\n\nAdresse: Scheuchenstrasse\, 8500 Frauenfeld\n
LOCATION:Scheuchenstrasse\, 8500 Frauenfeld
CATEGORIES:Saison 2025/26
END:VEVENT
BEGIN:VEVENT
DTSTAMP:20260424T141103Z
DTSTART;TZID=Europe/Berlin:20260124T113000
DTEND;TZID=Europe/Berlin:20260124T143000
SUMMARY:HE 6. Liga Gr. 4 Ettenhausen IV vs Frauenfeld III (0)
UID:d83b5513-2751-41f8-a60d-db1500aedb11
STATUS:CONFIRMED
LAST-MODIFIED:20260130T124048Z
DESCRIPTION:6. Liga Herren Gruppe 4\nBegegnungs-Nr: 0\nHeim: Ettenhausen IV\nGast: Frauenfeld III\n\nAdresse: Weidlistrasse 12\, 8356 Ettenhausen\n
LOCATION:Weidlistrasse 12\, 8356 Ettenhausen
CATEGORIES:Saison 2025/26
END:VEVENT
BEGIN:VEVENT
DTSTAMP:20260424T141103Z
DTSTART;TZID=Europe/Berlin:20260306T193000
DTEND;TZID=Europe/Berlin:20260306T223000
SUMMARY:HE 6. Liga Gr. 4 Bülach VI vs Frauenfeld III (0)
UID:32d2ce4c-b558-4de3-9075-2830148d0a3d
STATUS:CONFIRMED
LAST-MODIFIED:20260317T145057Z
DESCRIPTION:6. Liga Herren Gruppe 4\nBegegnungs-Nr: 0\nHeim: Bülach VI\nGast: Frauenfeld III\n\nAdresse: Schwerzgruebstrasse 28\, 8180 Bülach\n
LOCATION:Schwerzgruebstrasse 28\, 8180 Bülach
CATEGORIES:Saison 2025/26
END:VEVENT
BEGIN:VEVENT
DTSTAMP:20260424T141103Z
DTSTART;TZID=Europe/Berlin:20260326T194500
DTEND;TZID=Europe/Berlin:20260326T224500
SUMMARY:HE 6. Liga Gr. 4 Kloten IV vs Frauenfeld III (0)
UID:93236742-a360-4397-9e69-cb58918ae26e
STATUS:CONFIRMED
LAST-MODIFIED:20260401T130710Z
DESCRIPTION:6. Liga Herren Gruppe 4\nBegegnungs-Nr: 0\nHeim: Kloten IV\nGast: Frauenfeld III\n\nAdresse: Schluefweg 10\, 8302 Kloten\n
LOCATION:Schluefweg 10\, 8302 Kloten
CATEGORIES:Saison 2025/26
END:VEVENT
BEGIN:VEVENT
DTSTAMP:20260424T141103Z
DTSTART;TZID=Europe/Berlin:20260318T200000
DTEND;TZID=Europe/Berlin:20260318T230000
SUMMARY:HE 6. Liga Gr. 4 Neuhausen VIII vs Frauenfeld III (0)
UID:2684aed7-e8dd-4845-a201-c8603a7bb7e6
STATUS:CONFIRMED
LAST-MODIFIED:20260326T154300Z
DESCRIPTION:6. Liga Herren Gruppe 4\nBegegnungs-Nr: 0\nHeim: Neuhausen VIII\nGast: Frauenfeld III\n\nAdresse: Ebnatstrasse 35\, 8200 Schaffhausen\n
LOCATION:Ebnatstrasse 35\, 8200 Schaffhausen
CATEGORIES:Saison 2025/26
END:VEVENT
BEGIN:VEVENT
DTSTAMP:20260424T141103Z
DTSTART;TZID=Europe/Berlin:20251114T201500
DTEND;TZID=Europe/Berlin:20251114T231500
SUMMARY:HE 6. Liga Gr. 4 Winterthur VI vs Frauenfeld III (0)
UID:421f97c7-2619-429a-985a-1e97c1d115e5
STATUS:CONFIRMED
LAST-MODIFIED:20251118T112705Z
DESCRIPTION:6. Liga Herren Gruppe 4\nBegegnungs-Nr: 0\nHeim: Winterthur VI\nGast: Frauenfeld III\n\nAdresse: Buchackerstrasse 54\, 8400 Winterthur\n
LOCATION:Buchackerstrasse 54\, 8400 Winterthur
CATEGORIES:Saison 2025/26
END:VEVENT
BEGIN:VEVENT
DTSTAMP:20260424T141103Z
DTSTART;TZID=Europe/Berlin:20250929T193000
DTEND;TZID=Europe/Berlin:20250929T223000
SUMMARY:HE 6. Liga Gr. 4 Schlatt II vs Frauenfeld III (0)
UID:04d540b4-7e1f-42ae-86ca-da4d690346e9
STATUS:CONFIRMED
LAST-MODIFIED:20250930T124458Z
DESCRIPTION:6. Liga Herren Gruppe 4\nBegegnungs-Nr: 0\nHeim: Schlatt II\nGast: Frauenfeld III\n\nAdresse: Waltersteinerstrasse 79\, 8418 Schlatt ZH\n
LOCATION:Waltersteinerstrasse 79\, 8418 Schlatt ZH
CATEGORIES:Saison 2025/26
END:VEVENT
BEGIN:VEVENT
DTSTAMP:20260424T141103Z
DTSTART;TZID=Europe/Berlin:20251027T200000
DTEND;TZID=Europe/Berlin:20251027T230000
SUMMARY:HE 6. Liga Gr. 4 Imperial Winterthur IV vs Frauenfeld III (0)
UID:215285f1-a281-4906-ba7b-c5ed88c1e602
STATUS:CONFIRMED
LAST-MODIFIED:20251031T144447Z
DESCRIPTION:6. Liga Herren Gruppe 4\nBegegnungs-Nr: 0\nHeim: Imperial Winterthur IV\nGast: Frauenfeld III\n\nAdresse: Büelhofstrasse 25a\, 8405 Winterthur\n
LOCATION:Büelhofstrasse 25a\, 8405 Winterthur
CATEGORIES:Saison 2025/26
END:VEVENT
END:VCALENDAR
