BEGIN:VCALENDAR
PRODID:-//nuDatenautomaten//framework iCal4j //DE
VERSION:2.0
CALSCALE:GREGORIAN
BEGIN:VTIMEZONE
TZID:Europe/Berlin
LAST-MODIFIED:20260306T231828Z
TZURL:https://www.tzurl.org/zoneinfo/Europe/Berlin
X-LIC-LOCATION:Europe/Berlin
X-PROLEPTIC-TZNAME:LMT
BEGIN:STANDARD
TZNAME:CET
TZOFFSETFROM:+005328
TZOFFSETTO:+0100
DTSTART:18930401T000000
END:STANDARD
BEGIN:DAYLIGHT
TZNAME:CEST
TZOFFSETFROM:+0100
TZOFFSETTO:+0200
DTSTART:19160430T230000
RDATE:19400401T020000
RDATE:19430329T020000
RDATE:19460414T020000
RDATE:19470406T030000
RDATE:19480418T020000
RDATE:19490410T020000
RDATE:19800406T020000
END:DAYLIGHT
BEGIN:STANDARD
TZNAME:CET
TZOFFSETFROM:+0200
TZOFFSETTO:+0100
DTSTART:19161001T010000
RDATE:19421102T030000
RDATE:19431004T030000
RDATE:19441002T030000
RDATE:19451118T030000
RDATE:19461007T030000
END:STANDARD
BEGIN:DAYLIGHT
TZNAME:CEST
TZOFFSETFROM:+0100
TZOFFSETTO:+0200
DTSTART:19170416T020000
RRULE:FREQ=YEARLY;UNTIL=19180415T010000Z;BYMONTH=4;BYDAY=3MO
END:DAYLIGHT
BEGIN:STANDARD
TZNAME:CET
TZOFFSETFROM:+0200
TZOFFSETTO:+0100
DTSTART:19170917T030000
RRULE:FREQ=YEARLY;UNTIL=19180916T010000Z;BYMONTH=9;BYDAY=3MO
END:STANDARD
BEGIN:DAYLIGHT
TZNAME:CEST
TZOFFSETFROM:+0100
TZOFFSETTO:+0200
DTSTART:19440403T020000
RRULE:FREQ=YEARLY;UNTIL=19450402T010000Z;BYMONTH=4;BYDAY=1MO
END:DAYLIGHT
BEGIN:DAYLIGHT
TZNAME:CEMT
TZOFFSETFROM:+0200
TZOFFSETTO:+0300
DTSTART:19450524T020000
RDATE:19470511T030000
END:DAYLIGHT
BEGIN:DAYLIGHT
TZNAME:CEST
TZOFFSETFROM:+0300
TZOFFSETTO:+0200
DTSTART:19450924T030000
RDATE:19470629T030000
END:DAYLIGHT
BEGIN:STANDARD
TZNAME:CET
TZOFFSETFROM:+0100
TZOFFSETTO:+0100
DTSTART:19460101T000000
RDATE:19800101T000000
END:STANDARD
BEGIN:STANDARD
TZNAME:CET
TZOFFSETFROM:+0200
TZOFFSETTO:+0100
DTSTART:19471005T030000
RRULE:FREQ=YEARLY;UNTIL=19491002T010000Z;BYMONTH=10;BYDAY=1SU
END:STANDARD
BEGIN:STANDARD
TZNAME:CET
TZOFFSETFROM:+0200
TZOFFSETTO:+0100
DTSTART:19800928T030000
RRULE:FREQ=YEARLY;UNTIL=19950924T010000Z;BYMONTH=9;BYDAY=-1SU
END:STANDARD
BEGIN:DAYLIGHT
TZNAME:CEST
TZOFFSETFROM:+0100
TZOFFSETTO:+0200
DTSTART:19810329T020000
RRULE:FREQ=YEARLY;BYMONTH=3;BYDAY=-1SU
END:DAYLIGHT
BEGIN:STANDARD
TZNAME:CET
TZOFFSETFROM:+0200
TZOFFSETTO:+0100
DTSTART:19961027T030000
RRULE:FREQ=YEARLY;BYMONTH=10;BYDAY=-1SU
END:STANDARD
END:VTIMEZONE
BEGIN:VEVENT
DTSTAMP:20260424T044415Z
DTSTART;TZID=Europe/Berlin:20251217T200000
DTEND;TZID=Europe/Berlin:20251217T230000
SUMMARY:O40 3. Liga Gr. 1 Langnau II vs Stettlen (34)
UID:fd450e75-13ca-4b58-87f1-85c639b9e52d
STATUS:CONFIRMED
LAST-MODIFIED:20251218T122318Z
DESCRIPTION:3. Liga O40 Gruppe 1 \nBegegnungs-Nr: 34\nHeim: Langnau II\nGast: Stettlen\n\nAdresse: Bleicheweg 11\, 3550 Langnau\n
LOCATION:Bleicheweg 11\, 3550 Langnau
CATEGORIES:Saison 2025/26
END:VEVENT
BEGIN:VEVENT
DTSTAMP:20260424T044415Z
DTSTART;TZID=Europe/Berlin:20251213T140000
DTEND;TZID=Europe/Berlin:20251213T170000
SUMMARY:O40 3. Liga Gr. 1 Langnau II vs Ostermundigen II (29)
UID:b5566e5b-46f9-426e-bbd4-896cf455ff11
STATUS:CONFIRMED
LAST-MODIFIED:20251216T121052Z
DESCRIPTION:3. Liga O40 Gruppe 1 \nBegegnungs-Nr: 29\nHeim: Langnau II\nGast: Ostermundigen II\n\nAdresse: Bleicheweg 11\, 3550 Langnau\n
LOCATION:Bleicheweg 11\, 3550 Langnau
CATEGORIES:Saison 2025/26
END:VEVENT
BEGIN:VEVENT
DTSTAMP:20260424T044415Z
DTSTART;TZID=Europe/Berlin:20251004T140000
DTEND;TZID=Europe/Berlin:20251004T170000
SUMMARY:O40 3. Liga Gr. 1 Langnau II vs Regio Moossee (11)
UID:bd4cc98e-bc8e-429d-9954-352cb9da7325
STATUS:CONFIRMED
LAST-MODIFIED:20251004T193128Z
DESCRIPTION:3. Liga O40 Gruppe 1 \nBegegnungs-Nr: 11\nHeim: Langnau II\nGast: Regio Moossee\n\nAdresse: Bleicheweg 11\, 3550 Langnau\n
LOCATION:Bleicheweg 11\, 3550 Langnau
CATEGORIES:Saison 2025/26
END:VEVENT
BEGIN:VEVENT
DTSTAMP:20260424T044415Z
DTSTART;TZID=Europe/Berlin:20250825T200000
DTEND;TZID=Europe/Berlin:20250825T230000
SUMMARY:O40 3. Liga Gr. 1 Langnau II vs Niederscherli (3)
UID:609b6b04-9341-4c54-b708-53fbe67d4d4b
STATUS:CONFIRMED
LAST-MODIFIED:20250828T192624Z
DESCRIPTION:3. Liga O40 Gruppe 1 \nBegegnungs-Nr: 3\nHeim: Langnau II\nGast: Niederscherli\n\nAdresse: Bleicheweg 11\, 3550 Langnau\n
LOCATION:Bleicheweg 11\, 3550 Langnau
CATEGORIES:Saison 2025/26
END:VEVENT
BEGIN:VEVENT
DTSTAMP:20260424T044415Z
DTSTART;TZID=Europe/Berlin:20260311T200000
DTEND;TZID=Europe/Berlin:20260311T230000
SUMMARY:O40 3. Liga Gr. 1 Langnau II vs Tiefenau (26)
UID:f95080f7-6e12-4dae-a6b4-5486f85d34fe
STATUS:CONFIRMED
LAST-MODIFIED:20260315T230630Z
DESCRIPTION:3. Liga O40 Gruppe 1 \nBegegnungs-Nr: 26\nHeim: Langnau II\nGast: Tiefenau\n\nAdresse: Bleicheweg 11\, 3550 Langnau\n
LOCATION:Bleicheweg 11\, 3550 Langnau
CATEGORIES:Saison 2025/26
END:VEVENT
BEGIN:VEVENT
DTSTAMP:20260424T044415Z
DTSTART;TZID=Europe/Berlin:20260228T140000
DTEND;TZID=Europe/Berlin:20260228T170000
SUMMARY:O40 3. Liga Gr. 1 Langnau II vs Münsingen (22)
UID:c7edeae7-ef08-417f-bfe3-1a715d90ea3e
STATUS:CONFIRMED
LAST-MODIFIED:20260302T145031Z
DESCRIPTION:3. Liga O40 Gruppe 1 \nBegegnungs-Nr: 22\nHeim: Langnau II\nGast: Münsingen\n\nAdresse: Bleicheweg 11\, 3550 Langnau\n
LOCATION:Bleicheweg 11\, 3550 Langnau
CATEGORIES:Saison 2025/26
END:VEVENT
BEGIN:VEVENT
DTSTAMP:20260424T044415Z
DTSTART;TZID=Europe/Berlin:20260214T140000
DTEND;TZID=Europe/Berlin:20260214T170000
SUMMARY:O40 3. Liga Gr. 1 Langnau II vs bls Spiez (15)
UID:2ec910d2-d0f3-4525-b26a-6bfd82f6560c
STATUS:CONFIRMED
LAST-MODIFIED:20260218T070102Z
DESCRIPTION:3. Liga O40 Gruppe 1 \nBegegnungs-Nr: 15\nHeim: Langnau II\nGast: bls Spiez\n\nAdresse: Bleicheweg 11\, 3550 Langnau\n
LOCATION:Bleicheweg 11\, 3550 Langnau
CATEGORIES:Saison 2025/26
END:VEVENT
BEGIN:VEVENT
DTSTAMP:20260424T044415Z
DTSTART;TZID=Europe/Berlin:20260121T200000
DTEND;TZID=Europe/Berlin:20260121T230000
SUMMARY:O40 3. Liga Gr. 1 Langnau II vs Heimberg II (7)
UID:6c962533-0cc8-4192-9a87-adb768d808d7
STATUS:CONFIRMED
LAST-MODIFIED:20260125T003016Z
DESCRIPTION:3. Liga O40 Gruppe 1 \nBegegnungs-Nr: 7\nHeim: Langnau II\nGast: Heimberg II\n\nAdresse: Bleicheweg 11\, 3550 Langnau\n
LOCATION:Bleicheweg 11\, 3550 Langnau
CATEGORIES:Saison 2025/26
END:VEVENT
BEGIN:VEVENT
DTSTAMP:20260424T044415Z
DTSTART;TZID=Europe/Berlin:20251127T194500
DTEND;TZID=Europe/Berlin:20251127T224500
SUMMARY:O40 3. Liga Gr. 1 Tiefenau vs Langnau II (26)
UID:77f673cb-3b83-476a-907f-87bfbdab1d54
STATUS:CONFIRMED
LAST-MODIFIED:20251207T182429Z
DESCRIPTION:3. Liga O40 Gruppe 1 \nBegegnungs-Nr: 26\nHeim: Tiefenau\nGast: Langnau II\n\nAdresse: Studerstrasse 56\, 3004 Bern\n
LOCATION:Studerstrasse 56\, 3004 Bern
CATEGORIES:Saison 2025/26
END:VEVENT
BEGIN:VEVENT
DTSTAMP:20260424T044415Z
DTSTART;TZID=Europe/Berlin:20251112T200000
DTEND;TZID=Europe/Berlin:20251112T230000
SUMMARY:O40 3. Liga Gr. 1 Münsingen vs Langnau II (22)
UID:68654cae-866c-4956-9fca-8ba1a876e092
STATUS:CONFIRMED
LAST-MODIFIED:20251115T172721Z
DESCRIPTION:3. Liga O40 Gruppe 1 \nBegegnungs-Nr: 22\nHeim: Münsingen\nGast: Langnau II\n\nAdresse: Turnhallenweg 8\, 3110 Münsingen\n
LOCATION:Turnhallenweg 8\, 3110 Münsingen
CATEGORIES:Saison 2025/26
END:VEVENT
BEGIN:VEVENT
DTSTAMP:20260424T044415Z
DTSTART;TZID=Europe/Berlin:20251021T194500
DTEND;TZID=Europe/Berlin:20251021T224500
SUMMARY:O40 3. Liga Gr. 1 bls Spiez vs Langnau II (15)
UID:d166db9a-7d75-4eff-b813-89229bc52ca4
STATUS:CONFIRMED
LAST-MODIFIED:20251029T221622Z
DESCRIPTION:3. Liga O40 Gruppe 1 \nBegegnungs-Nr: 15\nHeim: bls Spiez\nGast: Langnau II\n\nAdresse: Hofachernweg 19 / Oberlandstr. 89\, 3700 Spiez\n
LOCATION:Hofachernweg 19 / Oberlandstr. 89\, 3700 Spiez
CATEGORIES:Saison 2025/26
END:VEVENT
BEGIN:VEVENT
DTSTAMP:20260424T044415Z
DTSTART;TZID=Europe/Berlin:20250908T193000
DTEND;TZID=Europe/Berlin:20250908T223000
SUMMARY:O40 3. Liga Gr. 1 Heimberg II vs Langnau II (7)
UID:f2d88fdf-4218-4f4e-a06b-35a42337d1b7
STATUS:CONFIRMED
LAST-MODIFIED:20250918T140305Z
DESCRIPTION:3. Liga O40 Gruppe 1 \nBegegnungs-Nr: 7\nHeim: Heimberg II\nGast: Langnau II\n\nAdresse: Schulhausstrasse 20\, 3672 Oberdiessbach\n
LOCATION:Schulhausstrasse 20\, 3672 Oberdiessbach
CATEGORIES:Saison 2025/26
END:VEVENT
BEGIN:VEVENT
DTSTAMP:20260424T044415Z
DTSTART;TZID=Europe/Berlin:20260401T194500
DTEND;TZID=Europe/Berlin:20260401T224500
SUMMARY:O40 3. Liga Gr. 1 Stettlen vs Langnau II (34)
UID:f13624a9-ddb5-479d-ae97-366be9718c3b
STATUS:CONFIRMED
LAST-MODIFIED:20260409T124046Z
DESCRIPTION:3. Liga O40 Gruppe 1 \nBegegnungs-Nr: 34\nHeim: Stettlen\nGast: Langnau II\n\nAdresse: Bernstrasse 45\, 3066 Stettlen\n
LOCATION:Bernstrasse 45\, 3066 Stettlen
CATEGORIES:Saison 2025/26
END:VEVENT
BEGIN:VEVENT
DTSTAMP:20260424T044415Z
DTSTART;TZID=Europe/Berlin:20260324T193000
DTEND;TZID=Europe/Berlin:20260324T223000
SUMMARY:O40 3. Liga Gr. 1 Ostermundigen II vs Langnau II (29)
UID:a7e600ce-e933-4827-972a-9789e263c126
STATUS:CONFIRMED
LAST-MODIFIED:20260409T123306Z
DESCRIPTION:3. Liga O40 Gruppe 1 \nBegegnungs-Nr: 29\nHeim: Ostermundigen II\nGast: Langnau II\n\nAdresse: Dennigkofenweg 169\, 3072 Ostermundigen\n
LOCATION:Dennigkofenweg 169\, 3072 Ostermundigen
CATEGORIES:Saison 2025/26
END:VEVENT
BEGIN:VEVENT
DTSTAMP:20260424T044415Z
DTSTART;TZID=Europe/Berlin:20260127T194500
DTEND;TZID=Europe/Berlin:20260127T224500
SUMMARY:O40 3. Liga Gr. 1 Regio Moossee vs Langnau II (11)
UID:aa97319d-cb7f-495d-9e17-2699539fc97c
STATUS:CONFIRMED
LAST-MODIFIED:20260217T213618Z
DESCRIPTION:3. Liga O40 Gruppe 1 \nBegegnungs-Nr: 11\nHeim: Regio Moossee\nGast: Langnau II\n\nAdresse: Schulhausstrasse 23-25\, 3302 Moosseedorf\n
LOCATION:Schulhausstrasse 23-25\, 3302 Moosseedorf
CATEGORIES:Saison 2025/26
END:VEVENT
BEGIN:VEVENT
DTSTAMP:20260424T044415Z
DTSTART;TZID=Europe/Berlin:20260112T200000
DTEND;TZID=Europe/Berlin:20260112T230000
SUMMARY:O40 3. Liga Gr. 1 Niederscherli vs Langnau II (3)
UID:c49679f2-0444-4448-b41a-b1fe8a4ad7d2
STATUS:CONFIRMED
LAST-MODIFIED:20260125T003054Z
DESCRIPTION:3. Liga O40 Gruppe 1 \nBegegnungs-Nr: 3\nHeim: Niederscherli\nGast: Langnau II\n\nAdresse: Bodengässli 6\, 3145 Niederscherli\n
LOCATION:Bodengässli 6\, 3145 Niederscherli
CATEGORIES:Saison 2025/26
END:VEVENT
END:VCALENDAR
