BEGIN:VCALENDAR
PRODID:-//nuDatenautomaten//framework iCal4j //DE
VERSION:2.0
CALSCALE:GREGORIAN
BEGIN:VTIMEZONE
TZID:Europe/Berlin
LAST-MODIFIED:20260306T231828Z
TZURL:https://www.tzurl.org/zoneinfo/Europe/Berlin
X-LIC-LOCATION:Europe/Berlin
X-PROLEPTIC-TZNAME:LMT
BEGIN:STANDARD
TZNAME:CET
TZOFFSETFROM:+005328
TZOFFSETTO:+0100
DTSTART:18930401T000000
END:STANDARD
BEGIN:DAYLIGHT
TZNAME:CEST
TZOFFSETFROM:+0100
TZOFFSETTO:+0200
DTSTART:19160430T230000
RDATE:19400401T020000
RDATE:19430329T020000
RDATE:19460414T020000
RDATE:19470406T030000
RDATE:19480418T020000
RDATE:19490410T020000
RDATE:19800406T020000
END:DAYLIGHT
BEGIN:STANDARD
TZNAME:CET
TZOFFSETFROM:+0200
TZOFFSETTO:+0100
DTSTART:19161001T010000
RDATE:19421102T030000
RDATE:19431004T030000
RDATE:19441002T030000
RDATE:19451118T030000
RDATE:19461007T030000
END:STANDARD
BEGIN:DAYLIGHT
TZNAME:CEST
TZOFFSETFROM:+0100
TZOFFSETTO:+0200
DTSTART:19170416T020000
RRULE:FREQ=YEARLY;UNTIL=19180415T010000Z;BYMONTH=4;BYDAY=3MO
END:DAYLIGHT
BEGIN:STANDARD
TZNAME:CET
TZOFFSETFROM:+0200
TZOFFSETTO:+0100
DTSTART:19170917T030000
RRULE:FREQ=YEARLY;UNTIL=19180916T010000Z;BYMONTH=9;BYDAY=3MO
END:STANDARD
BEGIN:DAYLIGHT
TZNAME:CEST
TZOFFSETFROM:+0100
TZOFFSETTO:+0200
DTSTART:19440403T020000
RRULE:FREQ=YEARLY;UNTIL=19450402T010000Z;BYMONTH=4;BYDAY=1MO
END:DAYLIGHT
BEGIN:DAYLIGHT
TZNAME:CEMT
TZOFFSETFROM:+0200
TZOFFSETTO:+0300
DTSTART:19450524T020000
RDATE:19470511T030000
END:DAYLIGHT
BEGIN:DAYLIGHT
TZNAME:CEST
TZOFFSETFROM:+0300
TZOFFSETTO:+0200
DTSTART:19450924T030000
RDATE:19470629T030000
END:DAYLIGHT
BEGIN:STANDARD
TZNAME:CET
TZOFFSETFROM:+0100
TZOFFSETTO:+0100
DTSTART:19460101T000000
RDATE:19800101T000000
END:STANDARD
BEGIN:STANDARD
TZNAME:CET
TZOFFSETFROM:+0200
TZOFFSETTO:+0100
DTSTART:19471005T030000
RRULE:FREQ=YEARLY;UNTIL=19491002T010000Z;BYMONTH=10;BYDAY=1SU
END:STANDARD
BEGIN:STANDARD
TZNAME:CET
TZOFFSETFROM:+0200
TZOFFSETTO:+0100
DTSTART:19800928T030000
RRULE:FREQ=YEARLY;UNTIL=19950924T010000Z;BYMONTH=9;BYDAY=-1SU
END:STANDARD
BEGIN:DAYLIGHT
TZNAME:CEST
TZOFFSETFROM:+0100
TZOFFSETTO:+0200
DTSTART:19810329T020000
RRULE:FREQ=YEARLY;BYMONTH=3;BYDAY=-1SU
END:DAYLIGHT
BEGIN:STANDARD
TZNAME:CET
TZOFFSETFROM:+0200
TZOFFSETTO:+0100
DTSTART:19961027T030000
RRULE:FREQ=YEARLY;BYMONTH=10;BYDAY=-1SU
END:STANDARD
END:VTIMEZONE
BEGIN:VEVENT
DTSTAMP:20260424T063610Z
DTSTART;TZID=Europe/Berlin:20260307T140000
DTEND;TZID=Europe/Berlin:20260307T170000
SUMMARY:HE 5. Liga Gr. 1 Langnau V vs Interlaken III (20)
UID:5a681381-7995-4356-bbbc-7f2596691ad2
STATUS:CONFIRMED
LAST-MODIFIED:20260308T174827Z
DESCRIPTION:5. Liga Herren Gruppe 1\nBegegnungs-Nr: 20\nHeim: Langnau V\nGast: Interlaken III\n\nAdresse: Bleicheweg 11\, 3550 Langnau\n
LOCATION:Bleicheweg 11\, 3550 Langnau
CATEGORIES:Saison 2025/26
END:VEVENT
BEGIN:VEVENT
DTSTAMP:20260424T063610Z
DTSTART;TZID=Europe/Berlin:20260325T200000
DTEND;TZID=Europe/Berlin:20260325T230000
SUMMARY:HE 5. Liga Gr. 1 Langnau V vs Thun VI (28)
UID:1417ee36-6e4a-43bc-93e0-c534212b1dec
STATUS:CONFIRMED
LAST-MODIFIED:20260409T123107Z
DESCRIPTION:5. Liga Herren Gruppe 1\nBegegnungs-Nr: 28\nHeim: Langnau V\nGast: Thun VI\n\nAdresse: Bleicheweg 11\, 3550 Langnau\n
LOCATION:Bleicheweg 11\, 3550 Langnau
CATEGORIES:Saison 2025/26
END:VEVENT
BEGIN:VEVENT
DTSTAMP:20260424T063610Z
DTSTART;TZID=Europe/Berlin:20260110T140000
DTEND;TZID=Europe/Berlin:20260110T170000
SUMMARY:HE 5. Liga Gr. 1 Langnau V vs Worb III (1)
UID:6957f481-c5fd-4895-8db8-e0379909abd5
STATUS:CONFIRMED
LAST-MODIFIED:20260125T002150Z
DESCRIPTION:5. Liga Herren Gruppe 1\nBegegnungs-Nr: 1\nHeim: Langnau V\nGast: Worb III\n\nAdresse: Bleicheweg 11\, 3550 Langnau\n
LOCATION:Bleicheweg 11\, 3550 Langnau
CATEGORIES:Saison 2025/26
END:VEVENT
BEGIN:VEVENT
DTSTAMP:20260424T063610Z
DTSTART;TZID=Europe/Berlin:20260211T200000
DTEND;TZID=Europe/Berlin:20260211T230000
SUMMARY:HE 5. Liga Gr. 1 Langnau V vs Münsingen IV (11)
UID:ebcf9952-a69b-488e-a453-188025461204
STATUS:CONFIRMED
LAST-MODIFIED:20260217T214126Z
DESCRIPTION:5. Liga Herren Gruppe 1\nBegegnungs-Nr: 11\nHeim: Langnau V\nGast: Münsingen IV\n\nAdresse: Bleicheweg 11\, 3550 Langnau\n
LOCATION:Bleicheweg 11\, 3550 Langnau
CATEGORIES:Saison 2025/26
END:VEVENT
BEGIN:VEVENT
DTSTAMP:20260424T063610Z
DTSTART;TZID=Europe/Berlin:20251206T140000
DTEND;TZID=Europe/Berlin:20251206T170000
SUMMARY:HE 5. Liga Gr. 1 Langnau V vs Steffisburg (23)
UID:9640a628-4453-4129-9635-32fc02e0849c
STATUS:CONFIRMED
LAST-MODIFIED:20251207T173629Z
DESCRIPTION:5. Liga Herren Gruppe 1\nBegegnungs-Nr: 23\nHeim: Langnau V\nGast: Steffisburg\n\nAdresse: Bleicheweg 11\, 3550 Langnau\n
LOCATION:Bleicheweg 11\, 3550 Langnau
CATEGORIES:Saison 2025/26
END:VEVENT
BEGIN:VEVENT
DTSTAMP:20260424T063610Z
DTSTART;TZID=Europe/Berlin:20251105T200000
DTEND;TZID=Europe/Berlin:20251105T230000
SUMMARY:HE 5. Liga Gr. 1 Langnau V vs Bern X (16)
UID:80cb6f9e-7cf7-49ee-9d63-a9ec34c78f72
STATUS:CONFIRMED
LAST-MODIFIED:20251115T173059Z
DESCRIPTION:5. Liga Herren Gruppe 1\nBegegnungs-Nr: 16\nHeim: Langnau V\nGast: Bern X\n\nAdresse: Bleicheweg 11\, 3550 Langnau\n
LOCATION:Bleicheweg 11\, 3550 Langnau
CATEGORIES:Saison 2025/26
END:VEVENT
BEGIN:VEVENT
DTSTAMP:20260424T063610Z
DTSTART;TZID=Europe/Berlin:20250924T200000
DTEND;TZID=Europe/Berlin:20250924T230000
SUMMARY:HE 5. Liga Gr. 1 Langnau V vs Wichtrach II (6)
UID:b7ae5aa4-7ec1-4a7c-8f62-707e04550cb3
STATUS:CONFIRMED
LAST-MODIFIED:20251003T172904Z
DESCRIPTION:5. Liga Herren Gruppe 1\nBegegnungs-Nr: 6\nHeim: Langnau V\nGast: Wichtrach II\n\nAdresse: Bleicheweg 11\, 3550 Langnau\n
LOCATION:Bleicheweg 11\, 3550 Langnau
CATEGORIES:Saison 2025/26
END:VEVENT
BEGIN:VEVENT
DTSTAMP:20260424T063610Z
DTSTART;TZID=Europe/Berlin:20260123T200000
DTEND;TZID=Europe/Berlin:20260123T230000
SUMMARY:HE 5. Liga Gr. 1 Wichtrach II vs Langnau V (6)
UID:f8a8c8bd-ed97-4a68-b321-df35d811dc9a
STATUS:CONFIRMED
LAST-MODIFIED:20260217T214039Z
DESCRIPTION:5. Liga Herren Gruppe 1\nBegegnungs-Nr: 6\nHeim: Wichtrach II\nGast: Langnau V\n\nAdresse: Hängertstrasse 4\, 3114 Wichtrach\n
LOCATION:Hängertstrasse 4\, 3114 Wichtrach
CATEGORIES:Saison 2025/26
END:VEVENT
BEGIN:VEVENT
DTSTAMP:20260424T063610Z
DTSTART;TZID=Europe/Berlin:20260320T194500
DTEND;TZID=Europe/Berlin:20260320T224500
SUMMARY:HE 5. Liga Gr. 1 Steffisburg vs Langnau V (23)
UID:04d12134-15df-4bd2-aabd-8af6190ef134
STATUS:CONFIRMED
LAST-MODIFIED:20260327T143822Z
DESCRIPTION:5. Liga Herren Gruppe 1\nBegegnungs-Nr: 23\nHeim: Steffisburg\nGast: Langnau V\n\nAdresse: Sonnenfeldstrasse 10\, 3613 Steffisburg\n
LOCATION:Sonnenfeldstrasse 10\, 3613 Steffisburg
CATEGORIES:Saison 2025/26
END:VEVENT
BEGIN:VEVENT
DTSTAMP:20260424T063610Z
DTSTART;TZID=Europe/Berlin:20260223T193000
DTEND;TZID=Europe/Berlin:20260223T223000
SUMMARY:HE 5. Liga Gr. 1 Bern X vs Langnau V (16)
UID:0a27d60e-8982-4f0c-8dd2-9eee26627804
STATUS:CONFIRMED
LAST-MODIFIED:20260302T144806Z
DESCRIPTION:5. Liga Herren Gruppe 1\nBegegnungs-Nr: 16\nHeim: Bern X\nGast: Langnau V\n\nAdresse: Mädergutstrasse 58\, 3018 Bern\n
LOCATION:Mädergutstrasse 58\, 3018 Bern
CATEGORIES:Saison 2025/26
END:VEVENT
BEGIN:VEVENT
DTSTAMP:20260424T063610Z
DTSTART;TZID=Europe/Berlin:20251108T160000
DTEND;TZID=Europe/Berlin:20251108T190000
SUMMARY:HE 5. Liga Gr. 1 Thun VI vs Langnau V (28)
UID:43f8c6dd-280e-4401-8b4a-bcb41434c0cb
STATUS:CONFIRMED
LAST-MODIFIED:20251115T173126Z
DESCRIPTION:5. Liga Herren Gruppe 1\nBegegnungs-Nr: 28\nHeim: Thun VI\nGast: Langnau V\n\nAdresse: Hallerstrasse 28\, 3604 Thun\n
LOCATION:Hallerstrasse 28\, 3604 Thun
CATEGORIES:Saison 2025/26
END:VEVENT
BEGIN:VEVENT
DTSTAMP:20260424T063610Z
DTSTART;TZID=Europe/Berlin:20251114T200000
DTEND;TZID=Europe/Berlin:20251114T230000
SUMMARY:HE 5. Liga Gr. 1 Interlaken III vs Langnau V (20)
UID:70cb1a94-c8c6-4f90-910e-5ccdd6f0520d
STATUS:CONFIRMED
LAST-MODIFIED:20251115T173159Z
DESCRIPTION:5. Liga Herren Gruppe 1\nBegegnungs-Nr: 20\nHeim: Interlaken III\nGast: Langnau V\n\nAdresse: Burgweg 239R\, 3852 Ringgenberg\n
LOCATION:Burgweg 239R\, 3852 Ringgenberg
CATEGORIES:Saison 2025/26
END:VEVENT
BEGIN:VEVENT
DTSTAMP:20260424T063610Z
DTSTART;TZID=Europe/Berlin:20250919T194500
DTEND;TZID=Europe/Berlin:20250919T224500
SUMMARY:HE 5. Liga Gr. 1 Worb III vs Langnau V (1)
UID:b2f878d0-67bd-498a-b87a-c2aa04911f2f
STATUS:CONFIRMED
LAST-MODIFIED:20250921T150253Z
DESCRIPTION:5. Liga Herren Gruppe 1\nBegegnungs-Nr: 1\nHeim: Worb III\nGast: Langnau V\n\nAdresse: Rosenweg 9\, 3075 Rüfenacht BE\n
LOCATION:Rosenweg 9\, 3075 Rüfenacht BE
CATEGORIES:Saison 2025/26
END:VEVENT
BEGIN:VEVENT
DTSTAMP:20260424T063610Z
DTSTART;TZID=Europe/Berlin:20251015T200000
DTEND;TZID=Europe/Berlin:20251015T230000
SUMMARY:HE 5. Liga Gr. 1 Münsingen IV vs Langnau V (11)
UID:55098a64-1916-45ea-8769-6bec5d4bcfc8
STATUS:CONFIRMED
LAST-MODIFIED:20251016T191213Z
DESCRIPTION:5. Liga Herren Gruppe 1\nBegegnungs-Nr: 11\nHeim: Münsingen IV\nGast: Langnau V\n\nAdresse: Turnhallenweg 8\, 3110 Münsingen\n
LOCATION:Turnhallenweg 8\, 3110 Münsingen
CATEGORIES:Saison 2025/26
END:VEVENT
END:VCALENDAR
