BEGIN:VCALENDAR
PRODID:-//nuDatenautomaten//framework iCal4j //DE
VERSION:2.0
CALSCALE:GREGORIAN
BEGIN:VTIMEZONE
TZID:Europe/Berlin
LAST-MODIFIED:20260306T231828Z
TZURL:https://www.tzurl.org/zoneinfo/Europe/Berlin
X-LIC-LOCATION:Europe/Berlin
X-PROLEPTIC-TZNAME:LMT
BEGIN:STANDARD
TZNAME:CET
TZOFFSETFROM:+005328
TZOFFSETTO:+0100
DTSTART:18930401T000000
END:STANDARD
BEGIN:DAYLIGHT
TZNAME:CEST
TZOFFSETFROM:+0100
TZOFFSETTO:+0200
DTSTART:19160430T230000
RDATE:19400401T020000
RDATE:19430329T020000
RDATE:19460414T020000
RDATE:19470406T030000
RDATE:19480418T020000
RDATE:19490410T020000
RDATE:19800406T020000
END:DAYLIGHT
BEGIN:STANDARD
TZNAME:CET
TZOFFSETFROM:+0200
TZOFFSETTO:+0100
DTSTART:19161001T010000
RDATE:19421102T030000
RDATE:19431004T030000
RDATE:19441002T030000
RDATE:19451118T030000
RDATE:19461007T030000
END:STANDARD
BEGIN:DAYLIGHT
TZNAME:CEST
TZOFFSETFROM:+0100
TZOFFSETTO:+0200
DTSTART:19170416T020000
RRULE:FREQ=YEARLY;UNTIL=19180415T010000Z;BYMONTH=4;BYDAY=3MO
END:DAYLIGHT
BEGIN:STANDARD
TZNAME:CET
TZOFFSETFROM:+0200
TZOFFSETTO:+0100
DTSTART:19170917T030000
RRULE:FREQ=YEARLY;UNTIL=19180916T010000Z;BYMONTH=9;BYDAY=3MO
END:STANDARD
BEGIN:DAYLIGHT
TZNAME:CEST
TZOFFSETFROM:+0100
TZOFFSETTO:+0200
DTSTART:19440403T020000
RRULE:FREQ=YEARLY;UNTIL=19450402T010000Z;BYMONTH=4;BYDAY=1MO
END:DAYLIGHT
BEGIN:DAYLIGHT
TZNAME:CEMT
TZOFFSETFROM:+0200
TZOFFSETTO:+0300
DTSTART:19450524T020000
RDATE:19470511T030000
END:DAYLIGHT
BEGIN:DAYLIGHT
TZNAME:CEST
TZOFFSETFROM:+0300
TZOFFSETTO:+0200
DTSTART:19450924T030000
RDATE:19470629T030000
END:DAYLIGHT
BEGIN:STANDARD
TZNAME:CET
TZOFFSETFROM:+0100
TZOFFSETTO:+0100
DTSTART:19460101T000000
RDATE:19800101T000000
END:STANDARD
BEGIN:STANDARD
TZNAME:CET
TZOFFSETFROM:+0200
TZOFFSETTO:+0100
DTSTART:19471005T030000
RRULE:FREQ=YEARLY;UNTIL=19491002T010000Z;BYMONTH=10;BYDAY=1SU
END:STANDARD
BEGIN:STANDARD
TZNAME:CET
TZOFFSETFROM:+0200
TZOFFSETTO:+0100
DTSTART:19800928T030000
RRULE:FREQ=YEARLY;UNTIL=19950924T010000Z;BYMONTH=9;BYDAY=-1SU
END:STANDARD
BEGIN:DAYLIGHT
TZNAME:CEST
TZOFFSETFROM:+0100
TZOFFSETTO:+0200
DTSTART:19810329T020000
RRULE:FREQ=YEARLY;BYMONTH=3;BYDAY=-1SU
END:DAYLIGHT
BEGIN:STANDARD
TZNAME:CET
TZOFFSETFROM:+0200
TZOFFSETTO:+0100
DTSTART:19961027T030000
RRULE:FREQ=YEARLY;BYMONTH=10;BYDAY=-1SU
END:STANDARD
END:VTIMEZONE
BEGIN:VEVENT
DTSTAMP:20260424T121307Z
DTSTART;TZID=Europe/Berlin:20250830T130000
DTEND;TZID=Europe/Berlin:20250830T160000
SUMMARY:JUG\, 3.Li\, Gr.1\, VR Affoltern A/A III vs Bülach II (1)
UID:8a681535-7650-40d1-9f49-27f425b02373
STATUS:CONFIRMED
LAST-MODIFIED:20250902T124213Z
DESCRIPTION:Jugend\, 3. Liga\, Gruppe 1\, Vorrunde\nBegegnungs-Nr: 1\nHeim: Affoltern A/A III\nGast: Bülach II\nHalle: Poule in Affoltern a.A.\, Unteres Butzen\nAdresse: Butzenstrasse 8\, 8910 Affoltern am Albis\n
LOCATION:Poule in Affoltern a.A.\, Unteres Butzen Butzenstrasse 8\, 8910 Affoltern am Albis
CATEGORIES:Saison 2025/26
END:VEVENT
BEGIN:VEVENT
DTSTAMP:20260424T121307Z
DTSTART;TZID=Europe/Berlin:20251115T143000
DTEND;TZID=Europe/Berlin:20251115T173000
SUMMARY:JUG\, 3.Li\, Gr.2\, ZR Affoltern A/A III vs Young Stars ZH III (3)
UID:94aea9d3-d1da-4daf-811e-91e17a6b3a48
STATUS:CONFIRMED
LAST-MODIFIED:20251121T100012Z
DESCRIPTION:Jugend\, 3. Liga\, Gruppe 2\, Zwischenrunde\nBegegnungs-Nr: 3\nHeim: Affoltern A/A III\nGast: Young Stars ZH III\n\nAdresse: Butzenstrasse 8\, 8910 Affoltern am Albis\n
LOCATION:Butzenstrasse 8\, 8910 Affoltern am Albis
CATEGORIES:Saison 2025/26
END:VEVENT
BEGIN:VEVENT
DTSTAMP:20260424T121307Z
DTSTART;TZID=Europe/Berlin:20250830T143000
DTEND;TZID=Europe/Berlin:20250830T173000
SUMMARY:JUG\, 3.Li\, Gr.1\, VR Affoltern A/A III vs Zürich (4)
UID:a136ff61-8a5d-4fde-a90a-ffb4803f85b6
STATUS:CONFIRMED
LAST-MODIFIED:20250902T124315Z
DESCRIPTION:Jugend\, 3. Liga\, Gruppe 1\, Vorrunde\nBegegnungs-Nr: 4\nHeim: Affoltern A/A III\nGast: Zürich\n\nAdresse: Butzenstrasse 8\, 8910 Affoltern am Albis\n
LOCATION:Butzenstrasse 8\, 8910 Affoltern am Albis
CATEGORIES:Saison 2025/26
END:VEVENT
BEGIN:VEVENT
DTSTAMP:20260424T121307Z
DTSTART;TZID=Europe/Berlin:20260328T160000
DTEND;TZID=Europe/Berlin:20260328T190000
SUMMARY:JUG\, 3.Li\, Gr.2\, Final Affoltern A/A III vs Winterthur II (6)
UID:d54d8ec8-dd90-4293-905f-c5fae1ba177d
STATUS:CONFIRMED
LAST-MODIFIED:20260401T135828Z
DESCRIPTION:Jugend\, 3. Liga\, Gruppe 2\, Final\nBegegnungs-Nr: 6\nHeim: Affoltern A/A III\nGast: Winterthur II\n\nAdresse: Butzenstrasse 8\, 8910 Affoltern am Albis\n
LOCATION:Butzenstrasse 8\, 8910 Affoltern am Albis
CATEGORIES:Saison 2025/26
END:VEVENT
BEGIN:VEVENT
DTSTAMP:20260424T121307Z
DTSTART;TZID=Europe/Berlin:20251115T130000
DTEND;TZID=Europe/Berlin:20251115T160000
SUMMARY:JUG\, 3.Li\, Gr.2\, ZR Horgen II vs Affoltern A/A III (1)
UID:85f18d8e-2363-4abb-b07d-e3edd13292bb
STATUS:CONFIRMED
LAST-MODIFIED:20251124T150641Z
DESCRIPTION:Jugend\, 3. Liga\, Gruppe 2\, Zwischenrunde\nBegegnungs-Nr: 1\nHeim: Horgen II\nGast: Affoltern A/A III\nHalle: Poule in Horgen\, Bildungszentrum 2. UG\nAdresse: Seestrasse 110\, 8810 Horgen\n
LOCATION:Poule in Horgen\, Bildungszentrum 2. UG Seestrasse 110\, 8810 Horgen
CATEGORIES:Saison 2025/26
END:VEVENT
BEGIN:VEVENT
DTSTAMP:20260424T121307Z
DTSTART;TZID=Europe/Berlin:20251115T160000
DTEND;TZID=Europe/Berlin:20251115T190000
SUMMARY:JUG\, 3.Li\, Gr.2\, ZR Kloten III vs Affoltern A/A III (5)
UID:0ce86e6c-0e67-4749-9923-c80045fb7812
STATUS:CONFIRMED
LAST-MODIFIED:20251124T150650Z
DESCRIPTION:Jugend\, 3. Liga\, Gruppe 2\, Zwischenrunde\nBegegnungs-Nr: 5\nHeim: Kloten III\nGast: Affoltern A/A III\n\nAdresse: Schluefweg 10\, 8302 Kloten\n
LOCATION:Schluefweg 10\, 8302 Kloten
CATEGORIES:Saison 2025/26
END:VEVENT
BEGIN:VEVENT
DTSTAMP:20260424T121307Z
DTSTART;TZID=Europe/Berlin:20250830T160000
DTEND;TZID=Europe/Berlin:20250830T190000
SUMMARY:JUG\, 3.Li\, Gr.1\, VR Zürich-Affoltern V vs Affoltern A/A III (6)
UID:70f657f5-7364-4503-93db-5134bb83a01b
STATUS:CONFIRMED
LAST-MODIFIED:20250902T124341Z
DESCRIPTION:Jugend\, 3. Liga\, Gruppe 1\, Vorrunde\nBegegnungs-Nr: 6\nHeim: Zürich-Affoltern V\nGast: Affoltern A/A III\n\nAdresse: Rümlangstr. 89\, 8052 Zürich\n
LOCATION:Rümlangstr. 89\, 8052 Zürich
CATEGORIES:Saison 2025/26
END:VEVENT
BEGIN:VEVENT
DTSTAMP:20260424T121307Z
DTSTART;TZID=Europe/Berlin:20260328T130000
DTEND;TZID=Europe/Berlin:20260328T160000
SUMMARY:JUG\, 3.Li\, Gr.2\, Final Buchs Zürich vs Affoltern A/A III (2)
UID:57555d5c-478d-4b3d-8c8d-fd20bb9e2905
STATUS:CONFIRMED
LAST-MODIFIED:20260401T135735Z
DESCRIPTION:Jugend\, 3. Liga\, Gruppe 2\, Final\nBegegnungs-Nr: 2\nHeim: Buchs Zürich\nGast: Affoltern A/A III\n\nAdresse: Drisglerstrasse 3\, 8107 Buchs ZH\n
LOCATION:Drisglerstrasse 3\, 8107 Buchs ZH
CATEGORIES:Saison 2025/26
END:VEVENT
BEGIN:VEVENT
DTSTAMP:20260424T121307Z
DTSTART;TZID=Europe/Berlin:20260328T143000
DTEND;TZID=Europe/Berlin:20260328T173000
SUMMARY:JUG\, 3.Li\, Gr.2\, Final Wil SG II vs Affoltern A/A III (3)
UID:c705fd35-e017-48a2-a523-636d65a721c5
STATUS:CONFIRMED
LAST-MODIFIED:20260401T135745Z
DESCRIPTION:Jugend\, 3. Liga\, Gruppe 2\, Final\nBegegnungs-Nr: 3\nHeim: Wil SG II\nGast: Affoltern A/A III\n\nAdresse: Lindenhofstr. 23\, 9500 Wil\n
LOCATION:Lindenhofstr. 23\, 9500 Wil
CATEGORIES:Saison 2025/26
END:VEVENT
END:VCALENDAR
