BEGIN:VCALENDAR
PRODID:-//nuDatenautomaten//framework iCal4j //DE
VERSION:2.0
CALSCALE:GREGORIAN
BEGIN:VTIMEZONE
TZID:Europe/Berlin
LAST-MODIFIED:20260306T231828Z
TZURL:https://www.tzurl.org/zoneinfo/Europe/Berlin
X-LIC-LOCATION:Europe/Berlin
X-PROLEPTIC-TZNAME:LMT
BEGIN:STANDARD
TZNAME:CET
TZOFFSETFROM:+005328
TZOFFSETTO:+0100
DTSTART:18930401T000000
END:STANDARD
BEGIN:DAYLIGHT
TZNAME:CEST
TZOFFSETFROM:+0100
TZOFFSETTO:+0200
DTSTART:19160430T230000
RDATE:19400401T020000
RDATE:19430329T020000
RDATE:19460414T020000
RDATE:19470406T030000
RDATE:19480418T020000
RDATE:19490410T020000
RDATE:19800406T020000
END:DAYLIGHT
BEGIN:STANDARD
TZNAME:CET
TZOFFSETFROM:+0200
TZOFFSETTO:+0100
DTSTART:19161001T010000
RDATE:19421102T030000
RDATE:19431004T030000
RDATE:19441002T030000
RDATE:19451118T030000
RDATE:19461007T030000
END:STANDARD
BEGIN:DAYLIGHT
TZNAME:CEST
TZOFFSETFROM:+0100
TZOFFSETTO:+0200
DTSTART:19170416T020000
RRULE:FREQ=YEARLY;UNTIL=19180415T010000Z;BYMONTH=4;BYDAY=3MO
END:DAYLIGHT
BEGIN:STANDARD
TZNAME:CET
TZOFFSETFROM:+0200
TZOFFSETTO:+0100
DTSTART:19170917T030000
RRULE:FREQ=YEARLY;UNTIL=19180916T010000Z;BYMONTH=9;BYDAY=3MO
END:STANDARD
BEGIN:DAYLIGHT
TZNAME:CEST
TZOFFSETFROM:+0100
TZOFFSETTO:+0200
DTSTART:19440403T020000
RRULE:FREQ=YEARLY;UNTIL=19450402T010000Z;BYMONTH=4;BYDAY=1MO
END:DAYLIGHT
BEGIN:DAYLIGHT
TZNAME:CEMT
TZOFFSETFROM:+0200
TZOFFSETTO:+0300
DTSTART:19450524T020000
RDATE:19470511T030000
END:DAYLIGHT
BEGIN:DAYLIGHT
TZNAME:CEST
TZOFFSETFROM:+0300
TZOFFSETTO:+0200
DTSTART:19450924T030000
RDATE:19470629T030000
END:DAYLIGHT
BEGIN:STANDARD
TZNAME:CET
TZOFFSETFROM:+0100
TZOFFSETTO:+0100
DTSTART:19460101T000000
RDATE:19800101T000000
END:STANDARD
BEGIN:STANDARD
TZNAME:CET
TZOFFSETFROM:+0200
TZOFFSETTO:+0100
DTSTART:19471005T030000
RRULE:FREQ=YEARLY;UNTIL=19491002T010000Z;BYMONTH=10;BYDAY=1SU
END:STANDARD
BEGIN:STANDARD
TZNAME:CET
TZOFFSETFROM:+0200
TZOFFSETTO:+0100
DTSTART:19800928T030000
RRULE:FREQ=YEARLY;UNTIL=19950924T010000Z;BYMONTH=9;BYDAY=-1SU
END:STANDARD
BEGIN:DAYLIGHT
TZNAME:CEST
TZOFFSETFROM:+0100
TZOFFSETTO:+0200
DTSTART:19810329T020000
RRULE:FREQ=YEARLY;BYMONTH=3;BYDAY=-1SU
END:DAYLIGHT
BEGIN:STANDARD
TZNAME:CET
TZOFFSETFROM:+0200
TZOFFSETTO:+0100
DTSTART:19961027T030000
RRULE:FREQ=YEARLY;BYMONTH=10;BYDAY=-1SU
END:STANDARD
END:VTIMEZONE
BEGIN:VEVENT
DTSTAMP:20260424T135907Z
DTSTART;TZID=Europe/Berlin:20250918T200000
DTEND;TZID=Europe/Berlin:20250918T230000
SUMMARY:HE 4. Liga Gr. 3 Düdingen II vs Schmitten (5)
UID:8dd8183c-326c-4f2d-be98-16dfaf68d82e
STATUS:CONFIRMED
LAST-MODIFIED:20250921T150412Z
DESCRIPTION:4. Liga Herren Gruppe 3\nBegegnungs-Nr: 5\nHeim: Düdingen II\nGast: Schmitten\n\nAdresse: Alfons-Aeby-Strasse\, 3186 Düdingen\n
LOCATION:Alfons-Aeby-Strasse\, 3186 Düdingen
CATEGORIES:Saison 2025/26
END:VEVENT
BEGIN:VEVENT
DTSTAMP:20260424T135907Z
DTSTART;TZID=Europe/Berlin:20260226T194500
DTEND;TZID=Europe/Berlin:20260226T224500
SUMMARY:HE 4. Liga Gr. 3 Düdingen II vs Wohlensee II (19)
UID:b1467650-1a1b-4fb6-8c67-aed379dbf619
STATUS:CONFIRMED
LAST-MODIFIED:20260302T144713Z
DESCRIPTION:4. Liga Herren Gruppe 3\nBegegnungs-Nr: 19\nHeim: Düdingen II\nGast: Wohlensee II\n\nAdresse: Alfons-Aeby-Strasse\, 3186 Düdingen\n
LOCATION:Alfons-Aeby-Strasse\, 3186 Düdingen
CATEGORIES:Saison 2025/26
END:VEVENT
BEGIN:VEVENT
DTSTAMP:20260424T135907Z
DTSTART;TZID=Europe/Berlin:20260205T194500
DTEND;TZID=Europe/Berlin:20260205T224500
SUMMARY:HE 4. Liga Gr. 3 Düdingen II vs Ostermundigen VI (10)
UID:bcf19b94-0eb2-4ef0-b0c0-dd8260a662bb
STATUS:CONFIRMED
LAST-MODIFIED:20260217T214336Z
DESCRIPTION:4. Liga Herren Gruppe 3\nBegegnungs-Nr: 10\nHeim: Düdingen II\nGast: Ostermundigen VI\n\nAdresse: Alfons-Aeby-Strasse\, 3186 Düdingen\n
LOCATION:Alfons-Aeby-Strasse\, 3186 Düdingen
CATEGORIES:Saison 2025/26
END:VEVENT
BEGIN:VEVENT
DTSTAMP:20260424T135907Z
DTSTART;TZID=Europe/Berlin:20260115T194500
DTEND;TZID=Europe/Berlin:20260115T224500
SUMMARY:HE 4. Liga Gr. 3 Düdingen II vs Bern VI (4)
UID:87b7c7a5-d086-416b-9518-40d2e5d0bf4b
STATUS:CONFIRMED
LAST-MODIFIED:20260125T001748Z
DESCRIPTION:4. Liga Herren Gruppe 3\nBegegnungs-Nr: 4\nHeim: Düdingen II\nGast: Bern VI\n\nAdresse: Alfons-Aeby-Strasse\, 3186 Düdingen\n
LOCATION:Alfons-Aeby-Strasse\, 3186 Düdingen
CATEGORIES:Saison 2025/26
END:VEVENT
BEGIN:VEVENT
DTSTAMP:20260424T135907Z
DTSTART;TZID=Europe/Berlin:20251204T200000
DTEND;TZID=Europe/Berlin:20251204T230000
SUMMARY:HE 4. Liga Gr. 3 Düdingen II vs Köniz III (24)
UID:db777f32-800e-4033-b77b-b530058bcfc3
STATUS:CONFIRMED
LAST-MODIFIED:20251207T173043Z
DESCRIPTION:4. Liga Herren Gruppe 3\nBegegnungs-Nr: 24\nHeim: Düdingen II\nGast: Köniz III\n\nAdresse: Alfons-Aeby-Strasse\, 3186 Düdingen\n
LOCATION:Alfons-Aeby-Strasse\, 3186 Düdingen
CATEGORIES:Saison 2025/26
END:VEVENT
BEGIN:VEVENT
DTSTAMP:20260424T135907Z
DTSTART;TZID=Europe/Berlin:20251117T200000
DTEND;TZID=Europe/Berlin:20251117T230000
SUMMARY:HE 4. Liga Gr. 3 Düdingen II vs Schwarzenburg (15)
UID:71e0a8b4-d121-4dc9-b7a5-cf034106b842
STATUS:CONFIRMED
LAST-MODIFIED:20251122T091030Z
DESCRIPTION:4. Liga Herren Gruppe 3\nBegegnungs-Nr: 15\nHeim: Düdingen II\nGast: Schwarzenburg\n\nAdresse: Alfons-Aeby-Strasse\, 3186 Düdingen\n
LOCATION:Alfons-Aeby-Strasse\, 3186 Düdingen
CATEGORIES:Saison 2025/26
END:VEVENT
BEGIN:VEVENT
DTSTAMP:20260424T135907Z
DTSTART;TZID=Europe/Berlin:20251215T194500
DTEND;TZID=Europe/Berlin:20251215T224500
SUMMARY:HE 4. Liga Gr. 3 Düdingen II vs Ittigen II (28)
UID:390417e8-e48e-4afb-8476-21f3088ced72
STATUS:CONFIRMED
LAST-MODIFIED:20251216T120624Z
DESCRIPTION:4. Liga Herren Gruppe 3\nBegegnungs-Nr: 28\nHeim: Düdingen II\nGast: Ittigen II\n\nAdresse: Alfons-Aeby-Strasse\, 3186 Düdingen\n
LOCATION:Alfons-Aeby-Strasse\, 3186 Düdingen
CATEGORIES:Saison 2025/26
END:VEVENT
BEGIN:VEVENT
DTSTAMP:20260424T135907Z
DTSTART;TZID=Europe/Berlin:20250904T200000
DTEND;TZID=Europe/Berlin:20250904T230000
SUMMARY:HE 4. Liga Gr. 3 Bern VI vs Düdingen II (4)
UID:108baf61-732b-4fa9-812f-9ee0694fd48d
STATUS:CONFIRMED
LAST-MODIFIED:20250907T195755Z
DESCRIPTION:4. Liga Herren Gruppe 3\nBegegnungs-Nr: 4\nHeim: Bern VI\nGast: Düdingen II\n\nAdresse: Mädergutstrasse 58\, 3018 Bern\n
LOCATION:Mädergutstrasse 58\, 3018 Bern
CATEGORIES:Saison 2025/26
END:VEVENT
BEGIN:VEVENT
DTSTAMP:20260424T135907Z
DTSTART;TZID=Europe/Berlin:20260316T200000
DTEND;TZID=Europe/Berlin:20260316T230000
SUMMARY:HE 4. Liga Gr. 3 Köniz III vs Düdingen II (24)
UID:e6e3ceb1-c6db-49dc-99ca-b05077baea62
STATUS:CONFIRMED
LAST-MODIFIED:20260327T143535Z
DESCRIPTION:4. Liga Herren Gruppe 3\nBegegnungs-Nr: 24\nHeim: Köniz III\nGast: Düdingen II\n\nAdresse: Kirchstrasse 72-76\, 3084 Wabern\n
LOCATION:Kirchstrasse 72-76\, 3084 Wabern
CATEGORIES:Saison 2025/26
END:VEVENT
BEGIN:VEVENT
DTSTAMP:20260424T135907Z
DTSTART;TZID=Europe/Berlin:20260216T201500
DTEND;TZID=Europe/Berlin:20260216T231500
SUMMARY:HE 4. Liga Gr. 3 Schwarzenburg vs Düdingen II (15)
UID:ed1ac17a-dff9-44d2-b872-bd01bff5f698
STATUS:CONFIRMED
LAST-MODIFIED:20260217T214759Z
DESCRIPTION:4. Liga Herren Gruppe 3\nBegegnungs-Nr: 15\nHeim: Schwarzenburg\nGast: Düdingen II\n\nAdresse: Einschlag 21\, 3150 Schwarzenburg\n
LOCATION:Einschlag 21\, 3150 Schwarzenburg
CATEGORIES:Saison 2025/26
END:VEVENT
BEGIN:VEVENT
DTSTAMP:20260424T135907Z
DTSTART;TZID=Europe/Berlin:20260323T194500
DTEND;TZID=Europe/Berlin:20260323T224500
SUMMARY:HE 4. Liga Gr. 3 Ittigen II vs Düdingen II (28)
UID:b656af54-3ec1-4e9c-8ff1-86193b876cee
STATUS:CONFIRMED
LAST-MODIFIED:20260409T115152Z
DESCRIPTION:4. Liga Herren Gruppe 3\nBegegnungs-Nr: 28\nHeim: Ittigen II\nGast: Düdingen II\n\nAdresse: Fischrainweg 17\, 3048 Worblaufen\n
LOCATION:Fischrainweg 17\, 3048 Worblaufen
CATEGORIES:Saison 2025/26
END:VEVENT
BEGIN:VEVENT
DTSTAMP:20260424T135907Z
DTSTART;TZID=Europe/Berlin:20260129T201500
DTEND;TZID=Europe/Berlin:20260129T231500
SUMMARY:HE 4. Liga Gr. 3 Schmitten vs Düdingen II (5)
UID:df5ce981-b3d5-4418-935d-1af4896adf3d
STATUS:CONFIRMED
LAST-MODIFIED:20260217T214308Z
DESCRIPTION:4. Liga Herren Gruppe 3\nBegegnungs-Nr: 5\nHeim: Schmitten\nGast: Düdingen II\n\nAdresse: -\, 3185 Schmitten\n
LOCATION:-\, 3185 Schmitten
CATEGORIES:Saison 2025/26
END:VEVENT
BEGIN:VEVENT
DTSTAMP:20260424T135907Z
DTSTART;TZID=Europe/Berlin:20251112T194500
DTEND;TZID=Europe/Berlin:20251112T224500
SUMMARY:HE 4. Liga Gr. 3 Wohlensee II vs Düdingen II (19)
UID:8ac1b654-8469-463b-8cc6-83b97fdaf68a
STATUS:CONFIRMED
LAST-MODIFIED:20251115T174246Z
DESCRIPTION:4. Liga Herren Gruppe 3\nBegegnungs-Nr: 19\nHeim: Wohlensee II\nGast: Düdingen II\n\nAdresse: Kappelenring 36 a\, 3032 Hinterkappelen\n
LOCATION:Kappelenring 36 a\, 3032 Hinterkappelen
CATEGORIES:Saison 2025/26
END:VEVENT
BEGIN:VEVENT
DTSTAMP:20260424T135907Z
DTSTART;TZID=Europe/Berlin:20251029T194500
DTEND;TZID=Europe/Berlin:20251029T224500
SUMMARY:HE 4. Liga Gr. 3 Ostermundigen VI vs Düdingen II (10)
UID:ed39d7fa-713a-42d2-858a-f0bb1db88fc4
STATUS:CONFIRMED
LAST-MODIFIED:20251111T072753Z
DESCRIPTION:4. Liga Herren Gruppe 3\nBegegnungs-Nr: 10\nHeim: Ostermundigen VI\nGast: Düdingen II\n\nAdresse: Dennigkofenweg 169\, 3072 Ostermundigen\n
LOCATION:Dennigkofenweg 169\, 3072 Ostermundigen
CATEGORIES:Saison 2025/26
END:VEVENT
END:VCALENDAR
