BEGIN:VCALENDAR
PRODID:-//nuDatenautomaten//framework iCal4j //DE
VERSION:2.0
CALSCALE:GREGORIAN
BEGIN:VTIMEZONE
TZID:Europe/Berlin
LAST-MODIFIED:20260306T231828Z
TZURL:https://www.tzurl.org/zoneinfo/Europe/Berlin
X-LIC-LOCATION:Europe/Berlin
X-PROLEPTIC-TZNAME:LMT
BEGIN:STANDARD
TZNAME:CET
TZOFFSETFROM:+005328
TZOFFSETTO:+0100
DTSTART:18930401T000000
END:STANDARD
BEGIN:DAYLIGHT
TZNAME:CEST
TZOFFSETFROM:+0100
TZOFFSETTO:+0200
DTSTART:19160430T230000
RDATE:19400401T020000
RDATE:19430329T020000
RDATE:19460414T020000
RDATE:19470406T030000
RDATE:19480418T020000
RDATE:19490410T020000
RDATE:19800406T020000
END:DAYLIGHT
BEGIN:STANDARD
TZNAME:CET
TZOFFSETFROM:+0200
TZOFFSETTO:+0100
DTSTART:19161001T010000
RDATE:19421102T030000
RDATE:19431004T030000
RDATE:19441002T030000
RDATE:19451118T030000
RDATE:19461007T030000
END:STANDARD
BEGIN:DAYLIGHT
TZNAME:CEST
TZOFFSETFROM:+0100
TZOFFSETTO:+0200
DTSTART:19170416T020000
RRULE:FREQ=YEARLY;UNTIL=19180415T010000Z;BYMONTH=4;BYDAY=3MO
END:DAYLIGHT
BEGIN:STANDARD
TZNAME:CET
TZOFFSETFROM:+0200
TZOFFSETTO:+0100
DTSTART:19170917T030000
RRULE:FREQ=YEARLY;UNTIL=19180916T010000Z;BYMONTH=9;BYDAY=3MO
END:STANDARD
BEGIN:DAYLIGHT
TZNAME:CEST
TZOFFSETFROM:+0100
TZOFFSETTO:+0200
DTSTART:19440403T020000
RRULE:FREQ=YEARLY;UNTIL=19450402T010000Z;BYMONTH=4;BYDAY=1MO
END:DAYLIGHT
BEGIN:DAYLIGHT
TZNAME:CEMT
TZOFFSETFROM:+0200
TZOFFSETTO:+0300
DTSTART:19450524T020000
RDATE:19470511T030000
END:DAYLIGHT
BEGIN:DAYLIGHT
TZNAME:CEST
TZOFFSETFROM:+0300
TZOFFSETTO:+0200
DTSTART:19450924T030000
RDATE:19470629T030000
END:DAYLIGHT
BEGIN:STANDARD
TZNAME:CET
TZOFFSETFROM:+0100
TZOFFSETTO:+0100
DTSTART:19460101T000000
RDATE:19800101T000000
END:STANDARD
BEGIN:STANDARD
TZNAME:CET
TZOFFSETFROM:+0200
TZOFFSETTO:+0100
DTSTART:19471005T030000
RRULE:FREQ=YEARLY;UNTIL=19491002T010000Z;BYMONTH=10;BYDAY=1SU
END:STANDARD
BEGIN:STANDARD
TZNAME:CET
TZOFFSETFROM:+0200
TZOFFSETTO:+0100
DTSTART:19800928T030000
RRULE:FREQ=YEARLY;UNTIL=19950924T010000Z;BYMONTH=9;BYDAY=-1SU
END:STANDARD
BEGIN:DAYLIGHT
TZNAME:CEST
TZOFFSETFROM:+0100
TZOFFSETTO:+0200
DTSTART:19810329T020000
RRULE:FREQ=YEARLY;BYMONTH=3;BYDAY=-1SU
END:DAYLIGHT
BEGIN:STANDARD
TZNAME:CET
TZOFFSETFROM:+0200
TZOFFSETTO:+0100
DTSTART:19961027T030000
RRULE:FREQ=YEARLY;BYMONTH=10;BYDAY=-1SU
END:STANDARD
END:VTIMEZONE
BEGIN:VEVENT
DTSTAMP:20260424T103951Z
DTSTART;TZID=Europe/Berlin:20250913T133000
DTEND;TZID=Europe/Berlin:20250913T163000
SUMMARY:HE NLC Gr. 4 Rapperswil-Jona III vs Muolen (1)
UID:2bdd6eaf-cd7a-4409-8df5-e8705ca5c17d
STATUS:CONFIRMED
LAST-MODIFIED:20250918T112627Z
DESCRIPTION:Herren Nationalliga C Gruppe 4\nBegegnungs-Nr: 1\nHeim: Rapperswil-Jona III\nGast: Muolen\n\nAdresse: Kreuzstrasse 43\, 8640 Rapperswil\n
LOCATION:Kreuzstrasse 43\, 8640 Rapperswil
CATEGORIES:Saison 2025/26
END:VEVENT
BEGIN:VEVENT
DTSTAMP:20260424T103951Z
DTSTART;TZID=Europe/Berlin:20251011T133000
DTEND;TZID=Europe/Berlin:20251011T163000
SUMMARY:HE NLC Gr. 4 Rapperswil-Jona III vs Zürich-Affoltern (9)
UID:39810416-3e6b-42f6-bb8f-62a7ceb71fb7
STATUS:CONFIRMED
LAST-MODIFIED:20251013T102030Z
DESCRIPTION:Herren Nationalliga C Gruppe 4\nBegegnungs-Nr: 9\nHeim: Rapperswil-Jona III\nGast: Zürich-Affoltern\n\nAdresse: Kreuzstrasse 43\, 8640 Rapperswil\n
LOCATION:Kreuzstrasse 43\, 8640 Rapperswil
CATEGORIES:Saison 2025/26
END:VEVENT
BEGIN:VEVENT
DTSTAMP:20260424T103951Z
DTSTART;TZID=Europe/Berlin:20251107T200000
DTEND;TZID=Europe/Berlin:20251107T230000
SUMMARY:HE NLC Gr. 4 Rapperswil-Jona III vs Young Stars ZH III (17)
UID:b6450165-37a3-48b5-8317-debbb6690122
STATUS:CONFIRMED
LAST-MODIFIED:20251110T074800Z
DESCRIPTION:Herren Nationalliga C Gruppe 4\nBegegnungs-Nr: 17\nHeim: Rapperswil-Jona III\nGast: Young Stars ZH III\n\nAdresse: Kreuzstrasse 43\, 8640 Rapperswil\n
LOCATION:Kreuzstrasse 43\, 8640 Rapperswil
CATEGORIES:Saison 2025/26
END:VEVENT
BEGIN:VEVENT
DTSTAMP:20260424T103951Z
DTSTART;TZID=Europe/Berlin:20251206T133000
DTEND;TZID=Europe/Berlin:20251206T163000
SUMMARY:HE NLC Gr. 4 Rapperswil-Jona III vs Affoltern A/A (27)
UID:abd60886-e5dc-4c9d-9605-b810e115cc76
STATUS:CONFIRMED
LAST-MODIFIED:20251209T094904Z
DESCRIPTION:Herren Nationalliga C Gruppe 4\nBegegnungs-Nr: 27\nHeim: Rapperswil-Jona III\nGast: Affoltern A/A\n\nAdresse: Kreuzstrasse 43\, 8640 Rapperswil\n
LOCATION:Kreuzstrasse 43\, 8640 Rapperswil
CATEGORIES:Saison 2025/26
END:VEVENT
BEGIN:VEVENT
DTSTAMP:20260424T103951Z
DTSTART;TZID=Europe/Berlin:20260228T120000
DTEND;TZID=Europe/Berlin:20260228T150000
SUMMARY:HE NLC Gr. 4 Rapperswil-Jona III vs Neuhausen II (13)
UID:e254fea0-647f-4931-b1f6-df3a5694571d
STATUS:CONFIRMED
LAST-MODIFIED:20260302T215031Z
DESCRIPTION:Herren Nationalliga C Gruppe 4\nBegegnungs-Nr: 13\nHeim: Rapperswil-Jona III\nGast: Neuhausen II\n\nAdresse: Kreuzstrasse 43\, 8640 Rapperswil\n
LOCATION:Kreuzstrasse 43\, 8640 Rapperswil
CATEGORIES:Saison 2025/26
END:VEVENT
BEGIN:VEVENT
DTSTAMP:20260424T103951Z
DTSTART;TZID=Europe/Berlin:20260131T133000
DTEND;TZID=Europe/Berlin:20260131T163000
SUMMARY:HE NLC Gr. 4 Rapperswil-Jona III vs Lugano II (7)
UID:82cbbdc0-ac80-48e9-8ac2-132b4f007e82
STATUS:CONFIRMED
LAST-MODIFIED:20260203T081635Z
DESCRIPTION:Herren Nationalliga C Gruppe 4\nBegegnungs-Nr: 7\nHeim: Rapperswil-Jona III\nGast: Lugano II\n\nAdresse: Kreuzstrasse 43\, 8640 Rapperswil\n
LOCATION:Kreuzstrasse 43\, 8640 Rapperswil
CATEGORIES:Saison 2025/26
END:VEVENT
BEGIN:VEVENT
DTSTAMP:20260424T103951Z
DTSTART;TZID=Europe/Berlin:20260418T133000
DTEND;TZID=Europe/Berlin:20260418T163000
SUMMARY:HE NLC Gr. 4 Rapperswil-Jona III vs Horgen (21)
UID:9d1a08a6-24f1-4d78-86ed-88ff29cc522f
STATUS:CONFIRMED
LAST-MODIFIED:20260420T083847Z
DESCRIPTION:Herren Nationalliga C Gruppe 4\nBegegnungs-Nr: 21\nHeim: Rapperswil-Jona III\nGast: Horgen\n\nAdresse: Kreuzstrasse 43\, 8640 Rapperswil\n
LOCATION:Kreuzstrasse 43\, 8640 Rapperswil
CATEGORIES:Saison 2025/26
END:VEVENT
BEGIN:VEVENT
DTSTAMP:20260424T103951Z
DTSTART;TZID=Europe/Berlin:20251023T200000
DTEND;TZID=Europe/Berlin:20251023T230000
SUMMARY:HE NLC Gr. 4 Neuhausen II vs Rapperswil-Jona III (13)
UID:c90f43ef-4e62-4955-bdc0-83d4c49d694b
STATUS:CONFIRMED
LAST-MODIFIED:20251029T082338Z
DESCRIPTION:Herren Nationalliga C Gruppe 4\nBegegnungs-Nr: 13\nHeim: Neuhausen II\nGast: Rapperswil-Jona III\n\nAdresse: Ebnatstrasse 35\, 8200 Schaffhausen\n
LOCATION:Ebnatstrasse 35\, 8200 Schaffhausen
CATEGORIES:Saison 2025/26
END:VEVENT
BEGIN:VEVENT
DTSTAMP:20260424T103951Z
DTSTART;TZID=Europe/Berlin:20250920T153000
DTEND;TZID=Europe/Berlin:20250920T183000
SUMMARY:HE NLC Gr. 4 Lugano II vs Rapperswil-Jona III (7)
UID:c89e7a91-5c2e-4113-aa66-85e49bc9d29b
STATUS:CONFIRMED
LAST-MODIFIED:20250922T073721Z
DESCRIPTION:Herren Nationalliga C Gruppe 4\nBegegnungs-Nr: 7\nHeim: Lugano II\nGast: Rapperswil-Jona III\n\nAdresse: Via al Chioso 7\, 6900 Lugano-Cassarate\n
LOCATION:Via al Chioso 7\, 6900 Lugano-Cassarate
CATEGORIES:Saison 2025/26
END:VEVENT
BEGIN:VEVENT
DTSTAMP:20260424T103951Z
DTSTART;TZID=Europe/Berlin:20251119T200000
DTEND;TZID=Europe/Berlin:20251119T230000
SUMMARY:HE NLC Gr. 4 Horgen vs Rapperswil-Jona III (21)
UID:ffa9242d-8b78-4c0f-8ab0-87473538eb6f
STATUS:CONFIRMED
LAST-MODIFIED:20251126T101751Z
DESCRIPTION:Herren Nationalliga C Gruppe 4\nBegegnungs-Nr: 21\nHeim: Horgen\nGast: Rapperswil-Jona III\n\nAdresse: Seestrasse 110\, 8810 Horgen\n
LOCATION:Seestrasse 110\, 8810 Horgen
CATEGORIES:Saison 2025/26
END:VEVENT
BEGIN:VEVENT
DTSTAMP:20260424T103951Z
DTSTART;TZID=Europe/Berlin:20260110T150000
DTEND;TZID=Europe/Berlin:20260110T180000
SUMMARY:HE NLC Gr. 4 Muolen vs Rapperswil-Jona III (1)
UID:399ccf7b-da41-4b6a-a428-4c41732542eb
STATUS:CONFIRMED
LAST-MODIFIED:20260112T203357Z
DESCRIPTION:Herren Nationalliga C Gruppe 4\nBegegnungs-Nr: 1\nHeim: Muolen\nGast: Rapperswil-Jona III\n\nAdresse: Dorfstrasse 31\, 9313 Muolen\n
LOCATION:Dorfstrasse 31\, 9313 Muolen
CATEGORIES:Saison 2025/26
END:VEVENT
BEGIN:VEVENT
DTSTAMP:20260424T103951Z
DTSTART;TZID=Europe/Berlin:20260221T160000
DTEND;TZID=Europe/Berlin:20260221T190000
SUMMARY:HE NLC Gr. 4 Zürich-Affoltern vs Rapperswil-Jona III (9)
UID:9ffad4c0-6e49-489b-b503-e2ffec5655cb
STATUS:CONFIRMED
LAST-MODIFIED:20260223T153710Z
DESCRIPTION:Herren Nationalliga C Gruppe 4\nBegegnungs-Nr: 9\nHeim: Zürich-Affoltern\nGast: Rapperswil-Jona III\n\nAdresse: Rümlangstr. 89\, 8052 Zürich\n
LOCATION:Rümlangstr. 89\, 8052 Zürich
CATEGORIES:Saison 2025/26
END:VEVENT
BEGIN:VEVENT
DTSTAMP:20260424T103951Z
DTSTART;TZID=Europe/Berlin:20260329T190000
DTEND;TZID=Europe/Berlin:20260329T220000
SUMMARY:HE NLC Gr. 4 Young Stars ZH III vs Rapperswil-Jona III (17)
UID:aa91562e-b7a5-4d1e-9403-cf85ab8bac20
STATUS:CONFIRMED
LAST-MODIFIED:20260330T080226Z
DESCRIPTION:Herren Nationalliga C Gruppe 4\nBegegnungs-Nr: 17\nHeim: Young Stars ZH III\nGast: Rapperswil-Jona III\n\nAdresse: Seefeldstrasse 93\, 8008 Zürich\n
LOCATION:Seefeldstrasse 93\, 8008 Zürich
CATEGORIES:Saison 2025/26
END:VEVENT
BEGIN:VEVENT
DTSTAMP:20260424T103951Z
DTSTART;TZID=Europe/Berlin:20260419T120000
DTEND;TZID=Europe/Berlin:20260419T150000
SUMMARY:HE NLC Gr. 4 Affoltern A/A vs Rapperswil-Jona III (27)
UID:e493190b-4f36-459e-910b-a8d408826e78
STATUS:CONFIRMED
LAST-MODIFIED:20260420T083931Z
DESCRIPTION:Herren Nationalliga C Gruppe 4\nBegegnungs-Nr: 27\nHeim: Affoltern A/A\nGast: Rapperswil-Jona III\n\nAdresse: Butzenstrasse 8\, 8910 Affoltern am Albis\n
LOCATION:Butzenstrasse 8\, 8910 Affoltern am Albis
CATEGORIES:Saison 2025/26
END:VEVENT
END:VCALENDAR
