BEGIN:VCALENDAR
PRODID:-//nuDatenautomaten//framework iCal4j //DE
VERSION:2.0
CALSCALE:GREGORIAN
BEGIN:VTIMEZONE
TZID:Europe/Berlin
LAST-MODIFIED:20260306T231828Z
TZURL:https://www.tzurl.org/zoneinfo/Europe/Berlin
X-LIC-LOCATION:Europe/Berlin
X-PROLEPTIC-TZNAME:LMT
BEGIN:STANDARD
TZNAME:CET
TZOFFSETFROM:+005328
TZOFFSETTO:+0100
DTSTART:18930401T000000
END:STANDARD
BEGIN:DAYLIGHT
TZNAME:CEST
TZOFFSETFROM:+0100
TZOFFSETTO:+0200
DTSTART:19160430T230000
RDATE:19400401T020000
RDATE:19430329T020000
RDATE:19460414T020000
RDATE:19470406T030000
RDATE:19480418T020000
RDATE:19490410T020000
RDATE:19800406T020000
END:DAYLIGHT
BEGIN:STANDARD
TZNAME:CET
TZOFFSETFROM:+0200
TZOFFSETTO:+0100
DTSTART:19161001T010000
RDATE:19421102T030000
RDATE:19431004T030000
RDATE:19441002T030000
RDATE:19451118T030000
RDATE:19461007T030000
END:STANDARD
BEGIN:DAYLIGHT
TZNAME:CEST
TZOFFSETFROM:+0100
TZOFFSETTO:+0200
DTSTART:19170416T020000
RRULE:FREQ=YEARLY;UNTIL=19180415T010000Z;BYMONTH=4;BYDAY=3MO
END:DAYLIGHT
BEGIN:STANDARD
TZNAME:CET
TZOFFSETFROM:+0200
TZOFFSETTO:+0100
DTSTART:19170917T030000
RRULE:FREQ=YEARLY;UNTIL=19180916T010000Z;BYMONTH=9;BYDAY=3MO
END:STANDARD
BEGIN:DAYLIGHT
TZNAME:CEST
TZOFFSETFROM:+0100
TZOFFSETTO:+0200
DTSTART:19440403T020000
RRULE:FREQ=YEARLY;UNTIL=19450402T010000Z;BYMONTH=4;BYDAY=1MO
END:DAYLIGHT
BEGIN:DAYLIGHT
TZNAME:CEMT
TZOFFSETFROM:+0200
TZOFFSETTO:+0300
DTSTART:19450524T020000
RDATE:19470511T030000
END:DAYLIGHT
BEGIN:DAYLIGHT
TZNAME:CEST
TZOFFSETFROM:+0300
TZOFFSETTO:+0200
DTSTART:19450924T030000
RDATE:19470629T030000
END:DAYLIGHT
BEGIN:STANDARD
TZNAME:CET
TZOFFSETFROM:+0100
TZOFFSETTO:+0100
DTSTART:19460101T000000
RDATE:19800101T000000
END:STANDARD
BEGIN:STANDARD
TZNAME:CET
TZOFFSETFROM:+0200
TZOFFSETTO:+0100
DTSTART:19471005T030000
RRULE:FREQ=YEARLY;UNTIL=19491002T010000Z;BYMONTH=10;BYDAY=1SU
END:STANDARD
BEGIN:STANDARD
TZNAME:CET
TZOFFSETFROM:+0200
TZOFFSETTO:+0100
DTSTART:19800928T030000
RRULE:FREQ=YEARLY;UNTIL=19950924T010000Z;BYMONTH=9;BYDAY=-1SU
END:STANDARD
BEGIN:DAYLIGHT
TZNAME:CEST
TZOFFSETFROM:+0100
TZOFFSETTO:+0200
DTSTART:19810329T020000
RRULE:FREQ=YEARLY;BYMONTH=3;BYDAY=-1SU
END:DAYLIGHT
BEGIN:STANDARD
TZNAME:CET
TZOFFSETFROM:+0200
TZOFFSETTO:+0100
DTSTART:19961027T030000
RRULE:FREQ=YEARLY;BYMONTH=10;BYDAY=-1SU
END:STANDARD
END:VTIMEZONE
BEGIN:VEVENT
DTSTAMP:20260424T082517Z
DTSTART;TZID=Europe/Berlin:20250830T143000
DTEND;TZID=Europe/Berlin:20250830T173000
SUMMARY:JUG\, 2.Li\, Gr.6\, VR Horn vs Chur (4)
UID:e15bb945-2bd9-4301-98f2-e010d312d099
STATUS:CONFIRMED
LAST-MODIFIED:20250902T100659Z
DESCRIPTION:Jugend\, 2. Liga\, Gruppe 6\, Vorrunde\nBegegnungs-Nr: 4\nHeim: Horn\nGast: Chur\n\nAdresse: Feldstrasse 16\, 9326 Horn\n
LOCATION:Feldstrasse 16\, 9326 Horn
CATEGORIES:Saison 2025/26
END:VEVENT
BEGIN:VEVENT
DTSTAMP:20260424T082517Z
DTSTART;TZID=Europe/Berlin:20250830T130000
DTEND;TZID=Europe/Berlin:20250830T160000
SUMMARY:JUG\, 2.Li\, Gr.6\, VR Horn vs St. Gallen II (1)
UID:ffe273ca-14c5-4838-94af-7022c7a9acc6
STATUS:CONFIRMED
LAST-MODIFIED:20250902T100332Z
DESCRIPTION:Jugend\, 2. Liga\, Gruppe 6\, Vorrunde\nBegegnungs-Nr: 1\nHeim: Horn\nGast: St. Gallen II\n
LOCATION:
CATEGORIES:Saison 2025/26
END:VEVENT
BEGIN:VEVENT
DTSTAMP:20260424T082517Z
DTSTART;TZID=Europe/Berlin:20251115T160000
DTEND;TZID=Europe/Berlin:20251115T190000
SUMMARY:JUG\, 2.Li\, Gr.6\, ZR Horn vs Höngg (6)
UID:aac8638d-69c9-4288-ac90-3a0af4f9c2e0
STATUS:CONFIRMED
LAST-MODIFIED:20251121T095857Z
DESCRIPTION:Jugend\, 2. Liga\, Gruppe 6\, Zwischenrunde\nBegegnungs-Nr: 6\nHeim: Horn\nGast: Höngg\n
LOCATION:
CATEGORIES:Saison 2025/26
END:VEVENT
BEGIN:VEVENT
DTSTAMP:20260424T082517Z
DTSTART;TZID=Europe/Berlin:20260328T130000
DTEND;TZID=Europe/Berlin:20260328T160000
SUMMARY:JUG\, 2.Li\, Gr.5\, Final Horn vs Rapperswil-Jona (2)
UID:8b6c1213-5267-4dee-a99a-8afa1a21c9b0
STATUS:CONFIRMED
LAST-MODIFIED:20260401T135440Z
DESCRIPTION:Jugend\, 2. Liga\, Gruppe 5\, Final\nBegegnungs-Nr: 2\nHeim: Horn\nGast: Rapperswil-Jona\n\nAdresse: Feldstrasse 16\, 9326 Horn\n
LOCATION:Feldstrasse 16\, 9326 Horn
CATEGORIES:Saison 2025/26
END:VEVENT
BEGIN:VEVENT
DTSTAMP:20260424T082517Z
DTSTART;TZID=Europe/Berlin:20260328T160000
DTEND;TZID=Europe/Berlin:20260328T190000
SUMMARY:JUG\, 2.Li\, Gr.5\, Final Horn vs Meilen-Männedorf (5)
UID:63f9e541-3aed-4bb1-b740-c33a4eceeefc
STATUS:CONFIRMED
LAST-MODIFIED:20260401T135518Z
DESCRIPTION:Jugend\, 2. Liga\, Gruppe 5\, Final\nBegegnungs-Nr: 5\nHeim: Horn\nGast: Meilen-Männedorf\n\nAdresse: Feldstrasse 16\, 9326 Horn\n
LOCATION:Feldstrasse 16\, 9326 Horn
CATEGORIES:Saison 2025/26
END:VEVENT
BEGIN:VEVENT
DTSTAMP:20260424T082517Z
DTSTART;TZID=Europe/Berlin:20250830T160000
DTEND;TZID=Europe/Berlin:20250830T190000
SUMMARY:JUG\, 2.Li\, Gr.6\, VR Ruggell vs Horn (6)
UID:0ed74910-b94c-4867-819f-41ed1f54032d
STATUS:CONFIRMED
LAST-MODIFIED:20250902T100727Z
DESCRIPTION:Jugend\, 2. Liga\, Gruppe 6\, Vorrunde\nBegegnungs-Nr: 6\nHeim: Ruggell\nGast: Horn\n\nAdresse: Nellengasse 40\, 9491 Ruggell\n
LOCATION:Nellengasse 40\, 9491 Ruggell
CATEGORIES:Saison 2025/26
END:VEVENT
BEGIN:VEVENT
DTSTAMP:20260424T082517Z
DTSTART;TZID=Europe/Berlin:20251115T143000
DTEND;TZID=Europe/Berlin:20251115T173000
SUMMARY:JUG\, 2.Li\, Gr.6\, ZR Zürich-Affoltern II vs Horn (3)
UID:f7a93083-0b22-411f-a263-a18123a173a4
STATUS:CONFIRMED
LAST-MODIFIED:20251121T095827Z
DESCRIPTION:Jugend\, 2. Liga\, Gruppe 6\, Zwischenrunde\nBegegnungs-Nr: 3\nHeim: Zürich-Affoltern II\nGast: Horn\n\nAdresse: Rümlangstr. 89\, 8052 Zürich\n
LOCATION:Rümlangstr. 89\, 8052 Zürich
CATEGORIES:Saison 2025/26
END:VEVENT
BEGIN:VEVENT
DTSTAMP:20260424T082517Z
DTSTART;TZID=Europe/Berlin:20251115T130000
DTEND;TZID=Europe/Berlin:20251115T160000
SUMMARY:JUG\, 2.Li\, Gr.6\, ZR Rapperswil-Jona vs Horn (2)
UID:2bef7ff5-bcdb-4cd4-a8a2-79934487265e
STATUS:CONFIRMED
LAST-MODIFIED:20251121T095818Z
DESCRIPTION:Jugend\, 2. Liga\, Gruppe 6\, Zwischenrunde\nBegegnungs-Nr: 2\nHeim: Rapperswil-Jona\nGast: Horn\n\nAdresse: Kreuzstrasse 43\, 8640 Rapperswil\n
LOCATION:Kreuzstrasse 43\, 8640 Rapperswil
CATEGORIES:Saison 2025/26
END:VEVENT
BEGIN:VEVENT
DTSTAMP:20260424T082517Z
DTSTART;TZID=Europe/Berlin:20260328T143000
DTEND;TZID=Europe/Berlin:20260328T173000
SUMMARY:JUG\, 2.Li\, Gr.5\, Final Uster II vs Horn (4)
UID:c63e1926-4783-4f97-9d80-a29131497ca1
STATUS:CONFIRMED
LAST-MODIFIED:20260401T135506Z
DESCRIPTION:Jugend\, 2. Liga\, Gruppe 5\, Final\nBegegnungs-Nr: 4\nHeim: Uster II\nGast: Horn\n\nAdresse: Wilstrasse 30 / Zürcherstrasse\, 8610 Uster\n
LOCATION:Wilstrasse 30 / Zürcherstrasse\, 8610 Uster
CATEGORIES:Saison 2025/26
END:VEVENT
END:VCALENDAR
