BEGIN:VCALENDAR
PRODID:-//nuDatenautomaten//framework iCal4j //DE
VERSION:2.0
CALSCALE:GREGORIAN
BEGIN:VTIMEZONE
TZID:Europe/Berlin
LAST-MODIFIED:20260306T231828Z
TZURL:https://www.tzurl.org/zoneinfo/Europe/Berlin
X-LIC-LOCATION:Europe/Berlin
X-PROLEPTIC-TZNAME:LMT
BEGIN:STANDARD
TZNAME:CET
TZOFFSETFROM:+005328
TZOFFSETTO:+0100
DTSTART:18930401T000000
END:STANDARD
BEGIN:DAYLIGHT
TZNAME:CEST
TZOFFSETFROM:+0100
TZOFFSETTO:+0200
DTSTART:19160430T230000
RDATE:19400401T020000
RDATE:19430329T020000
RDATE:19460414T020000
RDATE:19470406T030000
RDATE:19480418T020000
RDATE:19490410T020000
RDATE:19800406T020000
END:DAYLIGHT
BEGIN:STANDARD
TZNAME:CET
TZOFFSETFROM:+0200
TZOFFSETTO:+0100
DTSTART:19161001T010000
RDATE:19421102T030000
RDATE:19431004T030000
RDATE:19441002T030000
RDATE:19451118T030000
RDATE:19461007T030000
END:STANDARD
BEGIN:DAYLIGHT
TZNAME:CEST
TZOFFSETFROM:+0100
TZOFFSETTO:+0200
DTSTART:19170416T020000
RRULE:FREQ=YEARLY;UNTIL=19180415T010000Z;BYMONTH=4;BYDAY=3MO
END:DAYLIGHT
BEGIN:STANDARD
TZNAME:CET
TZOFFSETFROM:+0200
TZOFFSETTO:+0100
DTSTART:19170917T030000
RRULE:FREQ=YEARLY;UNTIL=19180916T010000Z;BYMONTH=9;BYDAY=3MO
END:STANDARD
BEGIN:DAYLIGHT
TZNAME:CEST
TZOFFSETFROM:+0100
TZOFFSETTO:+0200
DTSTART:19440403T020000
RRULE:FREQ=YEARLY;UNTIL=19450402T010000Z;BYMONTH=4;BYDAY=1MO
END:DAYLIGHT
BEGIN:DAYLIGHT
TZNAME:CEMT
TZOFFSETFROM:+0200
TZOFFSETTO:+0300
DTSTART:19450524T020000
RDATE:19470511T030000
END:DAYLIGHT
BEGIN:DAYLIGHT
TZNAME:CEST
TZOFFSETFROM:+0300
TZOFFSETTO:+0200
DTSTART:19450924T030000
RDATE:19470629T030000
END:DAYLIGHT
BEGIN:STANDARD
TZNAME:CET
TZOFFSETFROM:+0100
TZOFFSETTO:+0100
DTSTART:19460101T000000
RDATE:19800101T000000
END:STANDARD
BEGIN:STANDARD
TZNAME:CET
TZOFFSETFROM:+0200
TZOFFSETTO:+0100
DTSTART:19471005T030000
RRULE:FREQ=YEARLY;UNTIL=19491002T010000Z;BYMONTH=10;BYDAY=1SU
END:STANDARD
BEGIN:STANDARD
TZNAME:CET
TZOFFSETFROM:+0200
TZOFFSETTO:+0100
DTSTART:19800928T030000
RRULE:FREQ=YEARLY;UNTIL=19950924T010000Z;BYMONTH=9;BYDAY=-1SU
END:STANDARD
BEGIN:DAYLIGHT
TZNAME:CEST
TZOFFSETFROM:+0100
TZOFFSETTO:+0200
DTSTART:19810329T020000
RRULE:FREQ=YEARLY;BYMONTH=3;BYDAY=-1SU
END:DAYLIGHT
BEGIN:STANDARD
TZNAME:CET
TZOFFSETFROM:+0200
TZOFFSETTO:+0100
DTSTART:19961027T030000
RRULE:FREQ=YEARLY;BYMONTH=10;BYDAY=-1SU
END:STANDARD
END:VTIMEZONE
BEGIN:VEVENT
DTSTAMP:20260424T115111Z
DTSTART;TZID=Europe/Berlin:20250911T194500
DTEND;TZID=Europe/Berlin:20250911T224500
SUMMARY:ME L4 Gr 2\, Tours 1&2 Chexbres II vs Romont-Villaz II (0)
UID:3e46ac6a-b1e3-4bb0-9893-8849aef9628e
STATUS:CONFIRMED
LAST-MODIFIED:20250912T144202Z
DESCRIPTION:4ème ligue Hommes Groupe 2\, Tours 1&2\nBegegnungs-Nr: 0\nHeim: Chexbres II\nGast: Romont-Villaz II\n\nAdresse: Collège de Praz Routoz\, 1071 Chexbres\n
LOCATION:Collège de Praz Routoz\, 1071 Chexbres
CATEGORIES:Saison 2025/26
END:VEVENT
BEGIN:VEVENT
DTSTAMP:20260424T115111Z
DTSTART;TZID=Europe/Berlin:20251002T194500
DTEND;TZID=Europe/Berlin:20251002T224500
SUMMARY:ME L4 Gr 2\, Tours 1&2 Chexbres II vs Martigny III (0)
UID:eee14711-b826-4b0b-a1e9-7a26acf22491
STATUS:CONFIRMED
LAST-MODIFIED:20251003T163408Z
DESCRIPTION:4ème ligue Hommes Groupe 2\, Tours 1&2\nBegegnungs-Nr: 0\nHeim: Chexbres II\nGast: Martigny III\n\nAdresse: Collège de Praz Routoz\, 1071 Chexbres\n
LOCATION:Collège de Praz Routoz\, 1071 Chexbres
CATEGORIES:Saison 2025/26
END:VEVENT
BEGIN:VEVENT
DTSTAMP:20260424T115111Z
DTSTART;TZID=Europe/Berlin:20251030T194500
DTEND;TZID=Europe/Berlin:20251030T224500
SUMMARY:ME L4 Gr 2\, Tours 1&2 Chexbres II vs Bulle IV (0)
UID:43115c7c-233c-441f-8fc9-00608289972e
STATUS:CONFIRMED
LAST-MODIFIED:20251101T153959Z
DESCRIPTION:4ème ligue Hommes Groupe 2\, Tours 1&2\nBegegnungs-Nr: 0\nHeim: Chexbres II\nGast: Bulle IV\n\nAdresse: Collège de Praz Routoz\, 1071 Chexbres\n
LOCATION:Collège de Praz Routoz\, 1071 Chexbres
CATEGORIES:Saison 2025/26
END:VEVENT
BEGIN:VEVENT
DTSTAMP:20260424T115111Z
DTSTART;TZID=Europe/Berlin:20251120T194500
DTEND;TZID=Europe/Berlin:20251120T224500
SUMMARY:ME L4 Gr 2\, Tours 1&2 Chexbres II vs Mézières II (0)
UID:24e73ebf-0cf4-40ca-9fe8-173fb5b6a44b
STATUS:CONFIRMED
LAST-MODIFIED:20251121T100527Z
DESCRIPTION:4ème ligue Hommes Groupe 2\, Tours 1&2\nBegegnungs-Nr: 0\nHeim: Chexbres II\nGast: Mézières II\n\nAdresse: Collège de Praz Routoz\, 1071 Chexbres\n
LOCATION:Collège de Praz Routoz\, 1071 Chexbres
CATEGORIES:Saison 2025/26
END:VEVENT
BEGIN:VEVENT
DTSTAMP:20260424T115111Z
DTSTART;TZID=Europe/Berlin:20251211T194500
DTEND;TZID=Europe/Berlin:20251211T224500
SUMMARY:ME L4 Gr 2\, Tours 1&2 Chexbres II vs Aigle (0)
UID:d531b35f-942a-4d20-8565-f332b6b278c7
STATUS:CONFIRMED
LAST-MODIFIED:20251213T094919Z
DESCRIPTION:4ème ligue Hommes Groupe 2\, Tours 1&2\nBegegnungs-Nr: 0\nHeim: Chexbres II\nGast: Aigle\n\nAdresse: Collège de Praz Routoz\, 1071 Chexbres\n
LOCATION:Collège de Praz Routoz\, 1071 Chexbres
CATEGORIES:Saison 2025/26
END:VEVENT
BEGIN:VEVENT
DTSTAMP:20260424T115111Z
DTSTART;TZID=Europe/Berlin:20260115T194500
DTEND;TZID=Europe/Berlin:20260115T224500
SUMMARY:ME L4 Gr 2\, Tours 3&4 Chexbres II vs Romanel III (0)
UID:c90e20f8-f88c-4dc5-b41e-8658bb85067e
STATUS:CONFIRMED
LAST-MODIFIED:20260116T185559Z
DESCRIPTION:4ème ligue Hommes Groupe 2\, Tours 3&4\nBegegnungs-Nr: 0\nHeim: Chexbres II\nGast: Romanel III\n\nAdresse: Collège de Praz Routoz\, 1071 Chexbres\n
LOCATION:Collège de Praz Routoz\, 1071 Chexbres
CATEGORIES:Saison 2025/26
END:VEVENT
BEGIN:VEVENT
DTSTAMP:20260424T115111Z
DTSTART;TZID=Europe/Berlin:20260202T200000
DTEND;TZID=Europe/Berlin:20260202T230000
SUMMARY:ME L4 Gr 2\, Tours 3&4 Chexbres II vs Aigle (0)
UID:78d9af5d-f454-4fa6-97ea-2f09bd59dbf9
STATUS:CONFIRMED
LAST-MODIFIED:20260203T175331Z
DESCRIPTION:4ème ligue Hommes Groupe 2\, Tours 3&4\nBegegnungs-Nr: 0\nHeim: Chexbres II\nGast: Aigle\n\nAdresse: Collège de Praz Routoz\, 1071 Chexbres\n
LOCATION:Collège de Praz Routoz\, 1071 Chexbres
CATEGORIES:Saison 2025/26
END:VEVENT
BEGIN:VEVENT
DTSTAMP:20260424T115111Z
DTSTART;TZID=Europe/Berlin:20260302T200000
DTEND;TZID=Europe/Berlin:20260302T230000
SUMMARY:ME L4 Gr 2\, Tours 3&4 Chexbres II vs Montriond-Ouchy  II (0)
UID:43b3df3f-c1c7-4fa6-8bd3-2bc49560b17c
STATUS:CONFIRMED
LAST-MODIFIED:20260303T223819Z
DESCRIPTION:4ème ligue Hommes Groupe 2\, Tours 3&4\nBegegnungs-Nr: 0\nHeim: Chexbres II\nGast: Montriond-Ouchy  II\n\nAdresse: Collège de Praz Routoz\, 1071 Chexbres\n
LOCATION:Collège de Praz Routoz\, 1071 Chexbres
CATEGORIES:Saison 2025/26
END:VEVENT
BEGIN:VEVENT
DTSTAMP:20260424T115111Z
DTSTART;TZID=Europe/Berlin:20260209T200000
DTEND;TZID=Europe/Berlin:20260209T230000
SUMMARY:ME L4 Gr 2\, Tours 3&4 Chexbres II vs Montriond-Ouchy  III (0)
UID:c4350bdd-ce11-4abc-883e-294e7975286f
STATUS:CONFIRMED
LAST-MODIFIED:20260212T110554Z
DESCRIPTION:4ème ligue Hommes Groupe 2\, Tours 3&4\nBegegnungs-Nr: 0\nHeim: Chexbres II\nGast: Montriond-Ouchy  III\n\nAdresse: Collège de Praz Routoz\, 1071 Chexbres\n
LOCATION:Collège de Praz Routoz\, 1071 Chexbres
CATEGORIES:Saison 2025/26
END:VEVENT
BEGIN:VEVENT
DTSTAMP:20260424T115111Z
DTSTART;TZID=Europe/Berlin:20260319T194500
DTEND;TZID=Europe/Berlin:20260319T224500
SUMMARY:ME L4 Gr 2\, Tours 3&4 Chexbres II vs Lausanne VII (0)
UID:9e7db408-6f19-41f8-ad50-9f9f7d5b6eec
STATUS:CONFIRMED
LAST-MODIFIED:20260321T102518Z
DESCRIPTION:4ème ligue Hommes Groupe 2\, Tours 3&4\nBegegnungs-Nr: 0\nHeim: Chexbres II\nGast: Lausanne VII\n\nAdresse: Collège de Praz Routoz\, 1071 Chexbres\n
LOCATION:Collège de Praz Routoz\, 1071 Chexbres
CATEGORIES:Saison 2025/26
END:VEVENT
BEGIN:VEVENT
DTSTAMP:20260424T115111Z
DTSTART;TZID=Europe/Berlin:20250903T200000
DTEND;TZID=Europe/Berlin:20250903T230000
SUMMARY:ME L4 Gr 2\, Tours 1&2 Bulle IV vs Chexbres II (0)
UID:06e9fb54-2c58-4447-8eb7-cdcf0dd4fdd5
STATUS:CONFIRMED
LAST-MODIFIED:20250904T220314Z
DESCRIPTION:4ème ligue Hommes Groupe 2\, Tours 1&2\nBegegnungs-Nr: 0\nHeim: Bulle IV\nGast: Chexbres II\n\nAdresse: Rue du Stade 50\, 1630 Bulle\n
LOCATION:Rue du Stade 50\, 1630 Bulle
CATEGORIES:Saison 2025/26
END:VEVENT
BEGIN:VEVENT
DTSTAMP:20260424T115111Z
DTSTART;TZID=Europe/Berlin:20250917T200000
DTEND;TZID=Europe/Berlin:20250917T230000
SUMMARY:ME L4 Gr 2\, Tours 1&2 Mézières II vs Chexbres II (0)
UID:a863ff71-1077-4268-9a6b-bdfc1c7596ab
STATUS:CONFIRMED
LAST-MODIFIED:20250919T203752Z
DESCRIPTION:4ème ligue Hommes Groupe 2\, Tours 1&2\nBegegnungs-Nr: 0\nHeim: Mézières II\nGast: Chexbres II\n\nAdresse: -\, 1083 Mézières\n
LOCATION:-\, 1083 Mézières
CATEGORIES:Saison 2025/26
END:VEVENT
BEGIN:VEVENT
DTSTAMP:20260424T115111Z
DTSTART;TZID=Europe/Berlin:20251008T200000
DTEND;TZID=Europe/Berlin:20251008T230000
SUMMARY:ME L4 Gr 2\, Tours 1&2 Aigle vs Chexbres II (0)
UID:fe9678f6-1812-45f7-ab12-796ae5710544
STATUS:CONFIRMED
LAST-MODIFIED:20251009T210822Z
DESCRIPTION:4ème ligue Hommes Groupe 2\, Tours 1&2\nBegegnungs-Nr: 0\nHeim: Aigle\nGast: Chexbres II\n\nAdresse: Rue du Collège 12\, 1860 Aigle\n
LOCATION:Rue du Collège 12\, 1860 Aigle
CATEGORIES:Saison 2025/26
END:VEVENT
BEGIN:VEVENT
DTSTAMP:20260424T115111Z
DTSTART;TZID=Europe/Berlin:20251104T193000
DTEND;TZID=Europe/Berlin:20251104T223000
SUMMARY:ME L4 Gr 2\, Tours 1&2 Romont-Villaz II vs Chexbres II (0)
UID:cff387f2-3a63-45a1-b640-a9b5298cf0e5
STATUS:CONFIRMED
LAST-MODIFIED:20251105T152508Z
DESCRIPTION:4ème ligue Hommes Groupe 2\, Tours 1&2\nBegegnungs-Nr: 0\nHeim: Romont-Villaz II\nGast: Chexbres II\n\nAdresse: Route de la Gare 5\, 1690 Villaz-St-Pierre\n
LOCATION:Route de la Gare 5\, 1690 Villaz-St-Pierre
CATEGORIES:Saison 2025/26
END:VEVENT
BEGIN:VEVENT
DTSTAMP:20260424T115111Z
DTSTART;TZID=Europe/Berlin:20251125T200000
DTEND;TZID=Europe/Berlin:20251125T230000
SUMMARY:ME L4 Gr 2\, Tours 1&2 Martigny III vs Chexbres II (0)
UID:f3b9d1bf-903f-48b1-9f7e-04744ee2dbad
STATUS:CONFIRMED
LAST-MODIFIED:20251126T125821Z
DESCRIPTION:4ème ligue Hommes Groupe 2\, Tours 1&2\nBegegnungs-Nr: 0\nHeim: Martigny III\nGast: Chexbres II\n\nAdresse: Rue des Ecoles 9\, 1920 Martigny\n
LOCATION:Rue des Ecoles 9\, 1920 Martigny
CATEGORIES:Saison 2025/26
END:VEVENT
BEGIN:VEVENT
DTSTAMP:20260424T115111Z
DTSTART;TZID=Europe/Berlin:20260130T200000
DTEND;TZID=Europe/Berlin:20260130T230000
SUMMARY:ME L4 Gr 2\, Tours 3&4 Lausanne VII vs Chexbres II (0)
UID:692a0fd4-e8cb-431b-8ff2-668aca27f5e9
STATUS:CONFIRMED
LAST-MODIFIED:20260201T145627Z
DESCRIPTION:4ème ligue Hommes Groupe 2\, Tours 3&4\nBegegnungs-Nr: 0\nHeim: Lausanne VII\nGast: Chexbres II\n\nAdresse: Vaudoise Aréna\, Ch. du Viaduc 14\, 1008 Prilly\n
LOCATION:Vaudoise Aréna\, Ch. du Viaduc 14\, 1008 Prilly
CATEGORIES:Saison 2025/26
END:VEVENT
BEGIN:VEVENT
DTSTAMP:20260424T115111Z
DTSTART;TZID=Europe/Berlin:20260310T193000
DTEND;TZID=Europe/Berlin:20260310T223000
SUMMARY:ME L4 Gr 2\, Tours 3&4 Romanel III vs Chexbres II (0)
UID:feac65f4-5bcd-4e71-93f6-ebba046c6763
STATUS:CONFIRMED
LAST-MODIFIED:20260312T105022Z
DESCRIPTION:4ème ligue Hommes Groupe 2\, Tours 3&4\nBegegnungs-Nr: 0\nHeim: Romanel III\nGast: Chexbres II\n\nAdresse: Ch des Epinettes 1\, 1032 Romanel-sur-Lausanne\n
LOCATION:Ch des Epinettes 1\, 1032 Romanel-sur-Lausanne
CATEGORIES:Saison 2025/26
END:VEVENT
BEGIN:VEVENT
DTSTAMP:20260424T115111Z
DTSTART;TZID=Europe/Berlin:20260401T200000
DTEND;TZID=Europe/Berlin:20260401T230000
SUMMARY:ME L4 Gr 2\, Tours 3&4 Aigle vs Chexbres II (0)
UID:d795e54e-3f41-431f-a66f-fa5fa89ecea3
STATUS:CONFIRMED
LAST-MODIFIED:20260407T193121Z
DESCRIPTION:4ème ligue Hommes Groupe 2\, Tours 3&4\nBegegnungs-Nr: 0\nHeim: Aigle\nGast: Chexbres II\n\nAdresse: Rue du Collège 12\, 1860 Aigle\n
LOCATION:Rue du Collège 12\, 1860 Aigle
CATEGORIES:Saison 2025/26
END:VEVENT
BEGIN:VEVENT
DTSTAMP:20260424T115111Z
DTSTART;TZID=Europe/Berlin:20260423T193000
DTEND;TZID=Europe/Berlin:20260423T223000
SUMMARY:ME L4 Gr 2\, Tours 3&4 Montriond-Ouchy  II vs Chexbres II (0)
UID:f3dc301f-b49c-43e0-8b9b-c2465c7c8e78
STATUS:CONFIRMED
LAST-MODIFIED:20260214T175309Z
DESCRIPTION:4ème ligue Hommes Groupe 2\, Tours 3&4\nBegegnungs-Nr: 0\nHeim: Montriond-Ouchy  II\nGast: Chexbres II\n\nAdresse: Avenue d'Ouchy 45\, 1006 Lausanne\n
LOCATION:Avenue d'Ouchy 45\, 1006 Lausanne
CATEGORIES:Saison 2025/26
END:VEVENT
BEGIN:VEVENT
DTSTAMP:20260424T115111Z
DTSTART;TZID=Europe/Berlin:20260429T193000
DTEND;TZID=Europe/Berlin:20260429T223000
SUMMARY:ME L4 Gr 2\, Tours 3&4 Montriond-Ouchy  III vs Chexbres II (0)
UID:bd20a199-a2b5-4396-be61-ef73b4daafc8
STATUS:CONFIRMED
DESCRIPTION:4ème ligue Hommes Groupe 2\, Tours 3&4\nBegegnungs-Nr: 0\nHeim: Montriond-Ouchy  III\nGast: Chexbres II\n\nAdresse: Avenue d'Ouchy 45\, 1006 Lausanne\n
LOCATION:Avenue d'Ouchy 45\, 1006 Lausanne
CATEGORIES:Saison 2025/26
END:VEVENT
END:VCALENDAR
