BEGIN:VCALENDAR
PRODID:-//nuDatenautomaten//framework iCal4j //DE
VERSION:2.0
CALSCALE:GREGORIAN
BEGIN:VTIMEZONE
TZID:Europe/Berlin
LAST-MODIFIED:20260306T231828Z
TZURL:https://www.tzurl.org/zoneinfo/Europe/Berlin
X-LIC-LOCATION:Europe/Berlin
X-PROLEPTIC-TZNAME:LMT
BEGIN:STANDARD
TZNAME:CET
TZOFFSETFROM:+005328
TZOFFSETTO:+0100
DTSTART:18930401T000000
END:STANDARD
BEGIN:DAYLIGHT
TZNAME:CEST
TZOFFSETFROM:+0100
TZOFFSETTO:+0200
DTSTART:19160430T230000
RDATE:19400401T020000
RDATE:19430329T020000
RDATE:19460414T020000
RDATE:19470406T030000
RDATE:19480418T020000
RDATE:19490410T020000
RDATE:19800406T020000
END:DAYLIGHT
BEGIN:STANDARD
TZNAME:CET
TZOFFSETFROM:+0200
TZOFFSETTO:+0100
DTSTART:19161001T010000
RDATE:19421102T030000
RDATE:19431004T030000
RDATE:19441002T030000
RDATE:19451118T030000
RDATE:19461007T030000
END:STANDARD
BEGIN:DAYLIGHT
TZNAME:CEST
TZOFFSETFROM:+0100
TZOFFSETTO:+0200
DTSTART:19170416T020000
RRULE:FREQ=YEARLY;UNTIL=19180415T010000Z;BYMONTH=4;BYDAY=3MO
END:DAYLIGHT
BEGIN:STANDARD
TZNAME:CET
TZOFFSETFROM:+0200
TZOFFSETTO:+0100
DTSTART:19170917T030000
RRULE:FREQ=YEARLY;UNTIL=19180916T010000Z;BYMONTH=9;BYDAY=3MO
END:STANDARD
BEGIN:DAYLIGHT
TZNAME:CEST
TZOFFSETFROM:+0100
TZOFFSETTO:+0200
DTSTART:19440403T020000
RRULE:FREQ=YEARLY;UNTIL=19450402T010000Z;BYMONTH=4;BYDAY=1MO
END:DAYLIGHT
BEGIN:DAYLIGHT
TZNAME:CEMT
TZOFFSETFROM:+0200
TZOFFSETTO:+0300
DTSTART:19450524T020000
RDATE:19470511T030000
END:DAYLIGHT
BEGIN:DAYLIGHT
TZNAME:CEST
TZOFFSETFROM:+0300
TZOFFSETTO:+0200
DTSTART:19450924T030000
RDATE:19470629T030000
END:DAYLIGHT
BEGIN:STANDARD
TZNAME:CET
TZOFFSETFROM:+0100
TZOFFSETTO:+0100
DTSTART:19460101T000000
RDATE:19800101T000000
END:STANDARD
BEGIN:STANDARD
TZNAME:CET
TZOFFSETFROM:+0200
TZOFFSETTO:+0100
DTSTART:19471005T030000
RRULE:FREQ=YEARLY;UNTIL=19491002T010000Z;BYMONTH=10;BYDAY=1SU
END:STANDARD
BEGIN:STANDARD
TZNAME:CET
TZOFFSETFROM:+0200
TZOFFSETTO:+0100
DTSTART:19800928T030000
RRULE:FREQ=YEARLY;UNTIL=19950924T010000Z;BYMONTH=9;BYDAY=-1SU
END:STANDARD
BEGIN:DAYLIGHT
TZNAME:CEST
TZOFFSETFROM:+0100
TZOFFSETTO:+0200
DTSTART:19810329T020000
RRULE:FREQ=YEARLY;BYMONTH=3;BYDAY=-1SU
END:DAYLIGHT
BEGIN:STANDARD
TZNAME:CET
TZOFFSETFROM:+0200
TZOFFSETTO:+0100
DTSTART:19961027T030000
RRULE:FREQ=YEARLY;BYMONTH=10;BYDAY=-1SU
END:STANDARD
END:VTIMEZONE
BEGIN:VEVENT
DTSTAMP:20260424T165500Z
DTSTART;TZID=Europe/Berlin:20250919T201500
DTEND;TZID=Europe/Berlin:20250919T231500
SUMMARY:HE 4. Liga Gr. 4 Bremgarten VI vs Muri (0)
UID:8ae3dc5a-f3ae-4df4-8719-0bc41df88e86
STATUS:CONFIRMED
LAST-MODIFIED:20250926T123636Z
DESCRIPTION:4. Liga Herren Gruppe 4\nBegegnungs-Nr: 0\nHeim: Bremgarten VI\nGast: Muri\n\nAdresse: Badstrasse 3\, 5620 Bremgarten\n
LOCATION:Badstrasse 3\, 5620 Bremgarten
CATEGORIES:Saison 2025/26
END:VEVENT
BEGIN:VEVENT
DTSTAMP:20260424T165500Z
DTSTART;TZID=Europe/Berlin:20250909T201500
DTEND;TZID=Europe/Berlin:20250909T231500
SUMMARY:HE 4. Liga Gr. 4 Bremgarten VI vs Döttingen IV (0)
UID:62726bcd-a135-4bd6-b485-1ea15dd8026f
STATUS:CONFIRMED
LAST-MODIFIED:20250911T111204Z
DESCRIPTION:4. Liga Herren Gruppe 4\nBegegnungs-Nr: 0\nHeim: Bremgarten VI\nGast: Döttingen IV\n\nAdresse: Badstrasse 3\, 5620 Bremgarten\n
LOCATION:Badstrasse 3\, 5620 Bremgarten
CATEGORIES:Saison 2025/26
END:VEVENT
BEGIN:VEVENT
DTSTAMP:20260424T165500Z
DTSTART;TZID=Europe/Berlin:20251021T201500
DTEND;TZID=Europe/Berlin:20251021T231500
SUMMARY:HE 4. Liga Gr. 4 Bremgarten VI vs Frick IV (0)
UID:0d8dc1ef-a45b-4438-8589-59732afd2ed1
STATUS:CONFIRMED
LAST-MODIFIED:20251023T142013Z
DESCRIPTION:4. Liga Herren Gruppe 4\nBegegnungs-Nr: 0\nHeim: Bremgarten VI\nGast: Frick IV\n\nAdresse: Badstrasse 3\, 5620 Bremgarten\n
LOCATION:Badstrasse 3\, 5620 Bremgarten
CATEGORIES:Saison 2025/26
END:VEVENT
BEGIN:VEVENT
DTSTAMP:20260424T165500Z
DTSTART;TZID=Europe/Berlin:20251101T133000
DTEND;TZID=Europe/Berlin:20251101T163000
SUMMARY:HE 4. Liga Gr. 4 Bremgarten VI vs Brugg III (0)
UID:6f8a7c41-3497-4686-b285-997186bfed53
STATUS:CONFIRMED
LAST-MODIFIED:20251107T143244Z
DESCRIPTION:4. Liga Herren Gruppe 4\nBegegnungs-Nr: 0\nHeim: Bremgarten VI\nGast: Brugg III\n\nAdresse: Badstrasse 3\, 5620 Bremgarten\n
LOCATION:Badstrasse 3\, 5620 Bremgarten
CATEGORIES:Saison 2025/26
END:VEVENT
BEGIN:VEVENT
DTSTAMP:20260424T165500Z
DTSTART;TZID=Europe/Berlin:20251209T201500
DTEND;TZID=Europe/Berlin:20251209T231500
SUMMARY:HE 4. Liga Gr. 4 Bremgarten VI vs Wohlen (0)
UID:03bc9176-2c1c-42ad-af65-f7b91552dd1f
STATUS:CONFIRMED
LAST-MODIFIED:20251211T112028Z
DESCRIPTION:4. Liga Herren Gruppe 4\nBegegnungs-Nr: 0\nHeim: Bremgarten VI\nGast: Wohlen\n\nAdresse: Badstrasse 3\, 5620 Bremgarten\n
LOCATION:Badstrasse 3\, 5620 Bremgarten
CATEGORIES:Saison 2025/26
END:VEVENT
BEGIN:VEVENT
DTSTAMP:20260424T165500Z
DTSTART;TZID=Europe/Berlin:20260113T201500
DTEND;TZID=Europe/Berlin:20260113T231500
SUMMARY:HE 4. Liga Gr. 4 Bremgarten VI vs Baden-Wettingen V (0)
UID:b4e4771a-1a2f-45d4-a67c-799e77092540
STATUS:CONFIRMED
LAST-MODIFIED:20260130T133154Z
DESCRIPTION:4. Liga Herren Gruppe 4\nBegegnungs-Nr: 0\nHeim: Bremgarten VI\nGast: Baden-Wettingen V\n\nAdresse: Badstrasse 3\, 5620 Bremgarten\n
LOCATION:Badstrasse 3\, 5620 Bremgarten
CATEGORIES:Saison 2025/26
END:VEVENT
BEGIN:VEVENT
DTSTAMP:20260424T165500Z
DTSTART;TZID=Europe/Berlin:20260320T201500
DTEND;TZID=Europe/Berlin:20260320T231500
SUMMARY:HE 4. Liga Gr. 4 Bremgarten VI vs Oberrohrdorf (0)
UID:f1823164-82f5-4829-8287-c5b761793c7e
STATUS:CONFIRMED
LAST-MODIFIED:20260420T133935Z
DESCRIPTION:4. Liga Herren Gruppe 4\nBegegnungs-Nr: 0\nHeim: Bremgarten VI\nGast: Oberrohrdorf\n\nAdresse: Badstrasse 3\, 5620 Bremgarten\n
LOCATION:Badstrasse 3\, 5620 Bremgarten
CATEGORIES:Saison 2025/26
END:VEVENT
BEGIN:VEVENT
DTSTAMP:20260424T165500Z
DTSTART;TZID=Europe/Berlin:20250818T194500
DTEND;TZID=Europe/Berlin:20250818T224500
SUMMARY:HE 4. Liga Gr. 4 Baden-Wettingen V vs Bremgarten VI (0)
UID:eb46b1cd-d8b3-48ed-ac34-0289e0297d63
STATUS:CONFIRMED
LAST-MODIFIED:20250825T070223Z
DESCRIPTION:4. Liga Herren Gruppe 4\nBegegnungs-Nr: 0\nHeim: Baden-Wettingen V\nGast: Bremgarten VI\n\nAdresse: Wiesenstrasse 32 (Parkhaus Schmiede Fabrikstrasse)\, 5400 Baden\n
LOCATION:Wiesenstrasse 32 (Parkhaus Schmiede Fabrikstrasse)\, 5400 Baden
CATEGORIES:Saison 2025/26
END:VEVENT
BEGIN:VEVENT
DTSTAMP:20260424T165500Z
DTSTART;TZID=Europe/Berlin:20251126T200000
DTEND;TZID=Europe/Berlin:20251126T230000
SUMMARY:HE 4. Liga Gr. 4 Oberrohrdorf vs Bremgarten VI (0)
UID:03a87517-b17b-4aff-89bc-d95bd0604ea2
STATUS:CONFIRMED
LAST-MODIFIED:20251127T135500Z
DESCRIPTION:4. Liga Herren Gruppe 4\nBegegnungs-Nr: 0\nHeim: Oberrohrdorf\nGast: Bremgarten VI\n\nAdresse: Hinterbächlistrasse\, 5452 Oberrohrdorf\n
LOCATION:Hinterbächlistrasse\, 5452 Oberrohrdorf
CATEGORIES:Saison 2025/26
END:VEVENT
BEGIN:VEVENT
DTSTAMP:20260424T165500Z
DTSTART;TZID=Europe/Berlin:20260224T194500
DTEND;TZID=Europe/Berlin:20260224T224500
SUMMARY:HE 4. Liga Gr. 4 Brugg III vs Bremgarten VI (0)
UID:0fa3f1fd-ad15-4d89-9c27-ff91960772f0
STATUS:CONFIRMED
LAST-MODIFIED:20260225T111902Z
DESCRIPTION:4. Liga Herren Gruppe 4\nBegegnungs-Nr: 0\nHeim: Brugg III\nGast: Bremgarten VI\n\nAdresse: Sommerhaldenstrasse 29\, 5200 Brugg/Lauffohr\n
LOCATION:Sommerhaldenstrasse 29\, 5200 Brugg/Lauffohr
CATEGORIES:Saison 2025/26
END:VEVENT
BEGIN:VEVENT
DTSTAMP:20260424T165500Z
DTSTART;TZID=Europe/Berlin:20260401T194500
DTEND;TZID=Europe/Berlin:20260401T224500
SUMMARY:HE 4. Liga Gr. 4 Wohlen vs Bremgarten VI (0)
UID:61437c26-2a1f-44fb-8230-0146871943aa
STATUS:CONFIRMED
LAST-MODIFIED:20260416T093828Z
DESCRIPTION:4. Liga Herren Gruppe 4\nBegegnungs-Nr: 0\nHeim: Wohlen\nGast: Bremgarten VI\n\nAdresse: Hofmattenweg 17\, 5610 Wohlen\, bei verschlossener Tür Klingel Halle 3 betätigen (links neben Türen)\n
LOCATION:Hofmattenweg 17\, 5610 Wohlen\, bei verschlossener Tür Klingel Halle 3 betätigen (links neben Türen)
CATEGORIES:Saison 2025/26
END:VEVENT
BEGIN:VEVENT
DTSTAMP:20260424T165500Z
DTSTART;TZID=Europe/Berlin:20260112T204500
DTEND;TZID=Europe/Berlin:20260112T234500
SUMMARY:HE 4. Liga Gr. 4 Muri vs Bremgarten VI (0)
UID:ab36e9f3-5cf5-4b36-a5ef-20150682c1ce
STATUS:CONFIRMED
LAST-MODIFIED:20260115T094823Z
DESCRIPTION:4. Liga Herren Gruppe 4\nBegegnungs-Nr: 0\nHeim: Muri\nGast: Bremgarten VI\n\nAdresse: Badweiherstrasse\, 5630 Muri AG\n
LOCATION:Badweiherstrasse\, 5630 Muri AG
CATEGORIES:Saison 2025/26
END:VEVENT
BEGIN:VEVENT
DTSTAMP:20260424T165500Z
DTSTART;TZID=Europe/Berlin:20260120T201500
DTEND;TZID=Europe/Berlin:20260120T231500
SUMMARY:HE 4. Liga Gr. 4 Döttingen IV vs Bremgarten VI (0)
UID:8810a57b-14d5-4d1e-9929-a2d289badd1c
STATUS:CONFIRMED
LAST-MODIFIED:20260123T081647Z
DESCRIPTION:4. Liga Herren Gruppe 4\nBegegnungs-Nr: 0\nHeim: Döttingen IV\nGast: Bremgarten VI\n\nAdresse: Im Bogen\, Chilbert 25\, 5312 Döttingen\n
LOCATION:Im Bogen\, Chilbert 25\, 5312 Döttingen
CATEGORIES:Saison 2025/26
END:VEVENT
BEGIN:VEVENT
DTSTAMP:20260424T165500Z
DTSTART;TZID=Europe/Berlin:20260209T200000
DTEND;TZID=Europe/Berlin:20260209T230000
SUMMARY:HE 4. Liga Gr. 4 Frick IV vs Bremgarten VI (0)
UID:c82accfc-b209-4d2d-bf9d-120ad26592e7
STATUS:CONFIRMED
LAST-MODIFIED:20260211T093854Z
DESCRIPTION:4. Liga Herren Gruppe 4\nBegegnungs-Nr: 0\nHeim: Frick IV\nGast: Bremgarten VI\n\nAdresse: Schulstrasse 51\, 5070 Frick\n
LOCATION:Schulstrasse 51\, 5070 Frick
CATEGORIES:Saison 2025/26
END:VEVENT
END:VCALENDAR
