BEGIN:VCALENDAR
PRODID:-//nuDatenautomaten//framework iCal4j //DE
VERSION:2.0
CALSCALE:GREGORIAN
BEGIN:VTIMEZONE
TZID:Europe/Berlin
LAST-MODIFIED:20260306T231828Z
TZURL:https://www.tzurl.org/zoneinfo/Europe/Berlin
X-LIC-LOCATION:Europe/Berlin
X-PROLEPTIC-TZNAME:LMT
BEGIN:STANDARD
TZNAME:CET
TZOFFSETFROM:+005328
TZOFFSETTO:+0100
DTSTART:18930401T000000
END:STANDARD
BEGIN:DAYLIGHT
TZNAME:CEST
TZOFFSETFROM:+0100
TZOFFSETTO:+0200
DTSTART:19160430T230000
RDATE:19400401T020000
RDATE:19430329T020000
RDATE:19460414T020000
RDATE:19470406T030000
RDATE:19480418T020000
RDATE:19490410T020000
RDATE:19800406T020000
END:DAYLIGHT
BEGIN:STANDARD
TZNAME:CET
TZOFFSETFROM:+0200
TZOFFSETTO:+0100
DTSTART:19161001T010000
RDATE:19421102T030000
RDATE:19431004T030000
RDATE:19441002T030000
RDATE:19451118T030000
RDATE:19461007T030000
END:STANDARD
BEGIN:DAYLIGHT
TZNAME:CEST
TZOFFSETFROM:+0100
TZOFFSETTO:+0200
DTSTART:19170416T020000
RRULE:FREQ=YEARLY;UNTIL=19180415T010000Z;BYMONTH=4;BYDAY=3MO
END:DAYLIGHT
BEGIN:STANDARD
TZNAME:CET
TZOFFSETFROM:+0200
TZOFFSETTO:+0100
DTSTART:19170917T030000
RRULE:FREQ=YEARLY;UNTIL=19180916T010000Z;BYMONTH=9;BYDAY=3MO
END:STANDARD
BEGIN:DAYLIGHT
TZNAME:CEST
TZOFFSETFROM:+0100
TZOFFSETTO:+0200
DTSTART:19440403T020000
RRULE:FREQ=YEARLY;UNTIL=19450402T010000Z;BYMONTH=4;BYDAY=1MO
END:DAYLIGHT
BEGIN:DAYLIGHT
TZNAME:CEMT
TZOFFSETFROM:+0200
TZOFFSETTO:+0300
DTSTART:19450524T020000
RDATE:19470511T030000
END:DAYLIGHT
BEGIN:DAYLIGHT
TZNAME:CEST
TZOFFSETFROM:+0300
TZOFFSETTO:+0200
DTSTART:19450924T030000
RDATE:19470629T030000
END:DAYLIGHT
BEGIN:STANDARD
TZNAME:CET
TZOFFSETFROM:+0100
TZOFFSETTO:+0100
DTSTART:19460101T000000
RDATE:19800101T000000
END:STANDARD
BEGIN:STANDARD
TZNAME:CET
TZOFFSETFROM:+0200
TZOFFSETTO:+0100
DTSTART:19471005T030000
RRULE:FREQ=YEARLY;UNTIL=19491002T010000Z;BYMONTH=10;BYDAY=1SU
END:STANDARD
BEGIN:STANDARD
TZNAME:CET
TZOFFSETFROM:+0200
TZOFFSETTO:+0100
DTSTART:19800928T030000
RRULE:FREQ=YEARLY;UNTIL=19950924T010000Z;BYMONTH=9;BYDAY=-1SU
END:STANDARD
BEGIN:DAYLIGHT
TZNAME:CEST
TZOFFSETFROM:+0100
TZOFFSETTO:+0200
DTSTART:19810329T020000
RRULE:FREQ=YEARLY;BYMONTH=3;BYDAY=-1SU
END:DAYLIGHT
BEGIN:STANDARD
TZNAME:CET
TZOFFSETFROM:+0200
TZOFFSETTO:+0100
DTSTART:19961027T030000
RRULE:FREQ=YEARLY;BYMONTH=10;BYDAY=-1SU
END:STANDARD
END:VTIMEZONE
BEGIN:VEVENT
DTSTAMP:20260424T114928Z
DTSTART;TZID=Europe/Berlin:20250923T200000
DTEND;TZID=Europe/Berlin:20250923T230000
SUMMARY:Ligue 2 Gr.2\, Ph.A Châtelaine III vs Bernex II (8)
UID:ed62d5d4-2f5c-4579-88af-72d6a1de2324
STATUS:CONFIRMED
LAST-MODIFIED:20250924T125145Z
DESCRIPTION:2ème ligue Homme Gr.2 Phase A\nBegegnungs-Nr: 8\nHeim: Châtelaine III\nGast: Bernex II\n
LOCATION:
CATEGORIES:Saison 2025/26
END:VEVENT
BEGIN:VEVENT
DTSTAMP:20260424T114928Z
DTSTART;TZID=Europe/Berlin:20250916T200000
DTEND;TZID=Europe/Berlin:20250916T230000
SUMMARY:Ligue 2 Gr.2\, Ph.A Châtelaine III vs Silver Star IV (4)
UID:d8361a18-1318-43b7-88fe-75fe4c3e0041
STATUS:CONFIRMED
LAST-MODIFIED:20250830T132655Z
DESCRIPTION:2ème ligue Homme Gr.2 Phase A\nBegegnungs-Nr: 4\nHeim: Châtelaine III\nGast: Silver Star IV\n
LOCATION:
CATEGORIES:Saison 2025/26
END:VEVENT
BEGIN:VEVENT
DTSTAMP:20260424T114928Z
DTSTART;TZID=Europe/Berlin:20251202T200000
DTEND;TZID=Europe/Berlin:20251202T230000
SUMMARY:Ligue 2 Gr.2\, Ph.A Châtelaine III vs ZZ-Lancy V (29)
UID:d2ea5db7-79e7-447a-9dd1-cf7b5b6e72d8
STATUS:CONFIRMED
LAST-MODIFIED:20251205T130436Z
DESCRIPTION:2ème ligue Homme Gr.2 Phase A\nBegegnungs-Nr: 29\nHeim: Châtelaine III\nGast: ZZ-Lancy V\n
LOCATION:
CATEGORIES:Saison 2025/26
END:VEVENT
BEGIN:VEVENT
DTSTAMP:20260424T114928Z
DTSTART;TZID=Europe/Berlin:20251125T200000
DTEND;TZID=Europe/Berlin:20251125T230000
SUMMARY:Ligue 2 Gr.2\, Ph.A Châtelaine III vs Onex (25)
UID:7e43323c-6041-4d9c-afe0-23fafa924398
STATUS:CONFIRMED
LAST-MODIFIED:20251126T203410Z
DESCRIPTION:2ème ligue Homme Gr.2 Phase A\nBegegnungs-Nr: 25\nHeim: Châtelaine III\nGast: Onex\n
LOCATION:
CATEGORIES:Saison 2025/26
END:VEVENT
BEGIN:VEVENT
DTSTAMP:20260424T114928Z
DTSTART;TZID=Europe/Berlin:20251028T200000
DTEND;TZID=Europe/Berlin:20251028T230000
SUMMARY:Ligue 2 Gr.2\, Ph.A Châtelaine III vs Châtelaine IV (18)
UID:c5344fd4-11f8-4f3a-b567-0265c2634907
STATUS:CONFIRMED
LAST-MODIFIED:20251029T075146Z
DESCRIPTION:2ème ligue Homme Gr.2 Phase A\nBegegnungs-Nr: 18\nHeim: Châtelaine III\nGast: Châtelaine IV\n
LOCATION:
CATEGORIES:Saison 2025/26
END:VEVENT
BEGIN:VEVENT
DTSTAMP:20260424T114928Z
DTSTART;TZID=Europe/Berlin:20260428T200000
DTEND;TZID=Europe/Berlin:20260428T230000
SUMMARY:Ligue 2 Gr.2\, Ph.B Châtelaine III vs UGS-Chênois V (29)
UID:7aba3dc1-26c1-4d3c-b4c2-e6eda8683d9e
STATUS:CONFIRMED
DESCRIPTION:2ème ligue Homme Gr.2 Phase B\nBegegnungs-Nr: 29\nHeim: Châtelaine III\nGast: UGS-Chênois V\n
LOCATION:
CATEGORIES:Saison 2025/26
END:VEVENT
BEGIN:VEVENT
DTSTAMP:20260424T114928Z
DTSTART;TZID=Europe/Berlin:20260324T200000
DTEND;TZID=Europe/Berlin:20260324T230000
SUMMARY:Ligue 2 Gr.2\, Ph.B Châtelaine III vs Silver Star V (24)
UID:46f0e9bf-3cda-4c35-a68c-c7f933933fa6
STATUS:CONFIRMED
LAST-MODIFIED:20260325T074500Z
DESCRIPTION:2ème ligue Homme Gr.2 Phase B\nBegegnungs-Nr: 24\nHeim: Châtelaine III\nGast: Silver Star V\n
LOCATION:
CATEGORIES:Saison 2025/26
END:VEVENT
BEGIN:VEVENT
DTSTAMP:20260424T114928Z
DTSTART;TZID=Europe/Berlin:20260310T200000
DTEND;TZID=Europe/Berlin:20260310T230000
SUMMARY:Ligue 2 Gr.2\, Ph.B Châtelaine III vs ZZ-Lancy VI (16)
UID:94dab7c3-c0ab-45bf-baac-ea8f5f30f28a
STATUS:CONFIRMED
LAST-MODIFIED:20260312T135619Z
DESCRIPTION:2ème ligue Homme Gr.2 Phase B\nBegegnungs-Nr: 16\nHeim: Châtelaine III\nGast: ZZ-Lancy VI\n
LOCATION:
CATEGORIES:Saison 2025/26
END:VEVENT
BEGIN:VEVENT
DTSTAMP:20260424T114928Z
DTSTART;TZID=Europe/Berlin:20260210T200000
DTEND;TZID=Europe/Berlin:20260210T230000
SUMMARY:Ligue 2 Gr.2\, Ph.B Châtelaine III vs Carouge IV (11)
UID:e010e259-511f-422e-8739-d5037a57f9bd
STATUS:CONFIRMED
LAST-MODIFIED:20260211T080352Z
DESCRIPTION:2ème ligue Homme Gr.2 Phase B\nBegegnungs-Nr: 11\nHeim: Châtelaine III\nGast: Carouge IV\n
LOCATION:
CATEGORIES:Saison 2025/26
END:VEVENT
BEGIN:VEVENT
DTSTAMP:20260424T114928Z
DTSTART;TZID=Europe/Berlin:20260120T200000
DTEND;TZID=Europe/Berlin:20260120T230000
SUMMARY:Ligue 2 Gr.2\, Ph.B Châtelaine III vs Mandement III (5)
UID:4d607035-b2bd-47ef-a265-01f9f4370d7b
STATUS:CONFIRMED
LAST-MODIFIED:20260122T094658Z
DESCRIPTION:2ème ligue Homme Gr.2 Phase B\nBegegnungs-Nr: 5\nHeim: Châtelaine III\nGast: Mandement III\n
LOCATION:
CATEGORIES:Saison 2025/26
END:VEVENT
BEGIN:VEVENT
DTSTAMP:20260424T114928Z
DTSTART;TZID=Europe/Berlin:20251007T200000
DTEND;TZID=Europe/Berlin:20251007T230000
SUMMARY:Ligue 2 Gr.2\, Ph.A Onex vs Châtelaine III (10)
UID:5f4ab866-d420-40b9-a585-e2d092f09ef8
STATUS:CONFIRMED
LAST-MODIFIED:20251008T070245Z
DESCRIPTION:2ème ligue Homme Gr.2 Phase A\nBegegnungs-Nr: 10\nHeim: Onex\nGast: Châtelaine III\n
LOCATION:
CATEGORIES:Saison 2025/26
END:VEVENT
BEGIN:VEVENT
DTSTAMP:20260424T114928Z
DTSTART;TZID=Europe/Berlin:20250902T200000
DTEND;TZID=Europe/Berlin:20250902T230000
SUMMARY:Ligue 2 Gr.2\, Ph.A Châtelaine IV vs Châtelaine III (3)
UID:4a0e9017-2ab9-4852-9ee1-6f071540e5ed
STATUS:CONFIRMED
LAST-MODIFIED:20250904T112943Z
DESCRIPTION:2ème ligue Homme Gr.2 Phase A\nBegegnungs-Nr: 3\nHeim: Châtelaine IV\nGast: Châtelaine III\n
LOCATION:
CATEGORIES:Saison 2025/26
END:VEVENT
BEGIN:VEVENT
DTSTAMP:20260424T114928Z
DTSTART;TZID=Europe/Berlin:20251118T194500
DTEND;TZID=Europe/Berlin:20251118T224500
SUMMARY:Ligue 2 Gr.2\, Ph.A Bernex II vs Châtelaine III (23)
UID:5c8d1cf9-6322-4ade-aa92-25356ba7c3fe
STATUS:CONFIRMED
LAST-MODIFIED:20251119T203127Z
DESCRIPTION:2ème ligue Homme Gr.2 Phase A\nBegegnungs-Nr: 23\nHeim: Bernex II\nGast: Châtelaine III\n
LOCATION:
CATEGORIES:Saison 2025/26
END:VEVENT
BEGIN:VEVENT
DTSTAMP:20260424T114928Z
DTSTART;TZID=Europe/Berlin:20251111T194500
DTEND;TZID=Europe/Berlin:20251111T224500
SUMMARY:Ligue 2 Gr.2\, Ph.A Silver Star IV vs Châtelaine III (19)
UID:510ea3a2-06cc-4d51-929d-473151a0d7c6
STATUS:CONFIRMED
LAST-MODIFIED:20250830T132921Z
DESCRIPTION:2ème ligue Homme Gr.2 Phase A\nBegegnungs-Nr: 19\nHeim: Silver Star IV\nGast: Châtelaine III\n
LOCATION:
CATEGORIES:Saison 2025/26
END:VEVENT
BEGIN:VEVENT
DTSTAMP:20260424T114928Z
DTSTART;TZID=Europe/Berlin:20251014T200000
DTEND;TZID=Europe/Berlin:20251014T230000
SUMMARY:Ligue 2 Gr.2\, Ph.A ZZ-Lancy V vs Châtelaine III (14)
UID:6d1b1d9e-2e0b-4559-aded-795ea13d834f
STATUS:CONFIRMED
LAST-MODIFIED:20251015T114140Z
DESCRIPTION:2ème ligue Homme Gr.2 Phase A\nBegegnungs-Nr: 14\nHeim: ZZ-Lancy V\nGast: Châtelaine III\n
LOCATION:
CATEGORIES:Saison 2025/26
END:VEVENT
BEGIN:VEVENT
DTSTAMP:20260424T114928Z
DTSTART;TZID=Europe/Berlin:20260331T194500
DTEND;TZID=Europe/Berlin:20260331T224500
SUMMARY:Ligue 2 Gr.2\, Ph.B Carouge IV vs Châtelaine III (26)
UID:58141c79-39f9-4b5f-9cda-efd7c88e84bf
STATUS:CONFIRMED
LAST-MODIFIED:20260401T065532Z
DESCRIPTION:2ème ligue Homme Gr.2 Phase B\nBegegnungs-Nr: 26\nHeim: Carouge IV\nGast: Châtelaine III\n
LOCATION:
CATEGORIES:Saison 2025/26
END:VEVENT
BEGIN:VEVENT
DTSTAMP:20260424T114928Z
DTSTART;TZID=Europe/Berlin:20260317T194500
DTEND;TZID=Europe/Berlin:20260317T224500
SUMMARY:Ligue 2 Gr.2\, Ph.B Mandement III vs Châtelaine III (20)
UID:6d8417c7-d774-4247-882a-af2984b9fc53
STATUS:CONFIRMED
LAST-MODIFIED:20260318T071731Z
DESCRIPTION:2ème ligue Homme Gr.2 Phase B\nBegegnungs-Nr: 20\nHeim: Mandement III\nGast: Châtelaine III\n
LOCATION:
CATEGORIES:Saison 2025/26
END:VEVENT
BEGIN:VEVENT
DTSTAMP:20260424T114928Z
DTSTART;TZID=Europe/Berlin:20260216T194500
DTEND;TZID=Europe/Berlin:20260216T224500
SUMMARY:Ligue 2 Gr.2\, Ph.B UGS-Chênois V vs Châtelaine III (14)
UID:b1df05aa-8718-40dd-b75e-7bf7c19cf230
STATUS:CONFIRMED
LAST-MODIFIED:20260218T133729Z
DESCRIPTION:2ème ligue Homme Gr.2 Phase B\nBegegnungs-Nr: 14\nHeim: UGS-Chênois V\nGast: Châtelaine III\n
LOCATION:
CATEGORIES:Saison 2025/26
END:VEVENT
BEGIN:VEVENT
DTSTAMP:20260424T114928Z
DTSTART;TZID=Europe/Berlin:20260113T200000
DTEND;TZID=Europe/Berlin:20260113T230000
SUMMARY:Ligue 2 Gr.2\, Ph.B ZZ-Lancy VI vs Châtelaine III (1)
UID:fbc0b69f-9948-4713-a7a8-4a005bc244ee
STATUS:CONFIRMED
LAST-MODIFIED:20260114T134036Z
DESCRIPTION:2ème ligue Homme Gr.2 Phase B\nBegegnungs-Nr: 1\nHeim: ZZ-Lancy VI\nGast: Châtelaine III\n
LOCATION:
CATEGORIES:Saison 2025/26
END:VEVENT
BEGIN:VEVENT
DTSTAMP:20260424T114928Z
DTSTART;TZID=Europe/Berlin:20260127T194500
DTEND;TZID=Europe/Berlin:20260127T224500
SUMMARY:Ligue 2 Gr.2\, Ph.B Silver Star V vs Châtelaine III (9)
UID:4f0c4d44-0625-4b67-9280-af270dbdf0d4
STATUS:CONFIRMED
LAST-MODIFIED:20260128T133618Z
DESCRIPTION:2ème ligue Homme Gr.2 Phase B\nBegegnungs-Nr: 9\nHeim: Silver Star V\nGast: Châtelaine III\n
LOCATION:
CATEGORIES:Saison 2025/26
END:VEVENT
END:VCALENDAR
