BEGIN:VCALENDAR
PRODID:-//nuDatenautomaten//framework iCal4j //DE
VERSION:2.0
CALSCALE:GREGORIAN
BEGIN:VTIMEZONE
TZID:Europe/Berlin
LAST-MODIFIED:20260306T231828Z
TZURL:https://www.tzurl.org/zoneinfo/Europe/Berlin
X-LIC-LOCATION:Europe/Berlin
X-PROLEPTIC-TZNAME:LMT
BEGIN:STANDARD
TZNAME:CET
TZOFFSETFROM:+005328
TZOFFSETTO:+0100
DTSTART:18930401T000000
END:STANDARD
BEGIN:DAYLIGHT
TZNAME:CEST
TZOFFSETFROM:+0100
TZOFFSETTO:+0200
DTSTART:19160430T230000
RDATE:19400401T020000
RDATE:19430329T020000
RDATE:19460414T020000
RDATE:19470406T030000
RDATE:19480418T020000
RDATE:19490410T020000
RDATE:19800406T020000
END:DAYLIGHT
BEGIN:STANDARD
TZNAME:CET
TZOFFSETFROM:+0200
TZOFFSETTO:+0100
DTSTART:19161001T010000
RDATE:19421102T030000
RDATE:19431004T030000
RDATE:19441002T030000
RDATE:19451118T030000
RDATE:19461007T030000
END:STANDARD
BEGIN:DAYLIGHT
TZNAME:CEST
TZOFFSETFROM:+0100
TZOFFSETTO:+0200
DTSTART:19170416T020000
RRULE:FREQ=YEARLY;UNTIL=19180415T010000Z;BYMONTH=4;BYDAY=3MO
END:DAYLIGHT
BEGIN:STANDARD
TZNAME:CET
TZOFFSETFROM:+0200
TZOFFSETTO:+0100
DTSTART:19170917T030000
RRULE:FREQ=YEARLY;UNTIL=19180916T010000Z;BYMONTH=9;BYDAY=3MO
END:STANDARD
BEGIN:DAYLIGHT
TZNAME:CEST
TZOFFSETFROM:+0100
TZOFFSETTO:+0200
DTSTART:19440403T020000
RRULE:FREQ=YEARLY;UNTIL=19450402T010000Z;BYMONTH=4;BYDAY=1MO
END:DAYLIGHT
BEGIN:DAYLIGHT
TZNAME:CEMT
TZOFFSETFROM:+0200
TZOFFSETTO:+0300
DTSTART:19450524T020000
RDATE:19470511T030000
END:DAYLIGHT
BEGIN:DAYLIGHT
TZNAME:CEST
TZOFFSETFROM:+0300
TZOFFSETTO:+0200
DTSTART:19450924T030000
RDATE:19470629T030000
END:DAYLIGHT
BEGIN:STANDARD
TZNAME:CET
TZOFFSETFROM:+0100
TZOFFSETTO:+0100
DTSTART:19460101T000000
RDATE:19800101T000000
END:STANDARD
BEGIN:STANDARD
TZNAME:CET
TZOFFSETFROM:+0200
TZOFFSETTO:+0100
DTSTART:19471005T030000
RRULE:FREQ=YEARLY;UNTIL=19491002T010000Z;BYMONTH=10;BYDAY=1SU
END:STANDARD
BEGIN:STANDARD
TZNAME:CET
TZOFFSETFROM:+0200
TZOFFSETTO:+0100
DTSTART:19800928T030000
RRULE:FREQ=YEARLY;UNTIL=19950924T010000Z;BYMONTH=9;BYDAY=-1SU
END:STANDARD
BEGIN:DAYLIGHT
TZNAME:CEST
TZOFFSETFROM:+0100
TZOFFSETTO:+0200
DTSTART:19810329T020000
RRULE:FREQ=YEARLY;BYMONTH=3;BYDAY=-1SU
END:DAYLIGHT
BEGIN:STANDARD
TZNAME:CET
TZOFFSETFROM:+0200
TZOFFSETTO:+0100
DTSTART:19961027T030000
RRULE:FREQ=YEARLY;BYMONTH=10;BYDAY=-1SU
END:STANDARD
END:VTIMEZONE
BEGIN:VEVENT
DTSTAMP:20260424T135221Z
DTSTART;TZID=Europe/Berlin:20260122T201500
DTEND;TZID=Europe/Berlin:20260122T231500
SUMMARY:HE 3. Liga Gr. 3 Bülach II vs Neuhausen IV (0)
UID:6972b1fc-2295-4c53-974e-36f3884da880
STATUS:CONFIRMED
LAST-MODIFIED:20260123T082316Z
DESCRIPTION:3. Liga Herren Gruppe 3\nBegegnungs-Nr: 0\nHeim: Bülach II\nGast: Neuhausen IV\n\nAdresse: Unterweg 51\, 8180 Bülach\n
LOCATION:Unterweg 51\, 8180 Bülach
CATEGORIES:Saison 2025/26
END:VEVENT
BEGIN:VEVENT
DTSTAMP:20260424T135221Z
DTSTART;TZID=Europe/Berlin:20260305T201500
DTEND;TZID=Europe/Berlin:20260305T231500
SUMMARY:HE 3. Liga Gr. 3 Bülach II vs Steckborn-Homburg (0)
UID:3b7aaaa2-c62e-4d9d-bfeb-522f0859c5a9
STATUS:CONFIRMED
LAST-MODIFIED:20260310T155528Z
DESCRIPTION:3. Liga Herren Gruppe 3\nBegegnungs-Nr: 0\nHeim: Bülach II\nGast: Steckborn-Homburg\n\nAdresse: Unterweg 51\, 8180 Bülach\n
LOCATION:Unterweg 51\, 8180 Bülach
CATEGORIES:Saison 2025/26
END:VEVENT
BEGIN:VEVENT
DTSTAMP:20260424T135221Z
DTSTART;TZID=Europe/Berlin:20260312T201500
DTEND;TZID=Europe/Berlin:20260312T231500
SUMMARY:HE 3. Liga Gr. 3 Bülach II vs Embrachertal (0)
UID:65e4f545-796e-4d8a-b62e-7a35067ce056
STATUS:CONFIRMED
LAST-MODIFIED:20260313T130525Z
DESCRIPTION:3. Liga Herren Gruppe 3\nBegegnungs-Nr: 0\nHeim: Bülach II\nGast: Embrachertal\n\nAdresse: Unterweg 51\, 8180 Bülach\n
LOCATION:Unterweg 51\, 8180 Bülach
CATEGORIES:Saison 2025/26
END:VEVENT
BEGIN:VEVENT
DTSTAMP:20260424T135221Z
DTSTART;TZID=Europe/Berlin:20250925T201500
DTEND;TZID=Europe/Berlin:20250925T231500
SUMMARY:HE 3. Liga Gr. 3 Bülach II vs Niederhasli II (0)
UID:1a4100d0-1a79-426c-a9a3-47ba7938f7f5
STATUS:CONFIRMED
LAST-MODIFIED:20250926T130032Z
DESCRIPTION:3. Liga Herren Gruppe 3\nBegegnungs-Nr: 0\nHeim: Bülach II\nGast: Niederhasli II\n\nAdresse: Unterweg 51\, 8180 Bülach\n
LOCATION:Unterweg 51\, 8180 Bülach
CATEGORIES:Saison 2025/26
END:VEVENT
BEGIN:VEVENT
DTSTAMP:20260424T135221Z
DTSTART;TZID=Europe/Berlin:20260416T201500
DTEND;TZID=Europe/Berlin:20260416T231500
SUMMARY:HE 3. Liga Gr. 3 Bülach II vs Dübendorf-Volketswil (0)
UID:a5aca85d-c829-4dba-ab13-d499c4de0fef
STATUS:CONFIRMED
LAST-MODIFIED:20260420T121214Z
DESCRIPTION:3. Liga Herren Gruppe 3\nBegegnungs-Nr: 0\nHeim: Bülach II\nGast: Dübendorf-Volketswil\n\nAdresse: Unterweg 51\, 8180 Bülach\n
LOCATION:Unterweg 51\, 8180 Bülach
CATEGORIES:Saison 2025/26
END:VEVENT
BEGIN:VEVENT
DTSTAMP:20260424T135221Z
DTSTART;TZID=Europe/Berlin:20250918T201500
DTEND;TZID=Europe/Berlin:20250918T231500
SUMMARY:HE 3. Liga Gr. 3 Bülach II vs Wil SG II (0)
UID:8273d7ae-3d45-495e-be92-06221b4d61bd
STATUS:CONFIRMED
LAST-MODIFIED:20251007T054645Z
DESCRIPTION:3. Liga Herren Gruppe 3\nBegegnungs-Nr: 0\nHeim: Bülach II\nGast: Wil SG II\n\nAdresse: Unterweg 51\, 8180 Bülach\n
LOCATION:Unterweg 51\, 8180 Bülach
CATEGORIES:Saison 2025/26
END:VEVENT
BEGIN:VEVENT
DTSTAMP:20260424T135221Z
DTSTART;TZID=Europe/Berlin:20251204T201500
DTEND;TZID=Europe/Berlin:20251204T231500
SUMMARY:HE 3. Liga Gr. 3 Bülach II vs Winterthur II (0)
UID:4f7207aa-3b94-4b8c-97e1-0edfad19f8ee
STATUS:CONFIRMED
LAST-MODIFIED:20251205T130109Z
DESCRIPTION:3. Liga Herren Gruppe 3\nBegegnungs-Nr: 0\nHeim: Bülach II\nGast: Winterthur II\n\nAdresse: Unterweg 51\, 8180 Bülach\n
LOCATION:Unterweg 51\, 8180 Bülach
CATEGORIES:Saison 2025/26
END:VEVENT
BEGIN:VEVENT
DTSTAMP:20260424T135221Z
DTSTART;TZID=Europe/Berlin:20260114T193000
DTEND;TZID=Europe/Berlin:20260114T223000
SUMMARY:HE 3. Liga Gr. 3 Niederhasli II vs Bülach II (0)
UID:4bbb9157-3f17-4223-9aa7-84b137f6bb3d
STATUS:CONFIRMED
LAST-MODIFIED:20260115T093550Z
DESCRIPTION:3. Liga Herren Gruppe 3\nBegegnungs-Nr: 0\nHeim: Niederhasli II\nGast: Bülach II\n\nAdresse: Dorfstrasse 22\, 8155 Niederhasli\n
LOCATION:Dorfstrasse 22\, 8155 Niederhasli
CATEGORIES:Saison 2025/26
END:VEVENT
BEGIN:VEVENT
DTSTAMP:20260424T135221Z
DTSTART;TZID=Europe/Berlin:20260127T201500
DTEND;TZID=Europe/Berlin:20260127T231500
SUMMARY:HE 3. Liga Gr. 3 Wil SG II vs Bülach II (0)
UID:818c0c26-0778-41f6-995c-492b27a57790
STATUS:CONFIRMED
LAST-MODIFIED:20260130T075056Z
DESCRIPTION:3. Liga Herren Gruppe 3\nBegegnungs-Nr: 0\nHeim: Wil SG II\nGast: Bülach II\n\nAdresse: Lindenhofstr. 23\, 9500 Wil\n
LOCATION:Lindenhofstr. 23\, 9500 Wil
CATEGORIES:Saison 2025/26
END:VEVENT
BEGIN:VEVENT
DTSTAMP:20260424T135221Z
DTSTART;TZID=Europe/Berlin:20250903T200000
DTEND;TZID=Europe/Berlin:20250903T230000
SUMMARY:HE 3. Liga Gr. 3 Neuhausen IV vs Bülach II (0)
UID:83b73847-16b3-44f7-949f-be9f5f35d504
STATUS:CONFIRMED
LAST-MODIFIED:20250905T082216Z
DESCRIPTION:3. Liga Herren Gruppe 3\nBegegnungs-Nr: 0\nHeim: Neuhausen IV\nGast: Bülach II\n\nAdresse: Ebnatstrasse 35\, 8200 Schaffhausen\n
LOCATION:Ebnatstrasse 35\, 8200 Schaffhausen
CATEGORIES:Saison 2025/26
END:VEVENT
BEGIN:VEVENT
DTSTAMP:20260424T135221Z
DTSTART;TZID=Europe/Berlin:20260327T201500
DTEND;TZID=Europe/Berlin:20260327T231500
SUMMARY:HE 3. Liga Gr. 3 Winterthur II vs Bülach II (0)
UID:eea18c99-380d-4ab0-87eb-8a03669b03d4
STATUS:CONFIRMED
LAST-MODIFIED:20260401T121628Z
DESCRIPTION:3. Liga Herren Gruppe 3\nBegegnungs-Nr: 0\nHeim: Winterthur II\nGast: Bülach II\n\nAdresse: Buchackerstrasse 54\, 8400 Winterthur\n
LOCATION:Buchackerstrasse 54\, 8400 Winterthur
CATEGORIES:Saison 2025/26
END:VEVENT
BEGIN:VEVENT
DTSTAMP:20260424T135221Z
DTSTART;TZID=Europe/Berlin:20250922T194500
DTEND;TZID=Europe/Berlin:20250922T224500
SUMMARY:HE 3. Liga Gr. 3 Steckborn-Homburg vs Bülach II (0)
UID:1ecd2d5b-4e8a-44dc-8b16-3a936fb9d9b3
STATUS:CONFIRMED
LAST-MODIFIED:20250926T125957Z
DESCRIPTION:3. Liga Herren Gruppe 3\nBegegnungs-Nr: 0\nHeim: Steckborn-Homburg\nGast: Bülach II\n\nAdresse: Feldbach\, 8266 Steckborn\n
LOCATION:Feldbach\, 8266 Steckborn
CATEGORIES:Saison 2025/26
END:VEVENT
BEGIN:VEVENT
DTSTAMP:20260424T135221Z
DTSTART;TZID=Europe/Berlin:20251028T200000
DTEND;TZID=Europe/Berlin:20251028T230000
SUMMARY:HE 3. Liga Gr. 3 Embrachertal vs Bülach II (0)
UID:5db547da-1176-4af6-bbc4-a90292fc56af
STATUS:CONFIRMED
LAST-MODIFIED:20251031T143028Z
DESCRIPTION:3. Liga Herren Gruppe 3\nBegegnungs-Nr: 0\nHeim: Embrachertal\nGast: Bülach II\n\nAdresse: Hintermarchlenstrasse 31 + 33\, 8426 Lufingen\n
LOCATION:Hintermarchlenstrasse 31 + 33\, 8426 Lufingen
CATEGORIES:Saison 2025/26
END:VEVENT
BEGIN:VEVENT
DTSTAMP:20260424T135221Z
DTSTART;TZID=Europe/Berlin:20251208T200000
DTEND;TZID=Europe/Berlin:20251208T230000
SUMMARY:HE 3. Liga Gr. 3 Dübendorf-Volketswil vs Bülach II (0)
UID:f8841083-f2bb-4f4d-b7db-054694c50feb
STATUS:CONFIRMED
LAST-MODIFIED:20251210T082418Z
DESCRIPTION:3. Liga Herren Gruppe 3\nBegegnungs-Nr: 0\nHeim: Dübendorf-Volketswil\nGast: Bülach II\n\nAdresse: Usterstrasse 35\, 8604 Volketswil\n
LOCATION:Usterstrasse 35\, 8604 Volketswil
CATEGORIES:Saison 2025/26
END:VEVENT
END:VCALENDAR
