BEGIN:VCALENDAR
PRODID:-//nuDatenautomaten//framework iCal4j //DE
VERSION:2.0
CALSCALE:GREGORIAN
BEGIN:VTIMEZONE
TZID:Europe/Berlin
LAST-MODIFIED:20260306T231828Z
TZURL:https://www.tzurl.org/zoneinfo/Europe/Berlin
X-LIC-LOCATION:Europe/Berlin
X-PROLEPTIC-TZNAME:LMT
BEGIN:STANDARD
TZNAME:CET
TZOFFSETFROM:+005328
TZOFFSETTO:+0100
DTSTART:18930401T000000
END:STANDARD
BEGIN:DAYLIGHT
TZNAME:CEST
TZOFFSETFROM:+0100
TZOFFSETTO:+0200
DTSTART:19160430T230000
RDATE:19400401T020000
RDATE:19430329T020000
RDATE:19460414T020000
RDATE:19470406T030000
RDATE:19480418T020000
RDATE:19490410T020000
RDATE:19800406T020000
END:DAYLIGHT
BEGIN:STANDARD
TZNAME:CET
TZOFFSETFROM:+0200
TZOFFSETTO:+0100
DTSTART:19161001T010000
RDATE:19421102T030000
RDATE:19431004T030000
RDATE:19441002T030000
RDATE:19451118T030000
RDATE:19461007T030000
END:STANDARD
BEGIN:DAYLIGHT
TZNAME:CEST
TZOFFSETFROM:+0100
TZOFFSETTO:+0200
DTSTART:19170416T020000
RRULE:FREQ=YEARLY;UNTIL=19180415T010000Z;BYMONTH=4;BYDAY=3MO
END:DAYLIGHT
BEGIN:STANDARD
TZNAME:CET
TZOFFSETFROM:+0200
TZOFFSETTO:+0100
DTSTART:19170917T030000
RRULE:FREQ=YEARLY;UNTIL=19180916T010000Z;BYMONTH=9;BYDAY=3MO
END:STANDARD
BEGIN:DAYLIGHT
TZNAME:CEST
TZOFFSETFROM:+0100
TZOFFSETTO:+0200
DTSTART:19440403T020000
RRULE:FREQ=YEARLY;UNTIL=19450402T010000Z;BYMONTH=4;BYDAY=1MO
END:DAYLIGHT
BEGIN:DAYLIGHT
TZNAME:CEMT
TZOFFSETFROM:+0200
TZOFFSETTO:+0300
DTSTART:19450524T020000
RDATE:19470511T030000
END:DAYLIGHT
BEGIN:DAYLIGHT
TZNAME:CEST
TZOFFSETFROM:+0300
TZOFFSETTO:+0200
DTSTART:19450924T030000
RDATE:19470629T030000
END:DAYLIGHT
BEGIN:STANDARD
TZNAME:CET
TZOFFSETFROM:+0100
TZOFFSETTO:+0100
DTSTART:19460101T000000
RDATE:19800101T000000
END:STANDARD
BEGIN:STANDARD
TZNAME:CET
TZOFFSETFROM:+0200
TZOFFSETTO:+0100
DTSTART:19471005T030000
RRULE:FREQ=YEARLY;UNTIL=19491002T010000Z;BYMONTH=10;BYDAY=1SU
END:STANDARD
BEGIN:STANDARD
TZNAME:CET
TZOFFSETFROM:+0200
TZOFFSETTO:+0100
DTSTART:19800928T030000
RRULE:FREQ=YEARLY;UNTIL=19950924T010000Z;BYMONTH=9;BYDAY=-1SU
END:STANDARD
BEGIN:DAYLIGHT
TZNAME:CEST
TZOFFSETFROM:+0100
TZOFFSETTO:+0200
DTSTART:19810329T020000
RRULE:FREQ=YEARLY;BYMONTH=3;BYDAY=-1SU
END:DAYLIGHT
BEGIN:STANDARD
TZNAME:CET
TZOFFSETFROM:+0200
TZOFFSETTO:+0100
DTSTART:19961027T030000
RRULE:FREQ=YEARLY;BYMONTH=10;BYDAY=-1SU
END:STANDARD
END:VTIMEZONE
BEGIN:VEVENT
DTSTAMP:20260424T114936Z
DTSTART;TZID=Europe/Berlin:20251112T200000
DTEND;TZID=Europe/Berlin:20251112T230000
SUMMARY:Ligue 3 Gr.2 Ph.A ZZ-Lancy VIII vs Rapid-Genève (19)
UID:ccb6da37-b225-40cb-9c54-5c94120ac31f
STATUS:CONFIRMED
LAST-MODIFIED:20251113T134457Z
DESCRIPTION:3ème ligue Homme Gr.2 Phase A\nBegegnungs-Nr: 19\nHeim: ZZ-Lancy VIII\nGast: Rapid-Genève\n
LOCATION:
CATEGORIES:Saison 2025/26
END:VEVENT
BEGIN:VEVENT
DTSTAMP:20260424T114936Z
DTSTART;TZID=Europe/Berlin:20251203T200000
DTEND;TZID=Europe/Berlin:20251203T230000
SUMMARY:Ligue 3 Gr.2 Ph.A ZZ-Lancy VIII vs Meyrin II (30)
UID:36438ff0-9a00-403c-8e5d-f3b229200746
STATUS:CONFIRMED
LAST-MODIFIED:20251204T083423Z
DESCRIPTION:3ème ligue Homme Gr.2 Phase A\nBegegnungs-Nr: 30\nHeim: ZZ-Lancy VIII\nGast: Meyrin II\n
LOCATION:
CATEGORIES:Saison 2025/26
END:VEVENT
BEGIN:VEVENT
DTSTAMP:20260424T114936Z
DTSTART;TZID=Europe/Berlin:20251008T200000
DTEND;TZID=Europe/Berlin:20251008T230000
SUMMARY:Ligue 3 Gr.2 Ph.A ZZ-Lancy VIII vs Mandement IV (11)
UID:3a918d36-1412-4ef2-af50-63eb5f6d4464
STATUS:CONFIRMED
LAST-MODIFIED:20251009T090420Z
DESCRIPTION:3ème ligue Homme Gr.2 Phase A\nBegegnungs-Nr: 11\nHeim: ZZ-Lancy VIII\nGast: Mandement IV\n
LOCATION:
CATEGORIES:Saison 2025/26
END:VEVENT
BEGIN:VEVENT
DTSTAMP:20260424T114936Z
DTSTART;TZID=Europe/Berlin:20250924T200000
DTEND;TZID=Europe/Berlin:20250924T230000
SUMMARY:Ligue 3 Gr.2 Ph.A ZZ-Lancy VIII vs UGS-Chênois VI (7)
UID:69153a61-7627-4b2c-82ec-099b885f1808
STATUS:CONFIRMED
LAST-MODIFIED:20250925T122326Z
DESCRIPTION:3ème ligue Homme Gr.2 Phase A\nBegegnungs-Nr: 7\nHeim: ZZ-Lancy VIII\nGast: UGS-Chênois VI\n
LOCATION:
CATEGORIES:Saison 2025/26
END:VEVENT
BEGIN:VEVENT
DTSTAMP:20260424T114936Z
DTSTART;TZID=Europe/Berlin:20250903T200000
DTEND;TZID=Europe/Berlin:20250903T230000
SUMMARY:Ligue 3 Gr.2 Ph.A ZZ-Lancy VIII vs Puplinge (2)
UID:fbe02324-d4d3-458b-a83a-ff546b365078
STATUS:CONFIRMED
LAST-MODIFIED:20250904T114941Z
DESCRIPTION:3ème ligue Homme Gr.2 Phase A\nBegegnungs-Nr: 2\nHeim: ZZ-Lancy VIII\nGast: Puplinge\n
LOCATION:
CATEGORIES:Saison 2025/26
END:VEVENT
BEGIN:VEVENT
DTSTAMP:20260424T114936Z
DTSTART;TZID=Europe/Berlin:20260114T200000
DTEND;TZID=Europe/Berlin:20260114T230000
SUMMARY:Ligue 3 Gr.2 Ph.B ZZ-Lancy VIII vs Châtelaine V (1)
UID:b4d13b57-4024-43f3-a649-6e2b54f72550
STATUS:CONFIRMED
LAST-MODIFIED:20260115T134705Z
DESCRIPTION:3ème ligue Homme Gr.2 Phase B\nBegegnungs-Nr: 1\nHeim: ZZ-Lancy VIII\nGast: Châtelaine V\n
LOCATION:
CATEGORIES:Saison 2025/26
END:VEVENT
BEGIN:VEVENT
DTSTAMP:20260424T114936Z
DTSTART;TZID=Europe/Berlin:20260218T200000
DTEND;TZID=Europe/Berlin:20260218T230000
SUMMARY:Ligue 3 Gr.2 Ph.B ZZ-Lancy VIII vs UGS-Chênois VII (13)
UID:1d9f2ec0-0d66-4cad-88de-64758178fcae
STATUS:CONFIRMED
LAST-MODIFIED:20260219T120236Z
DESCRIPTION:3ème ligue Homme Gr.2 Phase B\nBegegnungs-Nr: 13\nHeim: ZZ-Lancy VIII\nGast: UGS-Chênois VII\n
LOCATION:
CATEGORIES:Saison 2025/26
END:VEVENT
BEGIN:VEVENT
DTSTAMP:20260424T114936Z
DTSTART;TZID=Europe/Berlin:20260128T200000
DTEND;TZID=Europe/Berlin:20260128T230000
SUMMARY:Ligue 3 Gr.2 Ph.B ZZ-Lancy VIII vs Veyrier II (7)
UID:741858fd-45e5-4011-b17d-fe667cf934e9
STATUS:CONFIRMED
LAST-MODIFIED:20260129T095209Z
DESCRIPTION:3ème ligue Homme Gr.2 Phase B\nBegegnungs-Nr: 7\nHeim: ZZ-Lancy VIII\nGast: Veyrier II\n
LOCATION:
CATEGORIES:Saison 2025/26
END:VEVENT
BEGIN:VEVENT
DTSTAMP:20260424T114936Z
DTSTART;TZID=Europe/Berlin:20260401T200000
DTEND;TZID=Europe/Berlin:20260401T230000
SUMMARY:Ligue 3 Gr.2 Ph.B ZZ-Lancy VIII vs Carouge V (25)
UID:dcd32245-6740-40dc-b03c-e825ab345882
STATUS:CONFIRMED
LAST-MODIFIED:20260402T064459Z
DESCRIPTION:3ème ligue Homme Gr.2 Phase B\nBegegnungs-Nr: 25\nHeim: ZZ-Lancy VIII\nGast: Carouge V\n
LOCATION:
CATEGORIES:Saison 2025/26
END:VEVENT
BEGIN:VEVENT
DTSTAMP:20260424T114936Z
DTSTART;TZID=Europe/Berlin:20260318T200000
DTEND;TZID=Europe/Berlin:20260318T230000
SUMMARY:Ligue 3 Gr.2 Ph.B ZZ-Lancy VIII vs Onex III (21)
UID:f8bc1dd9-ba4f-4d02-b057-31e0aef1283a
STATUS:CONFIRMED
LAST-MODIFIED:20260319T132319Z
DESCRIPTION:3ème ligue Homme Gr.2 Phase B\nBegegnungs-Nr: 21\nHeim: ZZ-Lancy VIII\nGast: Onex III\n
LOCATION:
CATEGORIES:Saison 2025/26
END:VEVENT
BEGIN:VEVENT
DTSTAMP:20260424T114936Z
DTSTART;TZID=Europe/Berlin:20251126T194500
DTEND;TZID=Europe/Berlin:20251126T224500
SUMMARY:Ligue 3 Gr.2 Ph.A Mandement IV vs ZZ-Lancy VIII (26)
UID:181dacbc-ae92-4680-ad65-4977ac1d770d
STATUS:CONFIRMED
LAST-MODIFIED:20251127T113146Z
DESCRIPTION:3ème ligue Homme Gr.2 Phase A\nBegegnungs-Nr: 26\nHeim: Mandement IV\nGast: ZZ-Lancy VIII\n
LOCATION:
CATEGORIES:Saison 2025/26
END:VEVENT
BEGIN:VEVENT
DTSTAMP:20260424T114936Z
DTSTART;TZID=Europe/Berlin:20251119T194500
DTEND;TZID=Europe/Berlin:20251119T224500
SUMMARY:Ligue 3 Gr.2 Ph.A UGS-Chênois VI vs ZZ-Lancy VIII (22)
UID:8660dcdb-ea68-4b53-ad63-4fbcb669c9e0
STATUS:CONFIRMED
LAST-MODIFIED:20251120T123302Z
DESCRIPTION:3ème ligue Homme Gr.2 Phase A\nBegegnungs-Nr: 22\nHeim: UGS-Chênois VI\nGast: ZZ-Lancy VIII\n
LOCATION:
CATEGORIES:Saison 2025/26
END:VEVENT
BEGIN:VEVENT
DTSTAMP:20260424T114936Z
DTSTART;TZID=Europe/Berlin:20251029T194500
DTEND;TZID=Europe/Berlin:20251029T224500
SUMMARY:Ligue 3 Gr.2 Ph.A Puplinge vs ZZ-Lancy VIII (17)
UID:f80dd285-3fdd-4694-afe5-047e6c83bfef
STATUS:CONFIRMED
LAST-MODIFIED:20251031T080519Z
DESCRIPTION:3ème ligue Homme Gr.2 Phase A\nBegegnungs-Nr: 17\nHeim: Puplinge\nGast: ZZ-Lancy VIII\n\nAdresse: Chemin de la Brenaz\,  15\, 1241 Puplinge\n
LOCATION:Chemin de la Brenaz\,  15\, 1241 Puplinge
CATEGORIES:Saison 2025/26
END:VEVENT
BEGIN:VEVENT
DTSTAMP:20260424T114936Z
DTSTART;TZID=Europe/Berlin:20251015T194500
DTEND;TZID=Europe/Berlin:20251015T224500
SUMMARY:Ligue 3 Gr.2 Ph.A Meyrin II vs ZZ-Lancy VIII (15)
UID:580d190c-84be-488c-b85d-70280730272b
STATUS:CONFIRMED
LAST-MODIFIED:20251016T183518Z
DESCRIPTION:3ème ligue Homme Gr.2 Phase A\nBegegnungs-Nr: 15\nHeim: Meyrin II\nGast: ZZ-Lancy VIII\n
LOCATION:
CATEGORIES:Saison 2025/26
END:VEVENT
BEGIN:VEVENT
DTSTAMP:20260424T114936Z
DTSTART;TZID=Europe/Berlin:20250917T194500
DTEND;TZID=Europe/Berlin:20250917T224500
SUMMARY:Ligue 3 Gr.2 Ph.A Rapid-Genève vs ZZ-Lancy VIII (4)
UID:9878965c-d7b7-4e8f-b1ff-b5332dd8c5f4
STATUS:CONFIRMED
LAST-MODIFIED:20250918T143705Z
DESCRIPTION:3ème ligue Homme Gr.2 Phase A\nBegegnungs-Nr: 4\nHeim: Rapid-Genève\nGast: ZZ-Lancy VIII\n
LOCATION:
CATEGORIES:Saison 2025/26
END:VEVENT
BEGIN:VEVENT
DTSTAMP:20260424T114936Z
DTSTART;TZID=Europe/Berlin:20260311T194500
DTEND;TZID=Europe/Berlin:20260311T224500
SUMMARY:Ligue 3 Gr.2 Ph.B Châtelaine V vs ZZ-Lancy VIII (16)
UID:768c34d1-1e2a-4861-8bff-e738711a39d5
STATUS:CONFIRMED
LAST-MODIFIED:20260312T140105Z
DESCRIPTION:3ème ligue Homme Gr.2 Phase B\nBegegnungs-Nr: 16\nHeim: Châtelaine V\nGast: ZZ-Lancy VIII\n
LOCATION:
CATEGORIES:Saison 2025/26
END:VEVENT
BEGIN:VEVENT
DTSTAMP:20260424T114936Z
DTSTART;TZID=Europe/Berlin:20260211T200000
DTEND;TZID=Europe/Berlin:20260211T230000
SUMMARY:Ligue 3 Gr.2 Ph.B Carouge V vs ZZ-Lancy VIII (10)
UID:59e8c950-6b78-4b96-9b79-e42cf0060e0e
STATUS:CONFIRMED
LAST-MODIFIED:20260212T101342Z
DESCRIPTION:3ème ligue Homme Gr.2 Phase B\nBegegnungs-Nr: 10\nHeim: Carouge V\nGast: ZZ-Lancy VIII\n
LOCATION:
CATEGORIES:Saison 2025/26
END:VEVENT
BEGIN:VEVENT
DTSTAMP:20260424T114936Z
DTSTART;TZID=Europe/Berlin:20260121T194500
DTEND;TZID=Europe/Berlin:20260121T224500
SUMMARY:Ligue 3 Gr.2 Ph.B Onex III vs ZZ-Lancy VIII (6)
UID:4d9f0c87-9d53-42f2-9af6-3159124a4441
STATUS:CONFIRMED
LAST-MODIFIED:20260122T094146Z
DESCRIPTION:3ème ligue Homme Gr.2 Phase B\nBegegnungs-Nr: 6\nHeim: Onex III\nGast: ZZ-Lancy VIII\n
LOCATION:
CATEGORIES:Saison 2025/26
END:VEVENT
BEGIN:VEVENT
DTSTAMP:20260424T114936Z
DTSTART;TZID=Europe/Berlin:20260429T194500
DTEND;TZID=Europe/Berlin:20260429T224500
SUMMARY:Ligue 3 Gr.2 Ph.B UGS-Chênois VII vs ZZ-Lancy VIII (28)
UID:72f42fe0-0916-4900-bfaa-3192b9b9b58d
STATUS:CONFIRMED
DESCRIPTION:3ème ligue Homme Gr.2 Phase B\nBegegnungs-Nr: 28\nHeim: UGS-Chênois VII\nGast: ZZ-Lancy VIII\n
LOCATION:
CATEGORIES:Saison 2025/26
END:VEVENT
BEGIN:VEVENT
DTSTAMP:20260424T114936Z
DTSTART;TZID=Europe/Berlin:20260325T194500
DTEND;TZID=Europe/Berlin:20260325T224500
SUMMARY:Ligue 3 Gr.2 Ph.B Veyrier II vs ZZ-Lancy VIII (22)
UID:5d231e35-5e6c-438b-a67f-ebcb105a8fb9
STATUS:CONFIRMED
LAST-MODIFIED:20260326T095320Z
DESCRIPTION:3ème ligue Homme Gr.2 Phase B\nBegegnungs-Nr: 22\nHeim: Veyrier II\nGast: ZZ-Lancy VIII\n\nAdresse: -\, 1255 Veyrier\n
LOCATION:-\, 1255 Veyrier
CATEGORIES:Saison 2025/26
END:VEVENT
END:VCALENDAR
