BEGIN:VCALENDAR
PRODID:-//nuDatenautomaten//framework iCal4j //DE
VERSION:2.0
CALSCALE:GREGORIAN
BEGIN:VTIMEZONE
TZID:Europe/Berlin
LAST-MODIFIED:20260306T231828Z
TZURL:https://www.tzurl.org/zoneinfo/Europe/Berlin
X-LIC-LOCATION:Europe/Berlin
X-PROLEPTIC-TZNAME:LMT
BEGIN:STANDARD
TZNAME:CET
TZOFFSETFROM:+005328
TZOFFSETTO:+0100
DTSTART:18930401T000000
END:STANDARD
BEGIN:DAYLIGHT
TZNAME:CEST
TZOFFSETFROM:+0100
TZOFFSETTO:+0200
DTSTART:19160430T230000
RDATE:19400401T020000
RDATE:19430329T020000
RDATE:19460414T020000
RDATE:19470406T030000
RDATE:19480418T020000
RDATE:19490410T020000
RDATE:19800406T020000
END:DAYLIGHT
BEGIN:STANDARD
TZNAME:CET
TZOFFSETFROM:+0200
TZOFFSETTO:+0100
DTSTART:19161001T010000
RDATE:19421102T030000
RDATE:19431004T030000
RDATE:19441002T030000
RDATE:19451118T030000
RDATE:19461007T030000
END:STANDARD
BEGIN:DAYLIGHT
TZNAME:CEST
TZOFFSETFROM:+0100
TZOFFSETTO:+0200
DTSTART:19170416T020000
RRULE:FREQ=YEARLY;UNTIL=19180415T010000Z;BYMONTH=4;BYDAY=3MO
END:DAYLIGHT
BEGIN:STANDARD
TZNAME:CET
TZOFFSETFROM:+0200
TZOFFSETTO:+0100
DTSTART:19170917T030000
RRULE:FREQ=YEARLY;UNTIL=19180916T010000Z;BYMONTH=9;BYDAY=3MO
END:STANDARD
BEGIN:DAYLIGHT
TZNAME:CEST
TZOFFSETFROM:+0100
TZOFFSETTO:+0200
DTSTART:19440403T020000
RRULE:FREQ=YEARLY;UNTIL=19450402T010000Z;BYMONTH=4;BYDAY=1MO
END:DAYLIGHT
BEGIN:DAYLIGHT
TZNAME:CEMT
TZOFFSETFROM:+0200
TZOFFSETTO:+0300
DTSTART:19450524T020000
RDATE:19470511T030000
END:DAYLIGHT
BEGIN:DAYLIGHT
TZNAME:CEST
TZOFFSETFROM:+0300
TZOFFSETTO:+0200
DTSTART:19450924T030000
RDATE:19470629T030000
END:DAYLIGHT
BEGIN:STANDARD
TZNAME:CET
TZOFFSETFROM:+0100
TZOFFSETTO:+0100
DTSTART:19460101T000000
RDATE:19800101T000000
END:STANDARD
BEGIN:STANDARD
TZNAME:CET
TZOFFSETFROM:+0200
TZOFFSETTO:+0100
DTSTART:19471005T030000
RRULE:FREQ=YEARLY;UNTIL=19491002T010000Z;BYMONTH=10;BYDAY=1SU
END:STANDARD
BEGIN:STANDARD
TZNAME:CET
TZOFFSETFROM:+0200
TZOFFSETTO:+0100
DTSTART:19800928T030000
RRULE:FREQ=YEARLY;UNTIL=19950924T010000Z;BYMONTH=9;BYDAY=-1SU
END:STANDARD
BEGIN:DAYLIGHT
TZNAME:CEST
TZOFFSETFROM:+0100
TZOFFSETTO:+0200
DTSTART:19810329T020000
RRULE:FREQ=YEARLY;BYMONTH=3;BYDAY=-1SU
END:DAYLIGHT
BEGIN:STANDARD
TZNAME:CET
TZOFFSETFROM:+0200
TZOFFSETTO:+0100
DTSTART:19961027T030000
RRULE:FREQ=YEARLY;BYMONTH=10;BYDAY=-1SU
END:STANDARD
END:VTIMEZONE
BEGIN:VEVENT
DTSTAMP:20260424T115002Z
DTSTART;TZID=Europe/Berlin:20260201T154500
DTEND;TZID=Europe/Berlin:20260201T184500
SUMMARY:HE NLB Gr. 1 Bulle vs Vevey (0)
UID:779599ce-7502-4f66-a020-47c9608a299c
STATUS:CONFIRMED
LAST-MODIFIED:20260203T081107Z
DESCRIPTION:Herren Nationalliga B Gruppe 1\nBegegnungs-Nr: 0\nHeim: Bulle\nGast: Vevey\n\nAdresse: Rue du Stade 50\, 1630 Bulle\n
LOCATION:Rue du Stade 50\, 1630 Bulle
CATEGORIES:Saison 2025/26
END:VEVENT
BEGIN:VEVENT
DTSTAMP:20260424T115002Z
DTSTART;TZID=Europe/Berlin:20250920T154500
DTEND;TZID=Europe/Berlin:20250920T184500
SUMMARY:HE NLB Gr. 1 Bulle vs Vernier (7)
UID:d9fb95c8-1533-486e-a214-1e33dd212cff
STATUS:CONFIRMED
LAST-MODIFIED:20250922T073235Z
DESCRIPTION:Herren Nationalliga B Gruppe 1\nBegegnungs-Nr: 7\nHeim: Bulle\nGast: Vernier\n\nAdresse: Rue du Stade 50\, 1630 Bulle\n
LOCATION:Rue du Stade 50\, 1630 Bulle
CATEGORIES:Saison 2025/26
END:VEVENT
BEGIN:VEVENT
DTSTAMP:20260424T115002Z
DTSTART;TZID=Europe/Berlin:20251101T154500
DTEND;TZID=Europe/Berlin:20251101T184500
SUMMARY:HE NLB Gr. 1 Bulle vs Heimberg (15)
UID:60586c6a-a877-4aa2-ae87-fad28baf1970
STATUS:CONFIRMED
LAST-MODIFIED:20251103T080057Z
DESCRIPTION:Herren Nationalliga B Gruppe 1\nBegegnungs-Nr: 15\nHeim: Bulle\nGast: Heimberg\n\nAdresse: Rue du Stade 50\, 1630 Bulle\n
LOCATION:Rue du Stade 50\, 1630 Bulle
CATEGORIES:Saison 2025/26
END:VEVENT
BEGIN:VEVENT
DTSTAMP:20260424T115002Z
DTSTART;TZID=Europe/Berlin:20251115T154500
DTEND;TZID=Europe/Berlin:20251115T184500
SUMMARY:HE NLB Gr. 1 Bulle vs UGS-Chênois (18)
UID:4e46f6a2-4b1c-4904-a203-a1d167a3c539
STATUS:CONFIRMED
LAST-MODIFIED:20251117T125254Z
DESCRIPTION:Herren Nationalliga B Gruppe 1\nBegegnungs-Nr: 18\nHeim: Bulle\nGast: UGS-Chênois\n\nAdresse: Rue du Stade 50\, 1630 Bulle\n
LOCATION:Rue du Stade 50\, 1630 Bulle
CATEGORIES:Saison 2025/26
END:VEVENT
BEGIN:VEVENT
DTSTAMP:20260424T115002Z
DTSTART;TZID=Europe/Berlin:20260328T154500
DTEND;TZID=Europe/Berlin:20260328T184500
SUMMARY:HE NLB Gr. 1 Bulle vs Mandement (23)
UID:786dadf8-469d-432d-a1fe-487c794cda55
STATUS:CONFIRMED
LAST-MODIFIED:20260330T075439Z
DESCRIPTION:Herren Nationalliga B Gruppe 1\nBegegnungs-Nr: 23\nHeim: Bulle\nGast: Mandement\n\nAdresse: Rue du Stade 50\, 1630 Bulle\n
LOCATION:Rue du Stade 50\, 1630 Bulle
CATEGORIES:Saison 2025/26
END:VEVENT
BEGIN:VEVENT
DTSTAMP:20260424T115002Z
DTSTART;TZID=Europe/Berlin:20260221T154500
DTEND;TZID=Europe/Berlin:20260221T184500
SUMMARY:HE NLB Gr. 1 Bulle vs Silver Star (9)
UID:059e49be-b2d7-4967-a8cb-a979aaabfbcf
STATUS:CONFIRMED
LAST-MODIFIED:20260223T152814Z
DESCRIPTION:Herren Nationalliga B Gruppe 1\nBegegnungs-Nr: 9\nHeim: Bulle\nGast: Silver Star\n\nAdresse: Rue du Stade 50\, 1630 Bulle\n
LOCATION:Rue du Stade 50\, 1630 Bulle
CATEGORIES:Saison 2025/26
END:VEVENT
BEGIN:VEVENT
DTSTAMP:20260424T115002Z
DTSTART;TZID=Europe/Berlin:20260307T154500
DTEND;TZID=Europe/Berlin:20260307T184500
SUMMARY:HE NLB Gr. 1 Bulle vs Carouge II (17)
UID:0c6474a9-ad0e-4dcb-9131-df7fa7143408
STATUS:CONFIRMED
LAST-MODIFIED:20260310T064752Z
DESCRIPTION:Herren Nationalliga B Gruppe 1\nBegegnungs-Nr: 17\nHeim: Bulle\nGast: Carouge II\n\nAdresse: Rue du Stade 50\, 1630 Bulle\n
LOCATION:Rue du Stade 50\, 1630 Bulle
CATEGORIES:Saison 2025/26
END:VEVENT
BEGIN:VEVENT
DTSTAMP:20260424T115002Z
DTSTART;TZID=Europe/Berlin:20260110T154500
DTEND;TZID=Europe/Berlin:20260110T184500
SUMMARY:HE NLB Gr. 1 Bulle vs Basel (3)
UID:ccf961d4-6c62-480f-ae7b-d4bb6023b303
STATUS:CONFIRMED
LAST-MODIFIED:20260112T202354Z
DESCRIPTION:Herren Nationalliga B Gruppe 1\nBegegnungs-Nr: 3\nHeim: Bulle\nGast: Basel\n\nAdresse: Rue du Stade 50\, 1630 Bulle\n
LOCATION:Rue du Stade 50\, 1630 Bulle
CATEGORIES:Saison 2025/26
END:VEVENT
BEGIN:VEVENT
DTSTAMP:20260424T115002Z
DTSTART;TZID=Europe/Berlin:20251207T190000
DTEND;TZID=Europe/Berlin:20251207T220000
SUMMARY:HE NLB Gr. 1 Vevey vs Bulle (0)
UID:c0475217-62f2-4f83-ab4b-dbaef7d4b536
STATUS:CONFIRMED
LAST-MODIFIED:20251209T094506Z
DESCRIPTION:Herren Nationalliga B Gruppe 1\nBegegnungs-Nr: 0\nHeim: Vevey\nGast: Bulle\n\nAdresse: Rue Louis-Meyer\, 1800 Vevey\n
LOCATION:Rue Louis-Meyer\, 1800 Vevey
CATEGORIES:Saison 2025/26
END:VEVENT
BEGIN:VEVENT
DTSTAMP:20260424T115002Z
DTSTART;TZID=Europe/Berlin:20250907T130000
DTEND;TZID=Europe/Berlin:20250907T160000
SUMMARY:HE NLB Gr. 1 Basel vs Bulle (3)
UID:85cd7a03-528e-407c-86b6-6f1aedb479b1
STATUS:CONFIRMED
LAST-MODIFIED:20250918T112149Z
DESCRIPTION:Herren Nationalliga B Gruppe 1\nBegegnungs-Nr: 3\nHeim: Basel\nGast: Bulle\n\nAdresse: Schwarzwaldallee 107\, 4058 Basel\n
LOCATION:Schwarzwaldallee 107\, 4058 Basel
CATEGORIES:Saison 2025/26
END:VEVENT
BEGIN:VEVENT
DTSTAMP:20260424T115002Z
DTSTART;TZID=Europe/Berlin:20251213T140000
DTEND;TZID=Europe/Berlin:20251213T170000
SUMMARY:HE NLB Gr. 1 Mandement vs Bulle (23)
UID:81aa0d56-1415-4d7d-92d9-b899df270850
STATUS:CONFIRMED
LAST-MODIFIED:20251216T083717Z
DESCRIPTION:Herren Nationalliga B Gruppe 1\nBegegnungs-Nr: 23\nHeim: Mandement\nGast: Bulle\n\nAdresse: Route de la Gare de Satigny 27A\, 1242 Satigny\n
LOCATION:Route de la Gare de Satigny 27A\, 1242 Satigny
CATEGORIES:Saison 2025/26
END:VEVENT
BEGIN:VEVENT
DTSTAMP:20260424T115002Z
DTSTART;TZID=Europe/Berlin:20251214T150000
DTEND;TZID=Europe/Berlin:20251214T180000
SUMMARY:HE NLB Gr. 1 Silver Star vs Bulle (25)
UID:09454034-26a9-435c-8696-91f28956ea9e
STATUS:CONFIRMED
LAST-MODIFIED:20251216T062232Z
DESCRIPTION:Herren Nationalliga B Gruppe 1\nBegegnungs-Nr: 25\nHeim: Silver Star\nGast: Bulle\n\nAdresse: Rue de Vermont 33\, 1202 Genève\n
LOCATION:Rue de Vermont 33\, 1202 Genève
CATEGORIES:Saison 2025/26
END:VEVENT
BEGIN:VEVENT
DTSTAMP:20260424T115002Z
DTSTART;TZID=Europe/Berlin:20251025T123000
DTEND;TZID=Europe/Berlin:20251025T153000
SUMMARY:HE NLB Gr. 1 Carouge II vs Bulle (9)
UID:ff4f6e2a-2dbb-4964-ab85-8600a0c02767
STATUS:CONFIRMED
LAST-MODIFIED:20251029T083253Z
DESCRIPTION:Herren Nationalliga B Gruppe 1\nBegegnungs-Nr: 9\nHeim: Carouge II\nGast: Bulle\n\nAdresse: Route de Veyrier 44\, 1227 Carouge GE\n
LOCATION:Route de Veyrier 44\, 1227 Carouge GE
CATEGORIES:Saison 2025/26
END:VEVENT
BEGIN:VEVENT
DTSTAMP:20260424T115002Z
DTSTART;TZID=Europe/Berlin:20260131T150000
DTEND;TZID=Europe/Berlin:20260131T180000
SUMMARY:HE NLB Gr. 1 Vernier vs Bulle (7)
UID:732d51d4-c993-4041-bf34-66f3f818b310
STATUS:CONFIRMED
LAST-MODIFIED:20260203T080845Z
DESCRIPTION:Herren Nationalliga B Gruppe 1\nBegegnungs-Nr: 7\nHeim: Vernier\nGast: Bulle\n\nAdresse: Chemin de Saule 120\, 1233 Bernex\n
LOCATION:Chemin de Saule 120\, 1233 Bernex
CATEGORIES:Saison 2025/26
END:VEVENT
BEGIN:VEVENT
DTSTAMP:20260424T115002Z
DTSTART;TZID=Europe/Berlin:20260228T163000
DTEND;TZID=Europe/Berlin:20260228T193000
SUMMARY:HE NLB Gr. 1 Heimberg vs Bulle (15)
UID:0cbb0320-1a01-4936-8470-6a7a6378d626
STATUS:CONFIRMED
LAST-MODIFIED:20260302T214310Z
DESCRIPTION:Herren Nationalliga B Gruppe 1\nBegegnungs-Nr: 15\nHeim: Heimberg\nGast: Bulle\n\nAdresse: Niesenstrasse 38\, 3627 Heimberg\n
LOCATION:Niesenstrasse 38\, 3627 Heimberg
CATEGORIES:Saison 2025/26
END:VEVENT
BEGIN:VEVENT
DTSTAMP:20260424T115002Z
DTSTART;TZID=Europe/Berlin:20260418T150000
DTEND;TZID=Europe/Berlin:20260418T180000
SUMMARY:HE NLB Gr. 1 UGS-Chênois vs Bulle (26)
UID:0cc4bdf2-481b-4700-99bd-f0e2078f1bdc
STATUS:CONFIRMED
LAST-MODIFIED:20260420T080432Z
DESCRIPTION:Herren Nationalliga B Gruppe 1\nBegegnungs-Nr: 26\nHeim: UGS-Chênois\nGast: Bulle\n\nAdresse: Route de Frontenex 68\, 1208 Genève\n
LOCATION:Route de Frontenex 68\, 1208 Genève
CATEGORIES:Saison 2025/26
END:VEVENT
END:VCALENDAR
