BEGIN:VCALENDAR
PRODID:-//nuDatenautomaten//framework iCal4j //DE
VERSION:2.0
CALSCALE:GREGORIAN
BEGIN:VTIMEZONE
TZID:Europe/Berlin
LAST-MODIFIED:20260306T231828Z
TZURL:https://www.tzurl.org/zoneinfo/Europe/Berlin
X-LIC-LOCATION:Europe/Berlin
X-PROLEPTIC-TZNAME:LMT
BEGIN:STANDARD
TZNAME:CET
TZOFFSETFROM:+005328
TZOFFSETTO:+0100
DTSTART:18930401T000000
END:STANDARD
BEGIN:DAYLIGHT
TZNAME:CEST
TZOFFSETFROM:+0100
TZOFFSETTO:+0200
DTSTART:19160430T230000
RDATE:19400401T020000
RDATE:19430329T020000
RDATE:19460414T020000
RDATE:19470406T030000
RDATE:19480418T020000
RDATE:19490410T020000
RDATE:19800406T020000
END:DAYLIGHT
BEGIN:STANDARD
TZNAME:CET
TZOFFSETFROM:+0200
TZOFFSETTO:+0100
DTSTART:19161001T010000
RDATE:19421102T030000
RDATE:19431004T030000
RDATE:19441002T030000
RDATE:19451118T030000
RDATE:19461007T030000
END:STANDARD
BEGIN:DAYLIGHT
TZNAME:CEST
TZOFFSETFROM:+0100
TZOFFSETTO:+0200
DTSTART:19170416T020000
RRULE:FREQ=YEARLY;UNTIL=19180415T010000Z;BYMONTH=4;BYDAY=3MO
END:DAYLIGHT
BEGIN:STANDARD
TZNAME:CET
TZOFFSETFROM:+0200
TZOFFSETTO:+0100
DTSTART:19170917T030000
RRULE:FREQ=YEARLY;UNTIL=19180916T010000Z;BYMONTH=9;BYDAY=3MO
END:STANDARD
BEGIN:DAYLIGHT
TZNAME:CEST
TZOFFSETFROM:+0100
TZOFFSETTO:+0200
DTSTART:19440403T020000
RRULE:FREQ=YEARLY;UNTIL=19450402T010000Z;BYMONTH=4;BYDAY=1MO
END:DAYLIGHT
BEGIN:DAYLIGHT
TZNAME:CEMT
TZOFFSETFROM:+0200
TZOFFSETTO:+0300
DTSTART:19450524T020000
RDATE:19470511T030000
END:DAYLIGHT
BEGIN:DAYLIGHT
TZNAME:CEST
TZOFFSETFROM:+0300
TZOFFSETTO:+0200
DTSTART:19450924T030000
RDATE:19470629T030000
END:DAYLIGHT
BEGIN:STANDARD
TZNAME:CET
TZOFFSETFROM:+0100
TZOFFSETTO:+0100
DTSTART:19460101T000000
RDATE:19800101T000000
END:STANDARD
BEGIN:STANDARD
TZNAME:CET
TZOFFSETFROM:+0200
TZOFFSETTO:+0100
DTSTART:19471005T030000
RRULE:FREQ=YEARLY;UNTIL=19491002T010000Z;BYMONTH=10;BYDAY=1SU
END:STANDARD
BEGIN:STANDARD
TZNAME:CET
TZOFFSETFROM:+0200
TZOFFSETTO:+0100
DTSTART:19800928T030000
RRULE:FREQ=YEARLY;UNTIL=19950924T010000Z;BYMONTH=9;BYDAY=-1SU
END:STANDARD
BEGIN:DAYLIGHT
TZNAME:CEST
TZOFFSETFROM:+0100
TZOFFSETTO:+0200
DTSTART:19810329T020000
RRULE:FREQ=YEARLY;BYMONTH=3;BYDAY=-1SU
END:DAYLIGHT
BEGIN:STANDARD
TZNAME:CET
TZOFFSETFROM:+0200
TZOFFSETTO:+0100
DTSTART:19961027T030000
RRULE:FREQ=YEARLY;BYMONTH=10;BYDAY=-1SU
END:STANDARD
END:VTIMEZONE
BEGIN:VEVENT
DTSTAMP:20260424T043555Z
DTSTART;TZID=Europe/Berlin:20250828T193000
DTEND;TZID=Europe/Berlin:20250828T223000
SUMMARY:ME L6 Gr 4\, Tours 1&2 Vaudoise-Assurances II vs Romont-Villaz III (0)
UID:b97ba7c2-d0b3-4b25-b1d4-3fff13a7aaaa
STATUS:CONFIRMED
LAST-MODIFIED:20250829T204017Z
DESCRIPTION:6ème ligue Hommes Groupe 4\, Tours 1&2\nBegegnungs-Nr: 0\nHeim: Vaudoise-Assurances II\nGast: Romont-Villaz III\n\nAdresse: Ch de Bellerive 36\, 1007 Lausanne\n
LOCATION:Ch de Bellerive 36\, 1007 Lausanne
CATEGORIES:Saison 2025/26
END:VEVENT
BEGIN:VEVENT
DTSTAMP:20260424T043555Z
DTSTART;TZID=Europe/Berlin:20250925T193000
DTEND;TZID=Europe/Berlin:20250925T223000
SUMMARY:ME L6 Gr 4\, Tours 1&2 Vaudoise-Assurances II vs Lausanne XI (0)
UID:282f9a0b-f24e-49ae-8adf-d28a8591978a
STATUS:CONFIRMED
LAST-MODIFIED:20250925T232516Z
DESCRIPTION:6ème ligue Hommes Groupe 4\, Tours 1&2\nBegegnungs-Nr: 0\nHeim: Vaudoise-Assurances II\nGast: Lausanne XI\n\nAdresse: Ch de Bellerive 36\, 1007 Lausanne\n
LOCATION:Ch de Bellerive 36\, 1007 Lausanne
CATEGORIES:Saison 2025/26
END:VEVENT
BEGIN:VEVENT
DTSTAMP:20260424T043555Z
DTSTART;TZID=Europe/Berlin:20251009T193000
DTEND;TZID=Europe/Berlin:20251009T223000
SUMMARY:ME L6 Gr 4\, Tours 1&2 Vaudoise-Assurances II vs Lausanne XIII (0)
UID:ce86be68-0522-4843-95bb-9832f3eabadd
STATUS:CONFIRMED
LAST-MODIFIED:20251011T112438Z
DESCRIPTION:6ème ligue Hommes Groupe 4\, Tours 1&2\nBegegnungs-Nr: 0\nHeim: Vaudoise-Assurances II\nGast: Lausanne XIII\n\nAdresse: Ch de Bellerive 36\, 1007 Lausanne\n
LOCATION:Ch de Bellerive 36\, 1007 Lausanne
CATEGORIES:Saison 2025/26
END:VEVENT
BEGIN:VEVENT
DTSTAMP:20260424T043555Z
DTSTART;TZID=Europe/Berlin:20251030T193000
DTEND;TZID=Europe/Berlin:20251030T223000
SUMMARY:ME L6 Gr 4\, Tours 1&2 Vaudoise-Assurances II vs Penthalaz (0)
UID:b37c0f0d-6bc1-46ef-a625-7595979f932f
STATUS:CONFIRMED
LAST-MODIFIED:20251101T154151Z
DESCRIPTION:6ème ligue Hommes Groupe 4\, Tours 1&2\nBegegnungs-Nr: 0\nHeim: Vaudoise-Assurances II\nGast: Penthalaz\n\nAdresse: Ch de Bellerive 36\, 1007 Lausanne\n
LOCATION:Ch de Bellerive 36\, 1007 Lausanne
CATEGORIES:Saison 2025/26
END:VEVENT
BEGIN:VEVENT
DTSTAMP:20260424T043555Z
DTSTART;TZID=Europe/Berlin:20251120T193000
DTEND;TZID=Europe/Berlin:20251120T223000
SUMMARY:ME L6 Gr 4\, Tours 1&2 Vaudoise-Assurances II vs Lausanne XII (0)
UID:ad36a6ad-4159-4b35-a768-003788edc46d
STATUS:CONFIRMED
LAST-MODIFIED:20251121T100950Z
DESCRIPTION:6ème ligue Hommes Groupe 4\, Tours 1&2\nBegegnungs-Nr: 0\nHeim: Vaudoise-Assurances II\nGast: Lausanne XII\n\nAdresse: Ch de Bellerive 36\, 1007 Lausanne\n
LOCATION:Ch de Bellerive 36\, 1007 Lausanne
CATEGORIES:Saison 2025/26
END:VEVENT
BEGIN:VEVENT
DTSTAMP:20260424T043555Z
DTSTART;TZID=Europe/Berlin:20260115T193000
DTEND;TZID=Europe/Berlin:20260115T223000
SUMMARY:ME L6 Gr 7\, Tours 3&4 Vaudoise-Assurances II vs Yvonand (0)
UID:d2b8cc13-d2fe-46b8-8208-6d2d8e1e8638
STATUS:CONFIRMED
LAST-MODIFIED:20260116T194246Z
DESCRIPTION:6ème ligue Hommes Groupe 7\, Tours 3&4\nBegegnungs-Nr: 0\nHeim: Vaudoise-Assurances II\nGast: Yvonand\n\nAdresse: Ch de Bellerive 36\, 1007 Lausanne\n
LOCATION:Ch de Bellerive 36\, 1007 Lausanne
CATEGORIES:Saison 2025/26
END:VEVENT
BEGIN:VEVENT
DTSTAMP:20260424T043555Z
DTSTART;TZID=Europe/Berlin:20260402T193000
DTEND;TZID=Europe/Berlin:20260402T223000
SUMMARY:ME L6 Gr 7\, Tours 3&4 Vaudoise-Assurances II vs Forward-Morges V (0)
UID:3446bd85-e79e-4800-ad9f-3e6dda46ab31
STATUS:CONFIRMED
LAST-MODIFIED:20260407T193701Z
DESCRIPTION:6ème ligue Hommes Groupe 7\, Tours 3&4\nBegegnungs-Nr: 0\nHeim: Vaudoise-Assurances II\nGast: Forward-Morges V\n\nAdresse: Ch de Bellerive 36\, 1007 Lausanne\n
LOCATION:Ch de Bellerive 36\, 1007 Lausanne
CATEGORIES:Saison 2025/26
END:VEVENT
BEGIN:VEVENT
DTSTAMP:20260424T043555Z
DTSTART;TZID=Europe/Berlin:20260319T193000
DTEND;TZID=Europe/Berlin:20260319T223000
SUMMARY:ME L6 Gr 7\, Tours 3&4 Vaudoise-Assurances II vs Montriond-Ouchy  IV (0)
UID:a4c7236f-af76-4cea-84c2-a0c0d95791bf
STATUS:CONFIRMED
LAST-MODIFIED:20260321T102850Z
DESCRIPTION:6ème ligue Hommes Groupe 7\, Tours 3&4\nBegegnungs-Nr: 0\nHeim: Vaudoise-Assurances II\nGast: Montriond-Ouchy  IV\n\nAdresse: Ch de Bellerive 36\, 1007 Lausanne\n
LOCATION:Ch de Bellerive 36\, 1007 Lausanne
CATEGORIES:Saison 2025/26
END:VEVENT
BEGIN:VEVENT
DTSTAMP:20260424T043555Z
DTSTART;TZID=Europe/Berlin:20260226T193000
DTEND;TZID=Europe/Berlin:20260226T223000
SUMMARY:ME L6 Gr 7\, Tours 3&4 Vaudoise-Assurances II vs Lausanne XI (0)
UID:88e05117-ade2-433e-8b2f-3a84c84b7b0e
STATUS:CONFIRMED
LAST-MODIFIED:20260227T102327Z
DESCRIPTION:6ème ligue Hommes Groupe 7\, Tours 3&4\nBegegnungs-Nr: 0\nHeim: Vaudoise-Assurances II\nGast: Lausanne XI\n\nAdresse: Ch de Bellerive 36\, 1007 Lausanne\n
LOCATION:Ch de Bellerive 36\, 1007 Lausanne
CATEGORIES:Saison 2025/26
END:VEVENT
BEGIN:VEVENT
DTSTAMP:20260424T043555Z
DTSTART;TZID=Europe/Berlin:20260129T193000
DTEND;TZID=Europe/Berlin:20260129T223000
SUMMARY:ME L6 Gr 7\, Tours 3&4 Vaudoise-Assurances II vs Penthalaz (0)
UID:17ba8534-0f31-4976-8d52-5a2a3430d840
STATUS:CONFIRMED
LAST-MODIFIED:20260130T173109Z
DESCRIPTION:6ème ligue Hommes Groupe 7\, Tours 3&4\nBegegnungs-Nr: 0\nHeim: Vaudoise-Assurances II\nGast: Penthalaz\n\nAdresse: Ch de Bellerive 36\, 1007 Lausanne\n
LOCATION:Ch de Bellerive 36\, 1007 Lausanne
CATEGORIES:Saison 2025/26
END:VEVENT
BEGIN:VEVENT
DTSTAMP:20260424T043555Z
DTSTART;TZID=Europe/Berlin:20251113T200000
DTEND;TZID=Europe/Berlin:20251113T230000
SUMMARY:ME L6 Gr 4\, Tours 1&2 Lausanne XIII vs Vaudoise-Assurances II (0)
UID:189b35e2-ad53-44fe-9500-533e293d5468
STATUS:CONFIRMED
LAST-MODIFIED:20251116T123631Z
DESCRIPTION:6ème ligue Hommes Groupe 4\, Tours 1&2\nBegegnungs-Nr: 0\nHeim: Lausanne XIII\nGast: Vaudoise-Assurances II\n\nAdresse: Vaudoise Aréna\, Ch. du Viaduc 14\, 1008 Prilly\n
LOCATION:Vaudoise Aréna\, Ch. du Viaduc 14\, 1008 Prilly
CATEGORIES:Saison 2025/26
END:VEVENT
BEGIN:VEVENT
DTSTAMP:20260424T043555Z
DTSTART;TZID=Europe/Berlin:20250905T200000
DTEND;TZID=Europe/Berlin:20250905T230000
SUMMARY:ME L6 Gr 4\, Tours 1&2 Penthalaz vs Vaudoise-Assurances II (0)
UID:3b3967e7-d52d-4cd8-bd4e-6275c5827954
STATUS:CONFIRMED
LAST-MODIFIED:20250910T231150Z
DESCRIPTION:6ème ligue Hommes Groupe 4\, Tours 1&2\nBegegnungs-Nr: 0\nHeim: Penthalaz\nGast: Vaudoise-Assurances II\n\nAdresse: Chemin du Collège 1\, 1305 Penthalaz\n
LOCATION:Chemin du Collège 1\, 1305 Penthalaz
CATEGORIES:Saison 2025/26
END:VEVENT
BEGIN:VEVENT
DTSTAMP:20260424T043555Z
DTSTART;TZID=Europe/Berlin:20251015T200000
DTEND;TZID=Europe/Berlin:20251015T230000
SUMMARY:ME L6 Gr 4\, Tours 1&2 Lausanne XII vs Vaudoise-Assurances II (0)
UID:ea94e440-5559-4df2-9f39-738421f7cdc7
STATUS:CONFIRMED
LAST-MODIFIED:20251015T213046Z
DESCRIPTION:6ème ligue Hommes Groupe 4\, Tours 1&2\nBegegnungs-Nr: 0\nHeim: Lausanne XII\nGast: Vaudoise-Assurances II\n\nAdresse: Vaudoise Aréna\, Ch. du Viaduc 14\, 1008 Prilly\n
LOCATION:Vaudoise Aréna\, Ch. du Viaduc 14\, 1008 Prilly
CATEGORIES:Saison 2025/26
END:VEVENT
BEGIN:VEVENT
DTSTAMP:20260424T043555Z
DTSTART;TZID=Europe/Berlin:20251104T193000
DTEND;TZID=Europe/Berlin:20251104T223000
SUMMARY:ME L6 Gr 4\, Tours 1&2 Romont-Villaz III vs Vaudoise-Assurances II (0)
UID:abc88336-413a-4600-ad5b-990362b2a973
STATUS:CONFIRMED
LAST-MODIFIED:20251106T100528Z
DESCRIPTION:6ème ligue Hommes Groupe 4\, Tours 1&2\nBegegnungs-Nr: 0\nHeim: Romont-Villaz III\nGast: Vaudoise-Assurances II\n\nAdresse: Route de la Gare 5\, 1690 Villaz-St-Pierre\n
LOCATION:Route de la Gare 5\, 1690 Villaz-St-Pierre
CATEGORIES:Saison 2025/26
END:VEVENT
BEGIN:VEVENT
DTSTAMP:20260424T043555Z
DTSTART;TZID=Europe/Berlin:20251124T200000
DTEND;TZID=Europe/Berlin:20251124T230000
SUMMARY:ME L6 Gr 4\, Tours 1&2 Lausanne XI vs Vaudoise-Assurances II (0)
UID:e70cc6c9-c2e7-4c08-bf4e-6844029ad45d
STATUS:CONFIRMED
LAST-MODIFIED:20251125T150631Z
DESCRIPTION:6ème ligue Hommes Groupe 4\, Tours 1&2\nBegegnungs-Nr: 0\nHeim: Lausanne XI\nGast: Vaudoise-Assurances II\n\nAdresse: Vaudoise Aréna\, Ch. du Viaduc 14\, 1008 Prilly\n
LOCATION:Vaudoise Aréna\, Ch. du Viaduc 14\, 1008 Prilly
CATEGORIES:Saison 2025/26
END:VEVENT
BEGIN:VEVENT
DTSTAMP:20260424T043555Z
DTSTART;TZID=Europe/Berlin:20260427T200000
DTEND;TZID=Europe/Berlin:20260427T230000
SUMMARY:ME L6 Gr 7\, Tours 3&4 Lausanne XI vs Vaudoise-Assurances II (0)
UID:0dfc0a91-4734-4c5a-8942-ba0cb3be9e64
STATUS:CONFIRMED
DESCRIPTION:6ème ligue Hommes Groupe 7\, Tours 3&4\nBegegnungs-Nr: 0\nHeim: Lausanne XI\nGast: Vaudoise-Assurances II\n\nAdresse: Vaudoise Aréna\, Ch. du Viaduc 14\, 1008 Prilly\n
LOCATION:Vaudoise Aréna\, Ch. du Viaduc 14\, 1008 Prilly
CATEGORIES:Saison 2025/26
END:VEVENT
BEGIN:VEVENT
DTSTAMP:20260424T043555Z
DTSTART;TZID=Europe/Berlin:20260424T200000
DTEND;TZID=Europe/Berlin:20260424T230000
SUMMARY:ME L6 Gr 7\, Tours 3&4 Penthalaz vs Vaudoise-Assurances II (0)
UID:02a71baa-488d-4f90-892f-6b151b897438
STATUS:CONFIRMED
DESCRIPTION:6ème ligue Hommes Groupe 7\, Tours 3&4\nBegegnungs-Nr: 0\nHeim: Penthalaz\nGast: Vaudoise-Assurances II\n\nAdresse: Chemin du Collège 1\, 1305 Penthalaz\n
LOCATION:Chemin du Collège 1\, 1305 Penthalaz
CATEGORIES:Saison 2025/26
END:VEVENT
BEGIN:VEVENT
DTSTAMP:20260424T043555Z
DTSTART;TZID=Europe/Berlin:20260506T193000
DTEND;TZID=Europe/Berlin:20260506T223000
SUMMARY:ME L6 Gr 7\, Tours 3&4 Yvonand vs Vaudoise-Assurances II (0)
UID:2750f34b-c85c-485b-9102-504571beab18
STATUS:CONFIRMED
LAST-MODIFIED:20260116T195208Z
DESCRIPTION:6ème ligue Hommes Groupe 7\, Tours 3&4\nBegegnungs-Nr: 0\nHeim: Yvonand\nGast: Vaudoise-Assurances II\n\nAdresse: Salle de rythmique\, 1462 Yvonand\n
LOCATION:Salle de rythmique\, 1462 Yvonand
CATEGORIES:Saison 2025/26
END:VEVENT
BEGIN:VEVENT
DTSTAMP:20260424T043555Z
DTSTART;TZID=Europe/Berlin:20260205T194500
DTEND;TZID=Europe/Berlin:20260205T224500
SUMMARY:ME L6 Gr 7\, Tours 3&4 Forward-Morges V vs Vaudoise-Assurances II (0)
UID:b46b956b-5d8b-4a01-b754-2b2ce23dccf7
STATUS:CONFIRMED
LAST-MODIFIED:20260206T184110Z
DESCRIPTION:6ème ligue Hommes Groupe 7\, Tours 3&4\nBegegnungs-Nr: 0\nHeim: Forward-Morges V\nGast: Vaudoise-Assurances II\n\nAdresse: Chemin de Tolochenaz\, 1110 Morges\n
LOCATION:Chemin de Tolochenaz\, 1110 Morges
CATEGORIES:Saison 2025/26
END:VEVENT
BEGIN:VEVENT
DTSTAMP:20260424T043555Z
DTSTART;TZID=Europe/Berlin:20260122T193000
DTEND;TZID=Europe/Berlin:20260122T223000
SUMMARY:ME L6 Gr 7\, Tours 3&4 Montriond-Ouchy  IV vs Vaudoise-Assurances II (0)
UID:954f5e6c-4b96-4df7-9d52-ddf6c104b8b7
STATUS:CONFIRMED
LAST-MODIFIED:20260124T154728Z
DESCRIPTION:6ème ligue Hommes Groupe 7\, Tours 3&4\nBegegnungs-Nr: 0\nHeim: Montriond-Ouchy  IV\nGast: Vaudoise-Assurances II\n\nAdresse: Avenue d'Ouchy 45\, 1006 Lausanne\n
LOCATION:Avenue d'Ouchy 45\, 1006 Lausanne
CATEGORIES:Saison 2025/26
END:VEVENT
END:VCALENDAR
