BEGIN:VCALENDAR
PRODID:-//nuDatenautomaten//framework iCal4j //DE
VERSION:2.0
CALSCALE:GREGORIAN
BEGIN:VTIMEZONE
TZID:Europe/Berlin
LAST-MODIFIED:20260306T231828Z
TZURL:https://www.tzurl.org/zoneinfo/Europe/Berlin
X-LIC-LOCATION:Europe/Berlin
X-PROLEPTIC-TZNAME:LMT
BEGIN:STANDARD
TZNAME:CET
TZOFFSETFROM:+005328
TZOFFSETTO:+0100
DTSTART:18930401T000000
END:STANDARD
BEGIN:DAYLIGHT
TZNAME:CEST
TZOFFSETFROM:+0100
TZOFFSETTO:+0200
DTSTART:19160430T230000
RDATE:19400401T020000
RDATE:19430329T020000
RDATE:19460414T020000
RDATE:19470406T030000
RDATE:19480418T020000
RDATE:19490410T020000
RDATE:19800406T020000
END:DAYLIGHT
BEGIN:STANDARD
TZNAME:CET
TZOFFSETFROM:+0200
TZOFFSETTO:+0100
DTSTART:19161001T010000
RDATE:19421102T030000
RDATE:19431004T030000
RDATE:19441002T030000
RDATE:19451118T030000
RDATE:19461007T030000
END:STANDARD
BEGIN:DAYLIGHT
TZNAME:CEST
TZOFFSETFROM:+0100
TZOFFSETTO:+0200
DTSTART:19170416T020000
RRULE:FREQ=YEARLY;UNTIL=19180415T010000Z;BYMONTH=4;BYDAY=3MO
END:DAYLIGHT
BEGIN:STANDARD
TZNAME:CET
TZOFFSETFROM:+0200
TZOFFSETTO:+0100
DTSTART:19170917T030000
RRULE:FREQ=YEARLY;UNTIL=19180916T010000Z;BYMONTH=9;BYDAY=3MO
END:STANDARD
BEGIN:DAYLIGHT
TZNAME:CEST
TZOFFSETFROM:+0100
TZOFFSETTO:+0200
DTSTART:19440403T020000
RRULE:FREQ=YEARLY;UNTIL=19450402T010000Z;BYMONTH=4;BYDAY=1MO
END:DAYLIGHT
BEGIN:DAYLIGHT
TZNAME:CEMT
TZOFFSETFROM:+0200
TZOFFSETTO:+0300
DTSTART:19450524T020000
RDATE:19470511T030000
END:DAYLIGHT
BEGIN:DAYLIGHT
TZNAME:CEST
TZOFFSETFROM:+0300
TZOFFSETTO:+0200
DTSTART:19450924T030000
RDATE:19470629T030000
END:DAYLIGHT
BEGIN:STANDARD
TZNAME:CET
TZOFFSETFROM:+0100
TZOFFSETTO:+0100
DTSTART:19460101T000000
RDATE:19800101T000000
END:STANDARD
BEGIN:STANDARD
TZNAME:CET
TZOFFSETFROM:+0200
TZOFFSETTO:+0100
DTSTART:19471005T030000
RRULE:FREQ=YEARLY;UNTIL=19491002T010000Z;BYMONTH=10;BYDAY=1SU
END:STANDARD
BEGIN:STANDARD
TZNAME:CET
TZOFFSETFROM:+0200
TZOFFSETTO:+0100
DTSTART:19800928T030000
RRULE:FREQ=YEARLY;UNTIL=19950924T010000Z;BYMONTH=9;BYDAY=-1SU
END:STANDARD
BEGIN:DAYLIGHT
TZNAME:CEST
TZOFFSETFROM:+0100
TZOFFSETTO:+0200
DTSTART:19810329T020000
RRULE:FREQ=YEARLY;BYMONTH=3;BYDAY=-1SU
END:DAYLIGHT
BEGIN:STANDARD
TZNAME:CET
TZOFFSETFROM:+0200
TZOFFSETTO:+0100
DTSTART:19961027T030000
RRULE:FREQ=YEARLY;BYMONTH=10;BYDAY=-1SU
END:STANDARD
END:VTIMEZONE
BEGIN:VEVENT
DTSTAMP:20260424T045339Z
DTSTART;TZID=Europe/Berlin:20250830T143000
DTEND;TZID=Europe/Berlin:20250830T173000
SUMMARY:JUG\, 3.Li\, Gr.9\, VR Zürich-Affoltern III vs TSV Zumikon II (2)
UID:6257248e-ce4d-4b05-a3da-1f1034e91851
STATUS:CONFIRMED
LAST-MODIFIED:20250902T125614Z
DESCRIPTION:Jugend\, 3. Liga\, Gruppe 9\, Vorrunde\nBegegnungs-Nr: 2\nHeim: Zürich-Affoltern III\nGast: TSV Zumikon II\n\nAdresse: Rümlangstr. 89\, 8052 Zürich\n
LOCATION:Rümlangstr. 89\, 8052 Zürich
CATEGORIES:Saison 2025/26
END:VEVENT
BEGIN:VEVENT
DTSTAMP:20260424T045339Z
DTSTART;TZID=Europe/Berlin:20251115T143000
DTEND;TZID=Europe/Berlin:20251115T173000
SUMMARY:JUG\, 3.Li\, Gr.1\, ZR Zürich-Affoltern III vs Meilen-Männedorf III (3)
UID:67d619e9-e8db-4af6-a0fd-9fce5308d6cd
STATUS:CONFIRMED
LAST-MODIFIED:20251121T095923Z
DESCRIPTION:Jugend\, 3. Liga\, Gruppe 1\, Zwischenrunde\nBegegnungs-Nr: 3\nHeim: Zürich-Affoltern III\nGast: Meilen-Männedorf III\n\nAdresse: Rümlangstr. 89\, 8052 Zürich\n
LOCATION:Rümlangstr. 89\, 8052 Zürich
CATEGORIES:Saison 2025/26
END:VEVENT
BEGIN:VEVENT
DTSTAMP:20260424T045339Z
DTSTART;TZID=Europe/Berlin:20260328T160000
DTEND;TZID=Europe/Berlin:20260328T190000
SUMMARY:JUG\, 3.Li\, Gr.3\, Final Zürich-Affoltern III vs Horgen II (6)
UID:557186bc-d1c9-4b9b-a795-3d6d61a2d0dc
STATUS:CONFIRMED
LAST-MODIFIED:20260401T140133Z
DESCRIPTION:Jugend\, 3. Liga\, Gruppe 3\, Final\nBegegnungs-Nr: 6\nHeim: Zürich-Affoltern III\nGast: Horgen II\n\nAdresse: Rümlangstr. 89\, 8052 Zürich\n
LOCATION:Rümlangstr. 89\, 8052 Zürich
CATEGORIES:Saison 2025/26
END:VEVENT
BEGIN:VEVENT
DTSTAMP:20260424T045339Z
DTSTART;TZID=Europe/Berlin:20250830T160000
DTEND;TZID=Europe/Berlin:20250830T190000
SUMMARY:JUG\, 3.Li\, Gr.9\, VR Urdorf II vs Zürich-Affoltern III (3)
UID:55f2fbcf-91a4-41bf-8231-fdf9c2447ad0
STATUS:CONFIRMED
LAST-MODIFIED:20250902T125627Z
DESCRIPTION:Jugend\, 3. Liga\, Gruppe 9\, Vorrunde\nBegegnungs-Nr: 3\nHeim: Urdorf II\nGast: Zürich-Affoltern III\n\nAdresse: Weihermattstrasse 50\, 8902 Urdorf\n
LOCATION:Weihermattstrasse 50\, 8902 Urdorf
CATEGORIES:Saison 2025/26
END:VEVENT
BEGIN:VEVENT
DTSTAMP:20260424T045339Z
DTSTART;TZID=Europe/Berlin:20251115T160000
DTEND;TZID=Europe/Berlin:20251115T190000
SUMMARY:JUG\, 3.Li\, Gr.1\, ZR Bülach II vs Zürich-Affoltern III (5)
UID:c34151a2-7513-476d-932f-77f08d9d94bf
STATUS:CONFIRMED
LAST-MODIFIED:20251121T095940Z
DESCRIPTION:Jugend\, 3. Liga\, Gruppe 1\, Zwischenrunde\nBegegnungs-Nr: 5\nHeim: Bülach II\nGast: Zürich-Affoltern III\n\nAdresse: Schwerzgruebstrasse 28\, 8180 Bülach\n
LOCATION:Schwerzgruebstrasse 28\, 8180 Bülach
CATEGORIES:Saison 2025/26
END:VEVENT
BEGIN:VEVENT
DTSTAMP:20260424T045339Z
DTSTART;TZID=Europe/Berlin:20251115T130000
DTEND;TZID=Europe/Berlin:20251115T160000
SUMMARY:JUG\, 3.Li\, Gr.1\, ZR Winterthur II vs Zürich-Affoltern III (1)
UID:405e2759-c967-4902-b73b-a5b6ea9407ce
STATUS:CONFIRMED
LAST-MODIFIED:20251121T095905Z
DESCRIPTION:Jugend\, 3. Liga\, Gruppe 1\, Zwischenrunde\nBegegnungs-Nr: 1\nHeim: Winterthur II\nGast: Zürich-Affoltern III\nHalle: Poule in Winterthur\, TH Schachen\nAdresse: Buchackerstrasse 54\, 8400 Winterthur\n
LOCATION:Poule in Winterthur\, TH Schachen Buchackerstrasse 54\, 8400 Winterthur
CATEGORIES:Saison 2025/26
END:VEVENT
BEGIN:VEVENT
DTSTAMP:20260424T045339Z
DTSTART;TZID=Europe/Berlin:20260328T130000
DTEND;TZID=Europe/Berlin:20260328T160000
SUMMARY:JUG\, 3.Li\, Gr.3\, Final St. Gallen III vs Zürich-Affoltern III (2)
UID:d435c049-f3b9-43a9-a985-96360577a4ce
STATUS:CONFIRMED
LAST-MODIFIED:20260401T140030Z
DESCRIPTION:Jugend\, 3. Liga\, Gruppe 3\, Final\nBegegnungs-Nr: 2\nHeim: St. Gallen III\nGast: Zürich-Affoltern III\n\nAdresse: Zilstrasse 61\, 9016 St.Gallen\n
LOCATION:Zilstrasse 61\, 9016 St.Gallen
CATEGORIES:Saison 2025/26
END:VEVENT
BEGIN:VEVENT
DTSTAMP:20260424T045339Z
DTSTART;TZID=Europe/Berlin:20260328T143000
DTEND;TZID=Europe/Berlin:20260328T173000
SUMMARY:JUG\, 3.Li\, Gr.3\, Final Thalwil vs Zürich-Affoltern III (3)
UID:1f2ab6c5-0d50-4b89-b881-078355fdce13
STATUS:CONFIRMED
LAST-MODIFIED:20260401T140043Z
DESCRIPTION:Jugend\, 3. Liga\, Gruppe 3\, Final\nBegegnungs-Nr: 3\nHeim: Thalwil\nGast: Zürich-Affoltern III\n\nAdresse: Bergstrasse 2\, 8800 Thalwil\n
LOCATION:Bergstrasse 2\, 8800 Thalwil
CATEGORIES:Saison 2025/26
END:VEVENT
END:VCALENDAR
