BEGIN:VCALENDAR
PRODID:-//nuDatenautomaten//framework iCal4j //DE
VERSION:2.0
CALSCALE:GREGORIAN
BEGIN:VTIMEZONE
TZID:Europe/Berlin
LAST-MODIFIED:20260306T231828Z
TZURL:https://www.tzurl.org/zoneinfo/Europe/Berlin
X-LIC-LOCATION:Europe/Berlin
X-PROLEPTIC-TZNAME:LMT
BEGIN:STANDARD
TZNAME:CET
TZOFFSETFROM:+005328
TZOFFSETTO:+0100
DTSTART:18930401T000000
END:STANDARD
BEGIN:DAYLIGHT
TZNAME:CEST
TZOFFSETFROM:+0100
TZOFFSETTO:+0200
DTSTART:19160430T230000
RDATE:19400401T020000
RDATE:19430329T020000
RDATE:19460414T020000
RDATE:19470406T030000
RDATE:19480418T020000
RDATE:19490410T020000
RDATE:19800406T020000
END:DAYLIGHT
BEGIN:STANDARD
TZNAME:CET
TZOFFSETFROM:+0200
TZOFFSETTO:+0100
DTSTART:19161001T010000
RDATE:19421102T030000
RDATE:19431004T030000
RDATE:19441002T030000
RDATE:19451118T030000
RDATE:19461007T030000
END:STANDARD
BEGIN:DAYLIGHT
TZNAME:CEST
TZOFFSETFROM:+0100
TZOFFSETTO:+0200
DTSTART:19170416T020000
RRULE:FREQ=YEARLY;UNTIL=19180415T010000Z;BYMONTH=4;BYDAY=3MO
END:DAYLIGHT
BEGIN:STANDARD
TZNAME:CET
TZOFFSETFROM:+0200
TZOFFSETTO:+0100
DTSTART:19170917T030000
RRULE:FREQ=YEARLY;UNTIL=19180916T010000Z;BYMONTH=9;BYDAY=3MO
END:STANDARD
BEGIN:DAYLIGHT
TZNAME:CEST
TZOFFSETFROM:+0100
TZOFFSETTO:+0200
DTSTART:19440403T020000
RRULE:FREQ=YEARLY;UNTIL=19450402T010000Z;BYMONTH=4;BYDAY=1MO
END:DAYLIGHT
BEGIN:DAYLIGHT
TZNAME:CEMT
TZOFFSETFROM:+0200
TZOFFSETTO:+0300
DTSTART:19450524T020000
RDATE:19470511T030000
END:DAYLIGHT
BEGIN:DAYLIGHT
TZNAME:CEST
TZOFFSETFROM:+0300
TZOFFSETTO:+0200
DTSTART:19450924T030000
RDATE:19470629T030000
END:DAYLIGHT
BEGIN:STANDARD
TZNAME:CET
TZOFFSETFROM:+0100
TZOFFSETTO:+0100
DTSTART:19460101T000000
RDATE:19800101T000000
END:STANDARD
BEGIN:STANDARD
TZNAME:CET
TZOFFSETFROM:+0200
TZOFFSETTO:+0100
DTSTART:19471005T030000
RRULE:FREQ=YEARLY;UNTIL=19491002T010000Z;BYMONTH=10;BYDAY=1SU
END:STANDARD
BEGIN:STANDARD
TZNAME:CET
TZOFFSETFROM:+0200
TZOFFSETTO:+0100
DTSTART:19800928T030000
RRULE:FREQ=YEARLY;UNTIL=19950924T010000Z;BYMONTH=9;BYDAY=-1SU
END:STANDARD
BEGIN:DAYLIGHT
TZNAME:CEST
TZOFFSETFROM:+0100
TZOFFSETTO:+0200
DTSTART:19810329T020000
RRULE:FREQ=YEARLY;BYMONTH=3;BYDAY=-1SU
END:DAYLIGHT
BEGIN:STANDARD
TZNAME:CET
TZOFFSETFROM:+0200
TZOFFSETTO:+0100
DTSTART:19961027T030000
RRULE:FREQ=YEARLY;BYMONTH=10;BYDAY=-1SU
END:STANDARD
END:VTIMEZONE
BEGIN:VEVENT
DTSTAMP:20260424T115059Z
DTSTART;TZID=Europe/Berlin:20251216T200000
DTEND;TZID=Europe/Berlin:20251216T230000
SUMMARY:HE 3. Liga Gr. 4 Herzogenbuchsee II vs Aarberg IV (28)
UID:6e78f49c-8b19-4391-b22b-ea37b3215811
STATUS:CONFIRMED
LAST-MODIFIED:20251217T100745Z
DESCRIPTION:3. Liga Herren Gruppe 4\nBegegnungs-Nr: 28\nHeim: Herzogenbuchsee II\nGast: Aarberg IV\n\nAdresse: Ringstrasse 10\, 3360 Herzogenbuchsee\n
LOCATION:Ringstrasse 10\, 3360 Herzogenbuchsee
CATEGORIES:Saison 2025/26
END:VEVENT
BEGIN:VEVENT
DTSTAMP:20260424T115059Z
DTSTART;TZID=Europe/Berlin:20251003T200000
DTEND;TZID=Europe/Berlin:20251003T230000
SUMMARY:HE 3. Liga Gr. 4 Herzogenbuchsee II vs Solothurn IV (5)
UID:46699a82-4399-44ac-852c-baded349bc4c
STATUS:CONFIRMED
LAST-MODIFIED:20251004T193242Z
DESCRIPTION:3. Liga Herren Gruppe 4\nBegegnungs-Nr: 5\nHeim: Herzogenbuchsee II\nGast: Solothurn IV\n\nAdresse: Ringstrasse 10\, 3360 Herzogenbuchsee\n
LOCATION:Ringstrasse 10\, 3360 Herzogenbuchsee
CATEGORIES:Saison 2025/26
END:VEVENT
BEGIN:VEVENT
DTSTAMP:20260424T115059Z
DTSTART;TZID=Europe/Berlin:20250930T200000
DTEND;TZID=Europe/Berlin:20250930T230000
SUMMARY:HE 3. Liga Gr. 4 Herzogenbuchsee II vs Pieterlen (4)
UID:47616b5d-688f-4b28-be04-5e62c76fb540
STATUS:CONFIRMED
LAST-MODIFIED:20251003T173017Z
DESCRIPTION:3. Liga Herren Gruppe 4\nBegegnungs-Nr: 4\nHeim: Herzogenbuchsee II\nGast: Pieterlen\n\nAdresse: Ringstrasse 10\, 3360 Herzogenbuchsee\n
LOCATION:Ringstrasse 10\, 3360 Herzogenbuchsee
CATEGORIES:Saison 2025/26
END:VEVENT
BEGIN:VEVENT
DTSTAMP:20260424T115059Z
DTSTART;TZID=Europe/Berlin:20260210T201500
DTEND;TZID=Europe/Berlin:20260210T231500
SUMMARY:HE 3. Liga Gr. 4 Herzogenbuchsee II vs Port V (19)
UID:4d1fafe1-6c59-4dab-8d28-9449ed2c7376
STATUS:CONFIRMED
LAST-MODIFIED:20260217T213126Z
DESCRIPTION:3. Liga Herren Gruppe 4\nBegegnungs-Nr: 19\nHeim: Herzogenbuchsee II\nGast: Port V\n\nAdresse: Ringstrasse 10\, 3360 Herzogenbuchsee\n
LOCATION:Ringstrasse 10\, 3360 Herzogenbuchsee
CATEGORIES:Saison 2025/26
END:VEVENT
BEGIN:VEVENT
DTSTAMP:20260424T115059Z
DTSTART;TZID=Europe/Berlin:20260224T201500
DTEND;TZID=Europe/Berlin:20260224T231500
SUMMARY:HE 3. Liga Gr. 4 Herzogenbuchsee II vs Erlach (15)
UID:9b562a22-c286-4561-8832-bc24af714d8a
STATUS:CONFIRMED
LAST-MODIFIED:20260302T144517Z
DESCRIPTION:3. Liga Herren Gruppe 4\nBegegnungs-Nr: 15\nHeim: Herzogenbuchsee II\nGast: Erlach\n\nAdresse: Ringstrasse 10\, 3360 Herzogenbuchsee\n
LOCATION:Ringstrasse 10\, 3360 Herzogenbuchsee
CATEGORIES:Saison 2025/26
END:VEVENT
BEGIN:VEVENT
DTSTAMP:20260424T115059Z
DTSTART;TZID=Europe/Berlin:20260206T201500
DTEND;TZID=Europe/Berlin:20260206T231500
SUMMARY:HE 3. Liga Gr. 4 Herzogenbuchsee II vs Brügg (10)
UID:2fd06c86-be49-438e-83d4-66e1a639c4be
STATUS:CONFIRMED
LAST-MODIFIED:20260217T213116Z
DESCRIPTION:3. Liga Herren Gruppe 4\nBegegnungs-Nr: 10\nHeim: Herzogenbuchsee II\nGast: Brügg\n\nAdresse: Ringstrasse 10\, 3360 Herzogenbuchsee\n
LOCATION:Ringstrasse 10\, 3360 Herzogenbuchsee
CATEGORIES:Saison 2025/26
END:VEVENT
BEGIN:VEVENT
DTSTAMP:20260424T115059Z
DTSTART;TZID=Europe/Berlin:20251202T200000
DTEND;TZID=Europe/Berlin:20251202T230000
SUMMARY:HE 3. Liga Gr. 4 Herzogenbuchsee II vs Lyss II (24)
UID:818c167e-a898-4653-91c6-736b7fe0dabd
STATUS:CONFIRMED
LAST-MODIFIED:20251207T172556Z
DESCRIPTION:3. Liga Herren Gruppe 4\nBegegnungs-Nr: 24\nHeim: Herzogenbuchsee II\nGast: Lyss II\n\nAdresse: Ringstrasse 10\, 3360 Herzogenbuchsee\n
LOCATION:Ringstrasse 10\, 3360 Herzogenbuchsee
CATEGORIES:Saison 2025/26
END:VEVENT
BEGIN:VEVENT
DTSTAMP:20260424T115059Z
DTSTART;TZID=Europe/Berlin:20251128T194500
DTEND;TZID=Europe/Berlin:20251128T224500
SUMMARY:HE 3. Liga Gr. 4 Port V vs Herzogenbuchsee II (19)
UID:85d90bf4-6ccf-4ff4-86cf-dd29e9d332a3
STATUS:CONFIRMED
LAST-MODIFIED:20251206T233915Z
DESCRIPTION:3. Liga Herren Gruppe 4\nBegegnungs-Nr: 19\nHeim: Port V\nGast: Herzogenbuchsee II\n\nAdresse: Allmendstrasse 23\, 2562 Port\n
LOCATION:Allmendstrasse 23\, 2562 Port
CATEGORIES:Saison 2025/26
END:VEVENT
BEGIN:VEVENT
DTSTAMP:20260424T115059Z
DTSTART;TZID=Europe/Berlin:20250901T200000
DTEND;TZID=Europe/Berlin:20250901T230000
SUMMARY:HE 3. Liga Gr. 4 Erlach vs Herzogenbuchsee II (15)
UID:4ce00221-faf5-440a-8e5c-7c12b9783769
STATUS:CONFIRMED
LAST-MODIFIED:20250907T200054Z
DESCRIPTION:3. Liga Herren Gruppe 4\nBegegnungs-Nr: 15\nHeim: Erlach\nGast: Herzogenbuchsee II\n\nAdresse: Vinelzstrasse 54 (24)\, 3235 Erlach\n
LOCATION:Vinelzstrasse 54 (24)\, 3235 Erlach
CATEGORIES:Saison 2025/26
END:VEVENT
BEGIN:VEVENT
DTSTAMP:20260424T115059Z
DTSTART;TZID=Europe/Berlin:20251015T200000
DTEND;TZID=Europe/Berlin:20251015T230000
SUMMARY:HE 3. Liga Gr. 4 Brügg vs Herzogenbuchsee II (10)
UID:285f0f5c-ed78-4ef2-aa2e-423014f0055c
STATUS:CONFIRMED
LAST-MODIFIED:20251016T191405Z
DESCRIPTION:3. Liga Herren Gruppe 4\nBegegnungs-Nr: 10\nHeim: Brügg\nGast: Herzogenbuchsee II\n\nAdresse: Bärletweg 7\, 2555 Brügg\n
LOCATION:Bärletweg 7\, 2555 Brügg
CATEGORIES:Saison 2025/26
END:VEVENT
BEGIN:VEVENT
DTSTAMP:20260424T115059Z
DTSTART;TZID=Europe/Berlin:20260310T200000
DTEND;TZID=Europe/Berlin:20260310T230000
SUMMARY:HE 3. Liga Gr. 4 Lyss II vs Herzogenbuchsee II (24)
UID:6fab3cae-8e09-4561-a06e-10e2bcf873e2
STATUS:CONFIRMED
LAST-MODIFIED:20260315T225951Z
DESCRIPTION:3. Liga Herren Gruppe 4\nBegegnungs-Nr: 24\nHeim: Lyss II\nGast: Herzogenbuchsee II\n\nAdresse: Stegmattweg 15-17\, 3250 Lyss\n
LOCATION:Stegmattweg 15-17\, 3250 Lyss
CATEGORIES:Saison 2025/26
END:VEVENT
BEGIN:VEVENT
DTSTAMP:20260424T115059Z
DTSTART;TZID=Europe/Berlin:20260325T201500
DTEND;TZID=Europe/Berlin:20260325T231500
SUMMARY:HE 3. Liga Gr. 4 Aarberg IV vs Herzogenbuchsee II (28)
UID:c8a119c4-b8eb-4b4d-af5e-148c958b1bd3
STATUS:CONFIRMED
LAST-MODIFIED:20260409T122830Z
DESCRIPTION:3. Liga Herren Gruppe 4\nBegegnungs-Nr: 28\nHeim: Aarberg IV\nGast: Herzogenbuchsee II\n\nAdresse: Nidaustrasse 7\, 3270 Aarberg\n
LOCATION:Nidaustrasse 7\, 3270 Aarberg
CATEGORIES:Saison 2025/26
END:VEVENT
BEGIN:VEVENT
DTSTAMP:20260424T115059Z
DTSTART;TZID=Europe/Berlin:20260123T200000
DTEND;TZID=Europe/Berlin:20260123T230000
SUMMARY:HE 3. Liga Gr. 4 Solothurn IV vs Herzogenbuchsee II (5)
UID:35fe61e2-9599-4efe-96c1-8a42a02f4e2c
STATUS:CONFIRMED
LAST-MODIFIED:20260125T001413Z
DESCRIPTION:3. Liga Herren Gruppe 4\nBegegnungs-Nr: 5\nHeim: Solothurn IV\nGast: Herzogenbuchsee II\n\nAdresse: Untere Sternengasse 24\, 4500 Solothurn\n
LOCATION:Untere Sternengasse 24\, 4500 Solothurn
CATEGORIES:Saison 2025/26
END:VEVENT
BEGIN:VEVENT
DTSTAMP:20260424T115059Z
DTSTART;TZID=Europe/Berlin:20260219T193000
DTEND;TZID=Europe/Berlin:20260219T223000
SUMMARY:HE 3. Liga Gr. 4 Pieterlen vs Herzogenbuchsee II (4)
UID:9899efe2-613b-4d8a-b9a5-a8b1ee9f9bfc
STATUS:CONFIRMED
LAST-MODIFIED:20260220T123315Z
DESCRIPTION:3. Liga Herren Gruppe 4\nBegegnungs-Nr: 4\nHeim: Pieterlen\nGast: Herzogenbuchsee II\n\nAdresse: Bielstrasse 9\, 2542 Pieterlen\n
LOCATION:Bielstrasse 9\, 2542 Pieterlen
CATEGORIES:Saison 2025/26
END:VEVENT
END:VCALENDAR
