BEGIN:VCALENDAR
PRODID:-//nuDatenautomaten//framework iCal4j //DE
VERSION:2.0
CALSCALE:GREGORIAN
BEGIN:VTIMEZONE
TZID:Europe/Berlin
LAST-MODIFIED:20260306T231828Z
TZURL:https://www.tzurl.org/zoneinfo/Europe/Berlin
X-LIC-LOCATION:Europe/Berlin
X-PROLEPTIC-TZNAME:LMT
BEGIN:STANDARD
TZNAME:CET
TZOFFSETFROM:+005328
TZOFFSETTO:+0100
DTSTART:18930401T000000
END:STANDARD
BEGIN:DAYLIGHT
TZNAME:CEST
TZOFFSETFROM:+0100
TZOFFSETTO:+0200
DTSTART:19160430T230000
RDATE:19400401T020000
RDATE:19430329T020000
RDATE:19460414T020000
RDATE:19470406T030000
RDATE:19480418T020000
RDATE:19490410T020000
RDATE:19800406T020000
END:DAYLIGHT
BEGIN:STANDARD
TZNAME:CET
TZOFFSETFROM:+0200
TZOFFSETTO:+0100
DTSTART:19161001T010000
RDATE:19421102T030000
RDATE:19431004T030000
RDATE:19441002T030000
RDATE:19451118T030000
RDATE:19461007T030000
END:STANDARD
BEGIN:DAYLIGHT
TZNAME:CEST
TZOFFSETFROM:+0100
TZOFFSETTO:+0200
DTSTART:19170416T020000
RRULE:FREQ=YEARLY;UNTIL=19180415T010000Z;BYMONTH=4;BYDAY=3MO
END:DAYLIGHT
BEGIN:STANDARD
TZNAME:CET
TZOFFSETFROM:+0200
TZOFFSETTO:+0100
DTSTART:19170917T030000
RRULE:FREQ=YEARLY;UNTIL=19180916T010000Z;BYMONTH=9;BYDAY=3MO
END:STANDARD
BEGIN:DAYLIGHT
TZNAME:CEST
TZOFFSETFROM:+0100
TZOFFSETTO:+0200
DTSTART:19440403T020000
RRULE:FREQ=YEARLY;UNTIL=19450402T010000Z;BYMONTH=4;BYDAY=1MO
END:DAYLIGHT
BEGIN:DAYLIGHT
TZNAME:CEMT
TZOFFSETFROM:+0200
TZOFFSETTO:+0300
DTSTART:19450524T020000
RDATE:19470511T030000
END:DAYLIGHT
BEGIN:DAYLIGHT
TZNAME:CEST
TZOFFSETFROM:+0300
TZOFFSETTO:+0200
DTSTART:19450924T030000
RDATE:19470629T030000
END:DAYLIGHT
BEGIN:STANDARD
TZNAME:CET
TZOFFSETFROM:+0100
TZOFFSETTO:+0100
DTSTART:19460101T000000
RDATE:19800101T000000
END:STANDARD
BEGIN:STANDARD
TZNAME:CET
TZOFFSETFROM:+0200
TZOFFSETTO:+0100
DTSTART:19471005T030000
RRULE:FREQ=YEARLY;UNTIL=19491002T010000Z;BYMONTH=10;BYDAY=1SU
END:STANDARD
BEGIN:STANDARD
TZNAME:CET
TZOFFSETFROM:+0200
TZOFFSETTO:+0100
DTSTART:19800928T030000
RRULE:FREQ=YEARLY;UNTIL=19950924T010000Z;BYMONTH=9;BYDAY=-1SU
END:STANDARD
BEGIN:DAYLIGHT
TZNAME:CEST
TZOFFSETFROM:+0100
TZOFFSETTO:+0200
DTSTART:19810329T020000
RRULE:FREQ=YEARLY;BYMONTH=3;BYDAY=-1SU
END:DAYLIGHT
BEGIN:STANDARD
TZNAME:CET
TZOFFSETFROM:+0200
TZOFFSETTO:+0100
DTSTART:19961027T030000
RRULE:FREQ=YEARLY;BYMONTH=10;BYDAY=-1SU
END:STANDARD
END:VTIMEZONE
BEGIN:VEVENT
DTSTAMP:20260424T044520Z
DTSTART;TZID=Europe/Berlin:20260122T200000
DTEND;TZID=Europe/Berlin:20260122T230000
SUMMARY:HE 4. Liga Gr. 8 Chur IV vs Wolfhalden II (0)
UID:694b8785-12e2-4b5e-8441-ffa08d15243e
STATUS:CONFIRMED
LAST-MODIFIED:20260127T155337Z
DESCRIPTION:4. Liga Herren Gruppe 8\nBegegnungs-Nr: 0\nHeim: Chur IV\nGast: Wolfhalden II\n\nAdresse: Sandstr. 35\, 7000 Chur\n
LOCATION:Sandstr. 35\, 7000 Chur
CATEGORIES:Saison 2025/26
END:VEVENT
BEGIN:VEVENT
DTSTAMP:20260424T044520Z
DTSTART;TZID=Europe/Berlin:20260305T200000
DTEND;TZID=Europe/Berlin:20260305T230000
SUMMARY:HE 4. Liga Gr. 8 Chur IV vs Ruggell (0)
UID:2f9dc3bb-15c1-4750-801b-11268750000e
STATUS:CONFIRMED
LAST-MODIFIED:20260313T131404Z
DESCRIPTION:4. Liga Herren Gruppe 8\nBegegnungs-Nr: 0\nHeim: Chur IV\nGast: Ruggell\n\nAdresse: Sandstr. 35\, 7000 Chur\n
LOCATION:Sandstr. 35\, 7000 Chur
CATEGORIES:Saison 2025/26
END:VEVENT
BEGIN:VEVENT
DTSTAMP:20260424T044520Z
DTSTART;TZID=Europe/Berlin:20260319T200000
DTEND;TZID=Europe/Berlin:20260319T230000
SUMMARY:HE 4. Liga Gr. 8 Chur IV vs Triesen III (0)
UID:556bdb24-324e-404d-b3e9-42925a08f200
STATUS:CONFIRMED
LAST-MODIFIED:20260320T141224Z
DESCRIPTION:4. Liga Herren Gruppe 8\nBegegnungs-Nr: 0\nHeim: Chur IV\nGast: Triesen III\n\nAdresse: Sandstr. 35\, 7000 Chur\n
LOCATION:Sandstr. 35\, 7000 Chur
CATEGORIES:Saison 2025/26
END:VEVENT
BEGIN:VEVENT
DTSTAMP:20260424T044520Z
DTSTART;TZID=Europe/Berlin:20250828T200000
DTEND;TZID=Europe/Berlin:20250828T230000
SUMMARY:HE 4. Liga Gr. 8 Chur IV vs Chur V (0)
UID:f61e0a5e-4516-47bd-b4ee-cdb771dfb88a
STATUS:CONFIRMED
LAST-MODIFIED:20250829T143637Z
DESCRIPTION:4. Liga Herren Gruppe 8\nBegegnungs-Nr: 0\nHeim: Chur IV\nGast: Chur V\n\nAdresse: Sandstr. 35\, 7000 Chur\n
LOCATION:Sandstr. 35\, 7000 Chur
CATEGORIES:Saison 2025/26
END:VEVENT
BEGIN:VEVENT
DTSTAMP:20260424T044520Z
DTSTART;TZID=Europe/Berlin:20250911T200000
DTEND;TZID=Europe/Berlin:20250911T230000
SUMMARY:HE 4. Liga Gr. 8 Chur IV vs Oberriet II (0)
UID:204db993-399d-4436-b791-b9aa2f57ca83
STATUS:CONFIRMED
LAST-MODIFIED:20250915T083937Z
DESCRIPTION:4. Liga Herren Gruppe 8\nBegegnungs-Nr: 0\nHeim: Chur IV\nGast: Oberriet II\n\nAdresse: Sandstr. 35\, 7000 Chur\n
LOCATION:Sandstr. 35\, 7000 Chur
CATEGORIES:Saison 2025/26
END:VEVENT
BEGIN:VEVENT
DTSTAMP:20260424T044520Z
DTSTART;TZID=Europe/Berlin:20251030T200000
DTEND;TZID=Europe/Berlin:20251030T230000
SUMMARY:HE 4. Liga Gr. 8 Chur IV vs Flums III (0)
UID:875fc385-c19e-45a9-8a51-a73a8eb95022
STATUS:CONFIRMED
LAST-MODIFIED:20251031T143817Z
DESCRIPTION:4. Liga Herren Gruppe 8\nBegegnungs-Nr: 0\nHeim: Chur IV\nGast: Flums III\n\nAdresse: Sandstr. 35\, 7000 Chur\n
LOCATION:Sandstr. 35\, 7000 Chur
CATEGORIES:Saison 2025/26
END:VEVENT
BEGIN:VEVENT
DTSTAMP:20260424T044520Z
DTSTART;TZID=Europe/Berlin:20251204T200000
DTEND;TZID=Europe/Berlin:20251204T230000
SUMMARY:HE 4. Liga Gr. 8 Chur IV vs Wolfhalden (0)
UID:de710ff0-aedf-4168-8631-d41a7358bad0
STATUS:CONFIRMED
LAST-MODIFIED:20251205T130554Z
DESCRIPTION:4. Liga Herren Gruppe 8\nBegegnungs-Nr: 0\nHeim: Chur IV\nGast: Wolfhalden\n\nAdresse: Sandstr. 35\, 7000 Chur\n
LOCATION:Sandstr. 35\, 7000 Chur
CATEGORIES:Saison 2025/26
END:VEVENT
BEGIN:VEVENT
DTSTAMP:20260424T044520Z
DTSTART;TZID=Europe/Berlin:20260108T200000
DTEND;TZID=Europe/Berlin:20260108T230000
SUMMARY:HE 4. Liga Gr. 8 Chur V vs Chur IV (0)
UID:854291bb-5a32-4696-b5cb-2604ad847949
STATUS:CONFIRMED
LAST-MODIFIED:20260112T095240Z
DESCRIPTION:4. Liga Herren Gruppe 8\nBegegnungs-Nr: 0\nHeim: Chur V\nGast: Chur IV\n\nAdresse: Sandstr. 35\, 7000 Chur\n
LOCATION:Sandstr. 35\, 7000 Chur
CATEGORIES:Saison 2025/26
END:VEVENT
BEGIN:VEVENT
DTSTAMP:20260424T044520Z
DTSTART;TZID=Europe/Berlin:20260128T201500
DTEND;TZID=Europe/Berlin:20260128T231500
SUMMARY:HE 4. Liga Gr. 8 Oberriet II vs Chur IV (0)
UID:486e1438-d136-4322-b444-94676596ff63
STATUS:CONFIRMED
LAST-MODIFIED:20260130T094517Z
DESCRIPTION:4. Liga Herren Gruppe 8\nBegegnungs-Nr: 0\nHeim: Oberriet II\nGast: Chur IV\n\nAdresse: Neugutstrasse 2\, 9463 Oberriet SG\n
LOCATION:Neugutstrasse 2\, 9463 Oberriet SG
CATEGORIES:Saison 2025/26
END:VEVENT
BEGIN:VEVENT
DTSTAMP:20260424T044520Z
DTSTART;TZID=Europe/Berlin:20260311T201500
DTEND;TZID=Europe/Berlin:20260311T231500
SUMMARY:HE 4. Liga Gr. 8 Flums III vs Chur IV (0)
UID:3d6eb948-14fc-4879-b9c7-edb2c458d4d6
STATUS:CONFIRMED
LAST-MODIFIED:20260317T135613Z
DESCRIPTION:4. Liga Herren Gruppe 8\nBegegnungs-Nr: 0\nHeim: Flums III\nGast: Chur IV\n\nAdresse: Bahnhofstrasse 23\, 8890 Flums\n
LOCATION:Bahnhofstrasse 23\, 8890 Flums
CATEGORIES:Saison 2025/26
END:VEVENT
BEGIN:VEVENT
DTSTAMP:20260424T044520Z
DTSTART;TZID=Europe/Berlin:20260330T200000
DTEND;TZID=Europe/Berlin:20260330T230000
SUMMARY:HE 4. Liga Gr. 8 Wolfhalden vs Chur IV (0)
UID:7befbf0d-2732-42d2-ad9a-80806d512951
STATUS:CONFIRMED
LAST-MODIFIED:20260401T124037Z
DESCRIPTION:4. Liga Herren Gruppe 8\nBegegnungs-Nr: 0\nHeim: Wolfhalden\nGast: Chur IV\n\nAdresse: -\, 9427 Wolfhalden\n
LOCATION:-\, 9427 Wolfhalden
CATEGORIES:Saison 2025/26
END:VEVENT
BEGIN:VEVENT
DTSTAMP:20260424T044520Z
DTSTART;TZID=Europe/Berlin:20250901T200000
DTEND;TZID=Europe/Berlin:20250901T230000
SUMMARY:HE 4. Liga Gr. 8 Wolfhalden II vs Chur IV (0)
UID:909a0627-0493-4385-b659-b20f05cb9f5b
STATUS:CONFIRMED
LAST-MODIFIED:20250902T092902Z
DESCRIPTION:4. Liga Herren Gruppe 8\nBegegnungs-Nr: 0\nHeim: Wolfhalden II\nGast: Chur IV\n\nAdresse: -\, 9427 Wolfhalden\n
LOCATION:-\, 9427 Wolfhalden
CATEGORIES:Saison 2025/26
END:VEVENT
BEGIN:VEVENT
DTSTAMP:20260424T044520Z
DTSTART;TZID=Europe/Berlin:20250925T200000
DTEND;TZID=Europe/Berlin:20250925T230000
SUMMARY:HE 4. Liga Gr. 8 Ruggell vs Chur IV (0)
UID:89fbfab2-b42a-4098-9180-bfd55c1727d0
STATUS:CONFIRMED
LAST-MODIFIED:20250926T131911Z
DESCRIPTION:4. Liga Herren Gruppe 8\nBegegnungs-Nr: 0\nHeim: Ruggell\nGast: Chur IV\n\nAdresse: Nellengasse 40\, 9491 Ruggell\n
LOCATION:Nellengasse 40\, 9491 Ruggell
CATEGORIES:Saison 2025/26
END:VEVENT
BEGIN:VEVENT
DTSTAMP:20260424T044520Z
DTSTART;TZID=Europe/Berlin:20251212T194500
DTEND;TZID=Europe/Berlin:20251212T224500
SUMMARY:HE 4. Liga Gr. 8 Triesen III vs Chur IV (0)
UID:4a82fa97-5bb7-4b46-92c6-73371341b2b1
STATUS:CONFIRMED
LAST-MODIFIED:20251215T134240Z
DESCRIPTION:4. Liga Herren Gruppe 8\nBegegnungs-Nr: 0\nHeim: Triesen III\nGast: Chur IV\n\nAdresse: Gässle 12\, 9495 Triesen\n
LOCATION:Gässle 12\, 9495 Triesen
CATEGORIES:Saison 2025/26
END:VEVENT
END:VCALENDAR
