BEGIN:VCALENDAR
PRODID:-//nuDatenautomaten//framework iCal4j //DE
VERSION:2.0
CALSCALE:GREGORIAN
BEGIN:VTIMEZONE
TZID:Europe/Berlin
LAST-MODIFIED:20260306T231828Z
TZURL:https://www.tzurl.org/zoneinfo/Europe/Berlin
X-LIC-LOCATION:Europe/Berlin
X-PROLEPTIC-TZNAME:LMT
BEGIN:STANDARD
TZNAME:CET
TZOFFSETFROM:+005328
TZOFFSETTO:+0100
DTSTART:18930401T000000
END:STANDARD
BEGIN:DAYLIGHT
TZNAME:CEST
TZOFFSETFROM:+0100
TZOFFSETTO:+0200
DTSTART:19160430T230000
RDATE:19400401T020000
RDATE:19430329T020000
RDATE:19460414T020000
RDATE:19470406T030000
RDATE:19480418T020000
RDATE:19490410T020000
RDATE:19800406T020000
END:DAYLIGHT
BEGIN:STANDARD
TZNAME:CET
TZOFFSETFROM:+0200
TZOFFSETTO:+0100
DTSTART:19161001T010000
RDATE:19421102T030000
RDATE:19431004T030000
RDATE:19441002T030000
RDATE:19451118T030000
RDATE:19461007T030000
END:STANDARD
BEGIN:DAYLIGHT
TZNAME:CEST
TZOFFSETFROM:+0100
TZOFFSETTO:+0200
DTSTART:19170416T020000
RRULE:FREQ=YEARLY;UNTIL=19180415T010000Z;BYMONTH=4;BYDAY=3MO
END:DAYLIGHT
BEGIN:STANDARD
TZNAME:CET
TZOFFSETFROM:+0200
TZOFFSETTO:+0100
DTSTART:19170917T030000
RRULE:FREQ=YEARLY;UNTIL=19180916T010000Z;BYMONTH=9;BYDAY=3MO
END:STANDARD
BEGIN:DAYLIGHT
TZNAME:CEST
TZOFFSETFROM:+0100
TZOFFSETTO:+0200
DTSTART:19440403T020000
RRULE:FREQ=YEARLY;UNTIL=19450402T010000Z;BYMONTH=4;BYDAY=1MO
END:DAYLIGHT
BEGIN:DAYLIGHT
TZNAME:CEMT
TZOFFSETFROM:+0200
TZOFFSETTO:+0300
DTSTART:19450524T020000
RDATE:19470511T030000
END:DAYLIGHT
BEGIN:DAYLIGHT
TZNAME:CEST
TZOFFSETFROM:+0300
TZOFFSETTO:+0200
DTSTART:19450924T030000
RDATE:19470629T030000
END:DAYLIGHT
BEGIN:STANDARD
TZNAME:CET
TZOFFSETFROM:+0100
TZOFFSETTO:+0100
DTSTART:19460101T000000
RDATE:19800101T000000
END:STANDARD
BEGIN:STANDARD
TZNAME:CET
TZOFFSETFROM:+0200
TZOFFSETTO:+0100
DTSTART:19471005T030000
RRULE:FREQ=YEARLY;UNTIL=19491002T010000Z;BYMONTH=10;BYDAY=1SU
END:STANDARD
BEGIN:STANDARD
TZNAME:CET
TZOFFSETFROM:+0200
TZOFFSETTO:+0100
DTSTART:19800928T030000
RRULE:FREQ=YEARLY;UNTIL=19950924T010000Z;BYMONTH=9;BYDAY=-1SU
END:STANDARD
BEGIN:DAYLIGHT
TZNAME:CEST
TZOFFSETFROM:+0100
TZOFFSETTO:+0200
DTSTART:19810329T020000
RRULE:FREQ=YEARLY;BYMONTH=3;BYDAY=-1SU
END:DAYLIGHT
BEGIN:STANDARD
TZNAME:CET
TZOFFSETFROM:+0200
TZOFFSETTO:+0100
DTSTART:19961027T030000
RRULE:FREQ=YEARLY;BYMONTH=10;BYDAY=-1SU
END:STANDARD
END:VTIMEZONE
BEGIN:VEVENT
DTSTAMP:20260424T025643Z
DTSTART;TZID=Europe/Berlin:20260204T201500
DTEND;TZID=Europe/Berlin:20260204T231500
SUMMARY:HE 5. Liga Gr. 7 Thalwil IV vs Sihltal II (0)
UID:f7450a62-99cc-4834-8736-c27572b9b7fa
STATUS:CONFIRMED
LAST-MODIFIED:20260206T135556Z
DESCRIPTION:5. Liga Herren Gruppe 7\nBegegnungs-Nr: 0\nHeim: Thalwil IV\nGast: Sihltal II\n\nAdresse: Bergstrasse 2\, 8800 Thalwil\n
LOCATION:Bergstrasse 2\, 8800 Thalwil
CATEGORIES:Saison 2025/26
END:VEVENT
BEGIN:VEVENT
DTSTAMP:20260424T025643Z
DTSTART;TZID=Europe/Berlin:20260318T201500
DTEND;TZID=Europe/Berlin:20260318T231500
SUMMARY:HE 5. Liga Gr. 7 Thalwil IV vs Glarus IV (0)
UID:a836012a-d2ca-444e-8996-3c7c525ccf74
STATUS:CONFIRMED
LAST-MODIFIED:20260320T141345Z
DESCRIPTION:5. Liga Herren Gruppe 7\nBegegnungs-Nr: 0\nHeim: Thalwil IV\nGast: Glarus IV\n\nAdresse: Bergstrasse 2\, 8800 Thalwil\n
LOCATION:Bergstrasse 2\, 8800 Thalwil
CATEGORIES:Saison 2025/26
END:VEVENT
BEGIN:VEVENT
DTSTAMP:20260424T025643Z
DTSTART;TZID=Europe/Berlin:20260327T201500
DTEND;TZID=Europe/Berlin:20260327T231500
SUMMARY:HE 5. Liga Gr. 7 Thalwil IV vs Flums V (0)
UID:1c0ad8b8-18cc-4acd-a5d8-d07347c6e0a3
STATUS:CONFIRMED
LAST-MODIFIED:20260401T125453Z
DESCRIPTION:5. Liga Herren Gruppe 7\nBegegnungs-Nr: 0\nHeim: Thalwil IV\nGast: Flums V\n\nAdresse: Bergstrasse 2\, 8800 Thalwil\n
LOCATION:Bergstrasse 2\, 8800 Thalwil
CATEGORIES:Saison 2025/26
END:VEVENT
BEGIN:VEVENT
DTSTAMP:20260424T025643Z
DTSTART;TZID=Europe/Berlin:20250925T194500
DTEND;TZID=Europe/Berlin:20250925T224500
SUMMARY:HE 5. Liga Gr. 7 Thalwil IV vs Wädenswil VII (0)
UID:0e3f2125-be2f-427d-bf5e-032f8dd2be0a
STATUS:CONFIRMED
LAST-MODIFIED:20250926T132827Z
DESCRIPTION:5. Liga Herren Gruppe 7\nBegegnungs-Nr: 0\nHeim: Thalwil IV\nGast: Wädenswil VII\n\nAdresse: Langweg 2\, 8942 Oberrieden\n
LOCATION:Langweg 2\, 8942 Oberrieden
CATEGORIES:Saison 2025/26
END:VEVENT
BEGIN:VEVENT
DTSTAMP:20260424T025643Z
DTSTART;TZID=Europe/Berlin:20251031T201500
DTEND;TZID=Europe/Berlin:20251031T231500
SUMMARY:HE 5. Liga Gr. 7 Thalwil IV vs Affoltern A/A VI (0)
UID:0f8d58e4-b6dd-4887-b29c-42fff891c7d1
STATUS:CONFIRMED
LAST-MODIFIED:20251107T145222Z
DESCRIPTION:5. Liga Herren Gruppe 7\nBegegnungs-Nr: 0\nHeim: Thalwil IV\nGast: Affoltern A/A VI\n\nAdresse: Bergstrasse 2\, 8800 Thalwil\n
LOCATION:Bergstrasse 2\, 8800 Thalwil
CATEGORIES:Saison 2025/26
END:VEVENT
BEGIN:VEVENT
DTSTAMP:20260424T025643Z
DTSTART;TZID=Europe/Berlin:20251205T201500
DTEND;TZID=Europe/Berlin:20251205T231500
SUMMARY:HE 5. Liga Gr. 7 Thalwil IV vs Rüschlikon (0)
UID:0c6c8869-c39f-40ca-a3a7-522f3cde8786
STATUS:CONFIRMED
LAST-MODIFIED:20251210T091121Z
DESCRIPTION:5. Liga Herren Gruppe 7\nBegegnungs-Nr: 0\nHeim: Thalwil IV\nGast: Rüschlikon\n\nAdresse: Bergstrasse 2\, 8800 Thalwil\n
LOCATION:Bergstrasse 2\, 8800 Thalwil
CATEGORIES:Saison 2025/26
END:VEVENT
BEGIN:VEVENT
DTSTAMP:20260424T025643Z
DTSTART;TZID=Europe/Berlin:20260129T201500
DTEND;TZID=Europe/Berlin:20260129T231500
SUMMARY:HE 5. Liga Gr. 7 Wädenswil VII vs Thalwil IV (0)
UID:cbe7efa6-7b5f-4dbc-a7d1-00fabe2118ce
STATUS:CONFIRMED
LAST-MODIFIED:20260130T102457Z
DESCRIPTION:5. Liga Herren Gruppe 7\nBegegnungs-Nr: 0\nHeim: Wädenswil VII\nGast: Thalwil IV\n\nAdresse: Speerstrasse 95\, 8820 Wädenswil\n
LOCATION:Speerstrasse 95\, 8820 Wädenswil
CATEGORIES:Saison 2025/26
END:VEVENT
BEGIN:VEVENT
DTSTAMP:20260424T025643Z
DTSTART;TZID=Europe/Berlin:20260312T193000
DTEND;TZID=Europe/Berlin:20260312T223000
SUMMARY:HE 5. Liga Gr. 7 Affoltern A/A VI vs Thalwil IV (0)
UID:8eec0aa8-20b0-4c3e-8d6d-48faccfa8480
STATUS:CONFIRMED
LAST-MODIFIED:20260313T132205Z
DESCRIPTION:5. Liga Herren Gruppe 7\nBegegnungs-Nr: 0\nHeim: Affoltern A/A VI\nGast: Thalwil IV\n\nAdresse: Butzenstrasse 8\, 8910 Affoltern am Albis\n
LOCATION:Butzenstrasse 8\, 8910 Affoltern am Albis
CATEGORIES:Saison 2025/26
END:VEVENT
BEGIN:VEVENT
DTSTAMP:20260424T025643Z
DTSTART;TZID=Europe/Berlin:20260413T201500
DTEND;TZID=Europe/Berlin:20260413T231500
SUMMARY:HE 5. Liga Gr. 7 Rüschlikon vs Thalwil IV (0)
UID:6db4e121-8f14-49d2-95da-f74b45699247
STATUS:CONFIRMED
LAST-MODIFIED:20260416T103848Z
DESCRIPTION:5. Liga Herren Gruppe 7\nBegegnungs-Nr: 0\nHeim: Rüschlikon\nGast: Thalwil IV\n\nAdresse: Säumerstrasse 24\, 8803 Rüschlikon\n
LOCATION:Säumerstrasse 24\, 8803 Rüschlikon
CATEGORIES:Saison 2025/26
END:VEVENT
BEGIN:VEVENT
DTSTAMP:20260424T025643Z
DTSTART;TZID=Europe/Berlin:20251111T201500
DTEND;TZID=Europe/Berlin:20251111T231500
SUMMARY:HE 5. Liga Gr. 7 Sihltal II vs Thalwil IV (0)
UID:52c5c32a-7dac-4fd7-b17e-6b9452e6bf78
STATUS:CONFIRMED
LAST-MODIFIED:20251114T142452Z
DESCRIPTION:5. Liga Herren Gruppe 7\nBegegnungs-Nr: 0\nHeim: Sihltal II\nGast: Thalwil IV\n\nAdresse: In der Schwerzi 4\, 8135 Langnau a/A\n
LOCATION:In der Schwerzi 4\, 8135 Langnau a/A
CATEGORIES:Saison 2025/26
END:VEVENT
BEGIN:VEVENT
DTSTAMP:20260424T025643Z
DTSTART;TZID=Europe/Berlin:20250926T200000
DTEND;TZID=Europe/Berlin:20250926T230000
SUMMARY:HE 5. Liga Gr. 7 Glarus IV vs Thalwil IV (0)
UID:af709dc5-011d-4bfb-a0bd-dd999aff31dd
STATUS:CONFIRMED
LAST-MODIFIED:20250930T124344Z
DESCRIPTION:5. Liga Herren Gruppe 7\nBegegnungs-Nr: 0\nHeim: Glarus IV\nGast: Thalwil IV\n\nAdresse: Schwertgasse 23\, 8750 Glarus\n
LOCATION:Schwertgasse 23\, 8750 Glarus
CATEGORIES:Saison 2025/26
END:VEVENT
BEGIN:VEVENT
DTSTAMP:20260424T025643Z
DTSTART;TZID=Europe/Berlin:20251103T201500
DTEND;TZID=Europe/Berlin:20251103T231500
SUMMARY:HE 5. Liga Gr. 7 Flums V vs Thalwil IV (0)
UID:174de6c9-a40e-472e-8ada-21482b280a54
STATUS:CONFIRMED
LAST-MODIFIED:20251107T145230Z
DESCRIPTION:5. Liga Herren Gruppe 7\nBegegnungs-Nr: 0\nHeim: Flums V\nGast: Thalwil IV\n\nAdresse: Bergstrasse\, 8890 Flums\n
LOCATION:Bergstrasse\, 8890 Flums
CATEGORIES:Saison 2025/26
END:VEVENT
END:VCALENDAR
