BEGIN:VCALENDAR
PRODID:-//nuDatenautomaten//framework iCal4j //DE
VERSION:2.0
CALSCALE:GREGORIAN
BEGIN:VTIMEZONE
TZID:Europe/Berlin
LAST-MODIFIED:20260306T231828Z
TZURL:https://www.tzurl.org/zoneinfo/Europe/Berlin
X-LIC-LOCATION:Europe/Berlin
X-PROLEPTIC-TZNAME:LMT
BEGIN:STANDARD
TZNAME:CET
TZOFFSETFROM:+005328
TZOFFSETTO:+0100
DTSTART:18930401T000000
END:STANDARD
BEGIN:DAYLIGHT
TZNAME:CEST
TZOFFSETFROM:+0100
TZOFFSETTO:+0200
DTSTART:19160430T230000
RDATE:19400401T020000
RDATE:19430329T020000
RDATE:19460414T020000
RDATE:19470406T030000
RDATE:19480418T020000
RDATE:19490410T020000
RDATE:19800406T020000
END:DAYLIGHT
BEGIN:STANDARD
TZNAME:CET
TZOFFSETFROM:+0200
TZOFFSETTO:+0100
DTSTART:19161001T010000
RDATE:19421102T030000
RDATE:19431004T030000
RDATE:19441002T030000
RDATE:19451118T030000
RDATE:19461007T030000
END:STANDARD
BEGIN:DAYLIGHT
TZNAME:CEST
TZOFFSETFROM:+0100
TZOFFSETTO:+0200
DTSTART:19170416T020000
RRULE:FREQ=YEARLY;UNTIL=19180415T010000Z;BYMONTH=4;BYDAY=3MO
END:DAYLIGHT
BEGIN:STANDARD
TZNAME:CET
TZOFFSETFROM:+0200
TZOFFSETTO:+0100
DTSTART:19170917T030000
RRULE:FREQ=YEARLY;UNTIL=19180916T010000Z;BYMONTH=9;BYDAY=3MO
END:STANDARD
BEGIN:DAYLIGHT
TZNAME:CEST
TZOFFSETFROM:+0100
TZOFFSETTO:+0200
DTSTART:19440403T020000
RRULE:FREQ=YEARLY;UNTIL=19450402T010000Z;BYMONTH=4;BYDAY=1MO
END:DAYLIGHT
BEGIN:DAYLIGHT
TZNAME:CEMT
TZOFFSETFROM:+0200
TZOFFSETTO:+0300
DTSTART:19450524T020000
RDATE:19470511T030000
END:DAYLIGHT
BEGIN:DAYLIGHT
TZNAME:CEST
TZOFFSETFROM:+0300
TZOFFSETTO:+0200
DTSTART:19450924T030000
RDATE:19470629T030000
END:DAYLIGHT
BEGIN:STANDARD
TZNAME:CET
TZOFFSETFROM:+0100
TZOFFSETTO:+0100
DTSTART:19460101T000000
RDATE:19800101T000000
END:STANDARD
BEGIN:STANDARD
TZNAME:CET
TZOFFSETFROM:+0200
TZOFFSETTO:+0100
DTSTART:19471005T030000
RRULE:FREQ=YEARLY;UNTIL=19491002T010000Z;BYMONTH=10;BYDAY=1SU
END:STANDARD
BEGIN:STANDARD
TZNAME:CET
TZOFFSETFROM:+0200
TZOFFSETTO:+0100
DTSTART:19800928T030000
RRULE:FREQ=YEARLY;UNTIL=19950924T010000Z;BYMONTH=9;BYDAY=-1SU
END:STANDARD
BEGIN:DAYLIGHT
TZNAME:CEST
TZOFFSETFROM:+0100
TZOFFSETTO:+0200
DTSTART:19810329T020000
RRULE:FREQ=YEARLY;BYMONTH=3;BYDAY=-1SU
END:DAYLIGHT
BEGIN:STANDARD
TZNAME:CET
TZOFFSETFROM:+0200
TZOFFSETTO:+0100
DTSTART:19961027T030000
RRULE:FREQ=YEARLY;BYMONTH=10;BYDAY=-1SU
END:STANDARD
END:VTIMEZONE
BEGIN:VEVENT
DTSTAMP:20260424T151029Z
DTSTART;TZID=Europe/Berlin:20260217T200000
DTEND;TZID=Europe/Berlin:20260217T230000
SUMMARY:S L3 Gr 1 Lausanne III vs Montriond-Ouchy  III (0)
UID:35890936-0e00-4959-bde0-a12f8ddfb5aa
STATUS:CONFIRMED
LAST-MODIFIED:20260220T155248Z
DESCRIPTION:3ème ligue Seniors Groupe 1\nBegegnungs-Nr: 0\nHeim: Lausanne III\nGast: Montriond-Ouchy  III\n\nAdresse: Vaudoise Aréna\, Ch. du Viaduc 14\, 1008 Prilly\n
LOCATION:Vaudoise Aréna\, Ch. du Viaduc 14\, 1008 Prilly
CATEGORIES:Saison 2025/26
END:VEVENT
BEGIN:VEVENT
DTSTAMP:20260424T151029Z
DTSTART;TZID=Europe/Berlin:20251112T193000
DTEND;TZID=Europe/Berlin:20251112T223000
SUMMARY:S L3 Gr 1 Lausanne III vs Romanel II (0)
UID:4b422cf7-8aa3-4f2e-bef5-1554cbc7edf0
STATUS:CONFIRMED
LAST-MODIFIED:20251109T153700Z
DESCRIPTION:3ème ligue Seniors Groupe 1\nBegegnungs-Nr: 0\nHeim: Lausanne III\nGast: Romanel II\n\nAdresse: Vaudoise Aréna\, Ch. du Viaduc 14\, 1008 Prilly\n
LOCATION:Vaudoise Aréna\, Ch. du Viaduc 14\, 1008 Prilly
CATEGORIES:Saison 2025/26
END:VEVENT
BEGIN:VEVENT
DTSTAMP:20260424T151029Z
DTSTART;TZID=Europe/Berlin:20250924T200000
DTEND;TZID=Europe/Berlin:20250924T230000
SUMMARY:S L3 Gr 1 Lausanne III vs Lausanne IV (0)
UID:b48d8904-1aca-45cc-b90c-b3b107695f30
STATUS:CONFIRMED
LAST-MODIFIED:20250925T094344Z
DESCRIPTION:3ème ligue Seniors Groupe 1\nBegegnungs-Nr: 0\nHeim: Lausanne III\nGast: Lausanne IV\n\nAdresse: Vaudoise Aréna\, Ch. du Viaduc 14\, 1008 Prilly\n
LOCATION:Vaudoise Aréna\, Ch. du Viaduc 14\, 1008 Prilly
CATEGORIES:Saison 2025/26
END:VEVENT
BEGIN:VEVENT
DTSTAMP:20260424T151029Z
DTSTART;TZID=Europe/Berlin:20251203T200000
DTEND;TZID=Europe/Berlin:20251203T230000
SUMMARY:S L3 Gr 1 Lausanne III vs Crissier III (0)
UID:323a2cc7-7a2e-46b5-9691-00142831217e
STATUS:CONFIRMED
LAST-MODIFIED:20251208T123759Z
DESCRIPTION:3ème ligue Seniors Groupe 1\nBegegnungs-Nr: 0\nHeim: Lausanne III\nGast: Crissier III\n\nAdresse: Vaudoise Aréna\, Ch. du Viaduc 14\, 1008 Prilly\n
LOCATION:Vaudoise Aréna\, Ch. du Viaduc 14\, 1008 Prilly
CATEGORIES:Saison 2025/26
END:VEVENT
BEGIN:VEVENT
DTSTAMP:20260424T151029Z
DTSTART;TZID=Europe/Berlin:20251217T200000
DTEND;TZID=Europe/Berlin:20251217T230000
SUMMARY:S L3 Gr 1 Lausanne III vs Chexbres II (0)
UID:47f13ea7-e6cb-4d7e-8302-9f16e153cbbf
STATUS:CONFIRMED
LAST-MODIFIED:20251218T230316Z
DESCRIPTION:3ème ligue Seniors Groupe 1\nBegegnungs-Nr: 0\nHeim: Lausanne III\nGast: Chexbres II\n\nAdresse: Vaudoise Aréna\, Ch. du Viaduc 14\, 1008 Prilly\n
LOCATION:Vaudoise Aréna\, Ch. du Viaduc 14\, 1008 Prilly
CATEGORIES:Saison 2025/26
END:VEVENT
BEGIN:VEVENT
DTSTAMP:20260424T151029Z
DTSTART;TZID=Europe/Berlin:20260108T200000
DTEND;TZID=Europe/Berlin:20260108T230000
SUMMARY:S L3 Gr 1 Lausanne IV vs Lausanne III (0)
UID:5754b414-b188-4472-a129-d28af12f957c
STATUS:CONFIRMED
LAST-MODIFIED:20260112T074025Z
DESCRIPTION:3ème ligue Seniors Groupe 1\nBegegnungs-Nr: 0\nHeim: Lausanne IV\nGast: Lausanne III\n\nAdresse: Vaudoise Aréna\, Ch. du Viaduc 14\, 1008 Prilly\n
LOCATION:Vaudoise Aréna\, Ch. du Viaduc 14\, 1008 Prilly
CATEGORIES:Saison 2025/26
END:VEVENT
BEGIN:VEVENT
DTSTAMP:20260424T151029Z
DTSTART;TZID=Europe/Berlin:20260310T193000
DTEND;TZID=Europe/Berlin:20260310T223000
SUMMARY:S L3 Gr 1 Crissier III vs Lausanne III (0)
UID:90c81648-0107-43b1-8bbf-ec938d49b67b
STATUS:CONFIRMED
LAST-MODIFIED:20260311T162024Z
DESCRIPTION:3ème ligue Seniors Groupe 1\nBegegnungs-Nr: 0\nHeim: Crissier III\nGast: Lausanne III\n\nAdresse: Ch. de Roséaz\, 1030 Bussigny\n
LOCATION:Ch. de Roséaz\, 1030 Bussigny
CATEGORIES:Saison 2025/26
END:VEVENT
BEGIN:VEVENT
DTSTAMP:20260424T151029Z
DTSTART;TZID=Europe/Berlin:20260326T194500
DTEND;TZID=Europe/Berlin:20260326T224500
SUMMARY:S L3 Gr 1 Chexbres II vs Lausanne III (0)
UID:f3b58de4-cb24-4e37-bc13-b785c2d8ec95
STATUS:CONFIRMED
LAST-MODIFIED:20260327T193753Z
DESCRIPTION:3ème ligue Seniors Groupe 1\nBegegnungs-Nr: 0\nHeim: Chexbres II\nGast: Lausanne III\n\nAdresse: Collège de Praz Routoz\, 1071 Chexbres\n
LOCATION:Collège de Praz Routoz\, 1071 Chexbres
CATEGORIES:Saison 2025/26
END:VEVENT
BEGIN:VEVENT
DTSTAMP:20260424T151029Z
DTSTART;TZID=Europe/Berlin:20251113T193000
DTEND;TZID=Europe/Berlin:20251113T223000
SUMMARY:S L3 Gr 1 Montriond-Ouchy  III vs Lausanne III (0)
UID:1647fe27-9111-4bd7-b2d0-e3dab4c355c4
STATUS:CONFIRMED
LAST-MODIFIED:20251115T152710Z
DESCRIPTION:3ème ligue Seniors Groupe 1\nBegegnungs-Nr: 0\nHeim: Montriond-Ouchy  III\nGast: Lausanne III\n\nAdresse: Avenue d'Ouchy 45\, 1006 Lausanne\n
LOCATION:Avenue d'Ouchy 45\, 1006 Lausanne
CATEGORIES:Saison 2025/26
END:VEVENT
BEGIN:VEVENT
DTSTAMP:20260424T151029Z
DTSTART;TZID=Europe/Berlin:20251022T200000
DTEND;TZID=Europe/Berlin:20251022T230000
SUMMARY:S L3 Gr 1 Romanel II vs Lausanne III (0)
UID:083832c7-6aa4-43f9-9ea9-13f37a70744b
STATUS:CONFIRMED
LAST-MODIFIED:20251016T154001Z
DESCRIPTION:3ème ligue Seniors Groupe 1\nBegegnungs-Nr: 0\nHeim: Romanel II\nGast: Lausanne III\n\nAdresse: Ch des Epinettes 1\, 1032 Romanel-sur-Lausanne\n
LOCATION:Ch des Epinettes 1\, 1032 Romanel-sur-Lausanne
CATEGORIES:Saison 2025/26
END:VEVENT
END:VCALENDAR
