BEGIN:VCALENDAR
PRODID:-//nuDatenautomaten//framework iCal4j //DE
VERSION:2.0
CALSCALE:GREGORIAN
BEGIN:VTIMEZONE
TZID:Europe/Berlin
LAST-MODIFIED:20260306T231828Z
TZURL:https://www.tzurl.org/zoneinfo/Europe/Berlin
X-LIC-LOCATION:Europe/Berlin
X-PROLEPTIC-TZNAME:LMT
BEGIN:STANDARD
TZNAME:CET
TZOFFSETFROM:+005328
TZOFFSETTO:+0100
DTSTART:18930401T000000
END:STANDARD
BEGIN:DAYLIGHT
TZNAME:CEST
TZOFFSETFROM:+0100
TZOFFSETTO:+0200
DTSTART:19160430T230000
RDATE:19400401T020000
RDATE:19430329T020000
RDATE:19460414T020000
RDATE:19470406T030000
RDATE:19480418T020000
RDATE:19490410T020000
RDATE:19800406T020000
END:DAYLIGHT
BEGIN:STANDARD
TZNAME:CET
TZOFFSETFROM:+0200
TZOFFSETTO:+0100
DTSTART:19161001T010000
RDATE:19421102T030000
RDATE:19431004T030000
RDATE:19441002T030000
RDATE:19451118T030000
RDATE:19461007T030000
END:STANDARD
BEGIN:DAYLIGHT
TZNAME:CEST
TZOFFSETFROM:+0100
TZOFFSETTO:+0200
DTSTART:19170416T020000
RRULE:FREQ=YEARLY;UNTIL=19180415T010000Z;BYMONTH=4;BYDAY=3MO
END:DAYLIGHT
BEGIN:STANDARD
TZNAME:CET
TZOFFSETFROM:+0200
TZOFFSETTO:+0100
DTSTART:19170917T030000
RRULE:FREQ=YEARLY;UNTIL=19180916T010000Z;BYMONTH=9;BYDAY=3MO
END:STANDARD
BEGIN:DAYLIGHT
TZNAME:CEST
TZOFFSETFROM:+0100
TZOFFSETTO:+0200
DTSTART:19440403T020000
RRULE:FREQ=YEARLY;UNTIL=19450402T010000Z;BYMONTH=4;BYDAY=1MO
END:DAYLIGHT
BEGIN:DAYLIGHT
TZNAME:CEMT
TZOFFSETFROM:+0200
TZOFFSETTO:+0300
DTSTART:19450524T020000
RDATE:19470511T030000
END:DAYLIGHT
BEGIN:DAYLIGHT
TZNAME:CEST
TZOFFSETFROM:+0300
TZOFFSETTO:+0200
DTSTART:19450924T030000
RDATE:19470629T030000
END:DAYLIGHT
BEGIN:STANDARD
TZNAME:CET
TZOFFSETFROM:+0100
TZOFFSETTO:+0100
DTSTART:19460101T000000
RDATE:19800101T000000
END:STANDARD
BEGIN:STANDARD
TZNAME:CET
TZOFFSETFROM:+0200
TZOFFSETTO:+0100
DTSTART:19471005T030000
RRULE:FREQ=YEARLY;UNTIL=19491002T010000Z;BYMONTH=10;BYDAY=1SU
END:STANDARD
BEGIN:STANDARD
TZNAME:CET
TZOFFSETFROM:+0200
TZOFFSETTO:+0100
DTSTART:19800928T030000
RRULE:FREQ=YEARLY;UNTIL=19950924T010000Z;BYMONTH=9;BYDAY=-1SU
END:STANDARD
BEGIN:DAYLIGHT
TZNAME:CEST
TZOFFSETFROM:+0100
TZOFFSETTO:+0200
DTSTART:19810329T020000
RRULE:FREQ=YEARLY;BYMONTH=3;BYDAY=-1SU
END:DAYLIGHT
BEGIN:STANDARD
TZNAME:CET
TZOFFSETFROM:+0200
TZOFFSETTO:+0100
DTSTART:19961027T030000
RRULE:FREQ=YEARLY;BYMONTH=10;BYDAY=-1SU
END:STANDARD
END:VTIMEZONE
BEGIN:VEVENT
DTSTAMP:20260424T152509Z
DTSTART;TZID=Europe/Berlin:20251011T090000
DTEND;TZID=Europe/Berlin:20251011T120000
SUMMARY:Ligue 4 Silver Star IV vs Silver Star VI (1)
UID:c4dc28f6-5447-4021-9b84-6c444be3067f
STATUS:CONFIRMED
DESCRIPTION:4ème ligue jeunesse - Groupe unique\nBegegnungs-Nr: 1\nHeim: Silver Star IV\nGast: Silver Star VI\n
LOCATION:
CATEGORIES:Saison 2025/26
END:VEVENT
BEGIN:VEVENT
DTSTAMP:20260424T152509Z
DTSTART;TZID=Europe/Berlin:20251011T130000
DTEND;TZID=Europe/Berlin:20251011T160000
SUMMARY:Ligue 4 Silver Star IV vs Carouge III (14)
UID:6c083dfe-cbec-4901-b569-136a6c20e214
STATUS:CONFIRMED
LAST-MODIFIED:20251031T094126Z
DESCRIPTION:4ème ligue jeunesse - Groupe unique\nBegegnungs-Nr: 14\nHeim: Silver Star IV\nGast: Carouge III\n
LOCATION:
CATEGORIES:Saison 2025/26
END:VEVENT
BEGIN:VEVENT
DTSTAMP:20260424T152509Z
DTSTART;TZID=Europe/Berlin:20260328T113000
DTEND;TZID=Europe/Berlin:20260328T143000
SUMMARY:Ligue 4 Silver Star IV vs Versoix II (41)
UID:ed3e7b90-2ae3-4f49-b9c6-1c55e32c5c26
STATUS:CONFIRMED
LAST-MODIFIED:20260331T100714Z
DESCRIPTION:4ème ligue jeunesse - Groupe unique\nBegegnungs-Nr: 41\nHeim: Silver Star IV\nGast: Versoix II\n
LOCATION:
CATEGORIES:Saison 2025/26
END:VEVENT
BEGIN:VEVENT
DTSTAMP:20260424T152509Z
DTSTART;TZID=Europe/Berlin:20251213T093000
DTEND;TZID=Europe/Berlin:20251213T123000
SUMMARY:Ligue 4 Silver Star IV vs UGS-Chênois VI (18)
UID:746e1535-6ff1-4b6b-9b0d-91b44d40f4ee
STATUS:CONFIRMED
LAST-MODIFIED:20251214T090455Z
DESCRIPTION:4ème ligue jeunesse - Groupe unique\nBegegnungs-Nr: 18\nHeim: Silver Star IV\nGast: UGS-Chênois VI\n
LOCATION:
CATEGORIES:Saison 2025/26
END:VEVENT
BEGIN:VEVENT
DTSTAMP:20260424T152509Z
DTSTART;TZID=Europe/Berlin:20251011T130000
DTEND;TZID=Europe/Berlin:20251011T160000
SUMMARY:Ligue 4 Carouge III vs Silver Star IV (13)
UID:6cfa0b27-a69f-4a67-8e16-dfe9c55fe802
STATUS:CONFIRMED
LAST-MODIFIED:20251031T093710Z
DESCRIPTION:4ème ligue jeunesse - Groupe unique\nBegegnungs-Nr: 13\nHeim: Carouge III\nGast: Silver Star IV\n
LOCATION:
CATEGORIES:Saison 2025/26
END:VEVENT
BEGIN:VEVENT
DTSTAMP:20260424T152509Z
DTSTART;TZID=Europe/Berlin:20260328T093000
DTEND;TZID=Europe/Berlin:20260328T123000
SUMMARY:Ligue 4 Châtelaine III vs Silver Star IV (34)
UID:0f2f696b-b7a5-4fcf-8abf-11bf7f6affb9
STATUS:CONFIRMED
LAST-MODIFIED:20260328T103333Z
DESCRIPTION:4ème ligue jeunesse - Groupe unique\nBegegnungs-Nr: 34\nHeim: Châtelaine III\nGast: Silver Star IV\n
LOCATION:
CATEGORIES:Saison 2025/26
END:VEVENT
BEGIN:VEVENT
DTSTAMP:20260424T152509Z
DTSTART;TZID=Europe/Berlin:20251213T113000
DTEND;TZID=Europe/Berlin:20251213T143000
SUMMARY:Ligue 4 Versoix III vs Silver Star IV (24)
UID:f8d7028e-2a71-42b7-8e3c-26e53d7e34de
STATUS:CONFIRMED
LAST-MODIFIED:20251214T085135Z
DESCRIPTION:4ème ligue jeunesse - Groupe unique\nBegegnungs-Nr: 24\nHeim: Versoix III\nGast: Silver Star IV\n
LOCATION:
CATEGORIES:Saison 2025/26
END:VEVENT
END:VCALENDAR
