BEGIN:VCALENDAR
PRODID:-//nuDatenautomaten//framework iCal4j //DE
VERSION:2.0
CALSCALE:GREGORIAN
BEGIN:VTIMEZONE
TZID:Europe/Berlin
LAST-MODIFIED:20260306T231828Z
TZURL:https://www.tzurl.org/zoneinfo/Europe/Berlin
X-LIC-LOCATION:Europe/Berlin
X-PROLEPTIC-TZNAME:LMT
BEGIN:STANDARD
TZNAME:CET
TZOFFSETFROM:+005328
TZOFFSETTO:+0100
DTSTART:18930401T000000
END:STANDARD
BEGIN:DAYLIGHT
TZNAME:CEST
TZOFFSETFROM:+0100
TZOFFSETTO:+0200
DTSTART:19160430T230000
RDATE:19400401T020000
RDATE:19430329T020000
RDATE:19460414T020000
RDATE:19470406T030000
RDATE:19480418T020000
RDATE:19490410T020000
RDATE:19800406T020000
END:DAYLIGHT
BEGIN:STANDARD
TZNAME:CET
TZOFFSETFROM:+0200
TZOFFSETTO:+0100
DTSTART:19161001T010000
RDATE:19421102T030000
RDATE:19431004T030000
RDATE:19441002T030000
RDATE:19451118T030000
RDATE:19461007T030000
END:STANDARD
BEGIN:DAYLIGHT
TZNAME:CEST
TZOFFSETFROM:+0100
TZOFFSETTO:+0200
DTSTART:19170416T020000
RRULE:FREQ=YEARLY;UNTIL=19180415T010000Z;BYMONTH=4;BYDAY=3MO
END:DAYLIGHT
BEGIN:STANDARD
TZNAME:CET
TZOFFSETFROM:+0200
TZOFFSETTO:+0100
DTSTART:19170917T030000
RRULE:FREQ=YEARLY;UNTIL=19180916T010000Z;BYMONTH=9;BYDAY=3MO
END:STANDARD
BEGIN:DAYLIGHT
TZNAME:CEST
TZOFFSETFROM:+0100
TZOFFSETTO:+0200
DTSTART:19440403T020000
RRULE:FREQ=YEARLY;UNTIL=19450402T010000Z;BYMONTH=4;BYDAY=1MO
END:DAYLIGHT
BEGIN:DAYLIGHT
TZNAME:CEMT
TZOFFSETFROM:+0200
TZOFFSETTO:+0300
DTSTART:19450524T020000
RDATE:19470511T030000
END:DAYLIGHT
BEGIN:DAYLIGHT
TZNAME:CEST
TZOFFSETFROM:+0300
TZOFFSETTO:+0200
DTSTART:19450924T030000
RDATE:19470629T030000
END:DAYLIGHT
BEGIN:STANDARD
TZNAME:CET
TZOFFSETFROM:+0100
TZOFFSETTO:+0100
DTSTART:19460101T000000
RDATE:19800101T000000
END:STANDARD
BEGIN:STANDARD
TZNAME:CET
TZOFFSETFROM:+0200
TZOFFSETTO:+0100
DTSTART:19471005T030000
RRULE:FREQ=YEARLY;UNTIL=19491002T010000Z;BYMONTH=10;BYDAY=1SU
END:STANDARD
BEGIN:STANDARD
TZNAME:CET
TZOFFSETFROM:+0200
TZOFFSETTO:+0100
DTSTART:19800928T030000
RRULE:FREQ=YEARLY;UNTIL=19950924T010000Z;BYMONTH=9;BYDAY=-1SU
END:STANDARD
BEGIN:DAYLIGHT
TZNAME:CEST
TZOFFSETFROM:+0100
TZOFFSETTO:+0200
DTSTART:19810329T020000
RRULE:FREQ=YEARLY;BYMONTH=3;BYDAY=-1SU
END:DAYLIGHT
BEGIN:STANDARD
TZNAME:CET
TZOFFSETFROM:+0200
TZOFFSETTO:+0100
DTSTART:19961027T030000
RRULE:FREQ=YEARLY;BYMONTH=10;BYDAY=-1SU
END:STANDARD
END:VTIMEZONE
BEGIN:VEVENT
DTSTAMP:20260424T151109Z
DTSTART;TZID=Europe/Berlin:20260506T200000
DTEND;TZID=Europe/Berlin:20260506T230000
SUMMARY:Ligue 3 Gr.2 Carouge III vs Veyrier (19)
UID:c1d78e2f-bff1-4ac5-b236-60ecabd0aa65
STATUS:CONFIRMED
LAST-MODIFIED:20260108T110350Z
DESCRIPTION:3ème ligue O40 2ème Groupe\nBegegnungs-Nr: 19\nHeim: Carouge III\nGast: Veyrier\n
LOCATION:
CATEGORIES:Saison 2025/26
END:VEVENT
BEGIN:VEVENT
DTSTAMP:20260424T151109Z
DTSTART;TZID=Europe/Berlin:20260204T200000
DTEND;TZID=Europe/Berlin:20260204T230000
SUMMARY:Ligue 3 Gr.2 Carouge III vs Grand-Saconnex II (14)
UID:73eef910-14f0-4b37-a579-08c2b73cf207
STATUS:CONFIRMED
LAST-MODIFIED:20260205T100424Z
DESCRIPTION:3ème ligue O40 2ème Groupe\nBegegnungs-Nr: 14\nHeim: Carouge III\nGast: Grand-Saconnex II\n
LOCATION:
CATEGORIES:Saison 2025/26
END:VEVENT
BEGIN:VEVENT
DTSTAMP:20260424T151109Z
DTSTART;TZID=Europe/Berlin:20250910T200000
DTEND;TZID=Europe/Berlin:20250910T230000
SUMMARY:Ligue 3 Gr.2 Carouge III vs Collex-Bossy (2)
UID:4e9a5b95-8a91-4f0c-96fe-83e83bacee9f
STATUS:CONFIRMED
LAST-MODIFIED:20250911T134950Z
DESCRIPTION:3ème ligue O40 2ème Groupe\nBegegnungs-Nr: 2\nHeim: Carouge III\nGast: Collex-Bossy\n
LOCATION:
CATEGORIES:Saison 2025/26
END:VEVENT
BEGIN:VEVENT
DTSTAMP:20260424T151109Z
DTSTART;TZID=Europe/Berlin:20251105T200000
DTEND;TZID=Europe/Berlin:20251105T230000
SUMMARY:Ligue 3 Gr.2 Carouge III vs Châtelaine III (6)
UID:aba798ad-ea09-4c6b-bb07-4c5919be75c0
STATUS:CONFIRMED
LAST-MODIFIED:20251106T164123Z
DESCRIPTION:3ème ligue O40 2ème Groupe\nBegegnungs-Nr: 6\nHeim: Carouge III\nGast: Châtelaine III\n
LOCATION:
CATEGORIES:Saison 2025/26
END:VEVENT
BEGIN:VEVENT
DTSTAMP:20260424T151109Z
DTSTART;TZID=Europe/Berlin:20260304T194500
DTEND;TZID=Europe/Berlin:20260304T224500
SUMMARY:Ligue 3 Gr.2 Châtelaine III vs Carouge III (16)
UID:207b8d3a-1785-4022-99e4-32ad223908f9
STATUS:CONFIRMED
LAST-MODIFIED:20260305T123109Z
DESCRIPTION:3ème ligue O40 2ème Groupe\nBegegnungs-Nr: 16\nHeim: Châtelaine III\nGast: Carouge III\n
LOCATION:
CATEGORIES:Saison 2025/26
END:VEVENT
BEGIN:VEVENT
DTSTAMP:20260424T151109Z
DTSTART;TZID=Europe/Berlin:20260108T194500
DTEND;TZID=Europe/Berlin:20260108T224500
SUMMARY:Ligue 3 Gr.2 Collex-Bossy vs Carouge III (12)
UID:c1cab47e-432f-4e75-aaed-3dcd847d8fb7
STATUS:CONFIRMED
LAST-MODIFIED:20260109T080206Z
DESCRIPTION:3ème ligue O40 2ème Groupe\nBegegnungs-Nr: 12\nHeim: Collex-Bossy\nGast: Carouge III\n
LOCATION:
CATEGORIES:Saison 2025/26
END:VEVENT
BEGIN:VEVENT
DTSTAMP:20260424T151109Z
DTSTART;TZID=Europe/Berlin:20251217T194500
DTEND;TZID=Europe/Berlin:20251217T224500
SUMMARY:Ligue 3 Gr.2 Veyrier vs Carouge III (9)
UID:b3c34195-aeb6-4910-8a8a-0fe2e3055e5a
STATUS:CONFIRMED
LAST-MODIFIED:20251218T093901Z
DESCRIPTION:3ème ligue O40 2ème Groupe\nBegegnungs-Nr: 9\nHeim: Veyrier\nGast: Carouge III\n\nAdresse: -\, 1255 Veyrier\n
LOCATION:-\, 1255 Veyrier
CATEGORIES:Saison 2025/26
END:VEVENT
BEGIN:VEVENT
DTSTAMP:20260424T151109Z
DTSTART;TZID=Europe/Berlin:20251001T194500
DTEND;TZID=Europe/Berlin:20251001T224500
SUMMARY:Ligue 3 Gr.2 Grand-Saconnex II vs Carouge III (4)
UID:5f85e85d-1e71-488b-89c0-a970e48e6d74
STATUS:CONFIRMED
LAST-MODIFIED:20251002T085249Z
DESCRIPTION:3ème ligue O40 2ème Groupe\nBegegnungs-Nr: 4\nHeim: Grand-Saconnex II\nGast: Carouge III\n
LOCATION:
CATEGORIES:Saison 2025/26
END:VEVENT
END:VCALENDAR
