BEGIN:VCALENDAR
PRODID:-//nuDatenautomaten//framework iCal4j //DE
VERSION:2.0
CALSCALE:GREGORIAN
BEGIN:VTIMEZONE
TZID:Europe/Berlin
LAST-MODIFIED:20260306T231828Z
TZURL:https://www.tzurl.org/zoneinfo/Europe/Berlin
X-LIC-LOCATION:Europe/Berlin
X-PROLEPTIC-TZNAME:LMT
BEGIN:STANDARD
TZNAME:CET
TZOFFSETFROM:+005328
TZOFFSETTO:+0100
DTSTART:18930401T000000
END:STANDARD
BEGIN:DAYLIGHT
TZNAME:CEST
TZOFFSETFROM:+0100
TZOFFSETTO:+0200
DTSTART:19160430T230000
RDATE:19400401T020000
RDATE:19430329T020000
RDATE:19460414T020000
RDATE:19470406T030000
RDATE:19480418T020000
RDATE:19490410T020000
RDATE:19800406T020000
END:DAYLIGHT
BEGIN:STANDARD
TZNAME:CET
TZOFFSETFROM:+0200
TZOFFSETTO:+0100
DTSTART:19161001T010000
RDATE:19421102T030000
RDATE:19431004T030000
RDATE:19441002T030000
RDATE:19451118T030000
RDATE:19461007T030000
END:STANDARD
BEGIN:DAYLIGHT
TZNAME:CEST
TZOFFSETFROM:+0100
TZOFFSETTO:+0200
DTSTART:19170416T020000
RRULE:FREQ=YEARLY;UNTIL=19180415T010000Z;BYMONTH=4;BYDAY=3MO
END:DAYLIGHT
BEGIN:STANDARD
TZNAME:CET
TZOFFSETFROM:+0200
TZOFFSETTO:+0100
DTSTART:19170917T030000
RRULE:FREQ=YEARLY;UNTIL=19180916T010000Z;BYMONTH=9;BYDAY=3MO
END:STANDARD
BEGIN:DAYLIGHT
TZNAME:CEST
TZOFFSETFROM:+0100
TZOFFSETTO:+0200
DTSTART:19440403T020000
RRULE:FREQ=YEARLY;UNTIL=19450402T010000Z;BYMONTH=4;BYDAY=1MO
END:DAYLIGHT
BEGIN:DAYLIGHT
TZNAME:CEMT
TZOFFSETFROM:+0200
TZOFFSETTO:+0300
DTSTART:19450524T020000
RDATE:19470511T030000
END:DAYLIGHT
BEGIN:DAYLIGHT
TZNAME:CEST
TZOFFSETFROM:+0300
TZOFFSETTO:+0200
DTSTART:19450924T030000
RDATE:19470629T030000
END:DAYLIGHT
BEGIN:STANDARD
TZNAME:CET
TZOFFSETFROM:+0100
TZOFFSETTO:+0100
DTSTART:19460101T000000
RDATE:19800101T000000
END:STANDARD
BEGIN:STANDARD
TZNAME:CET
TZOFFSETFROM:+0200
TZOFFSETTO:+0100
DTSTART:19471005T030000
RRULE:FREQ=YEARLY;UNTIL=19491002T010000Z;BYMONTH=10;BYDAY=1SU
END:STANDARD
BEGIN:STANDARD
TZNAME:CET
TZOFFSETFROM:+0200
TZOFFSETTO:+0100
DTSTART:19800928T030000
RRULE:FREQ=YEARLY;UNTIL=19950924T010000Z;BYMONTH=9;BYDAY=-1SU
END:STANDARD
BEGIN:DAYLIGHT
TZNAME:CEST
TZOFFSETFROM:+0100
TZOFFSETTO:+0200
DTSTART:19810329T020000
RRULE:FREQ=YEARLY;BYMONTH=3;BYDAY=-1SU
END:DAYLIGHT
BEGIN:STANDARD
TZNAME:CET
TZOFFSETFROM:+0200
TZOFFSETTO:+0100
DTSTART:19961027T030000
RRULE:FREQ=YEARLY;BYMONTH=10;BYDAY=-1SU
END:STANDARD
END:VTIMEZONE
BEGIN:VEVENT
DTSTAMP:20260424T151707Z
DTSTART;TZID=Europe/Berlin:20260326T200000
DTEND;TZID=Europe/Berlin:20260326T230000
SUMMARY:HE 3. Liga Gr. 2 Gaiserwald II vs St. Gallen IV (0)
UID:b3997f90-5960-436c-b016-704c12cc2b9b
STATUS:CONFIRMED
LAST-MODIFIED:20260401T121538Z
DESCRIPTION:3. Liga Herren Gruppe 2\nBegegnungs-Nr: 0\nHeim: Gaiserwald II\nGast: St. Gallen IV\n\nAdresse: Sonnenbergstrasse 15\, 9030 Abtwil\n
LOCATION:Sonnenbergstrasse 15\, 9030 Abtwil
CATEGORIES:Saison 2025/26
END:VEVENT
BEGIN:VEVENT
DTSTAMP:20260424T151707Z
DTSTART;TZID=Europe/Berlin:20251030T200000
DTEND;TZID=Europe/Berlin:20251030T230000
SUMMARY:HE 3. Liga Gr. 2 Gaiserwald II vs Bronschhofen III (0)
UID:94122aa6-7df9-4f62-b676-5dd8ac5ba1a8
STATUS:CONFIRMED
LAST-MODIFIED:20251031T143013Z
DESCRIPTION:3. Liga Herren Gruppe 2\nBegegnungs-Nr: 0\nHeim: Gaiserwald II\nGast: Bronschhofen III\n\nAdresse: Sonnenbergstrasse 15\, 9030 Abtwil\n
LOCATION:Sonnenbergstrasse 15\, 9030 Abtwil
CATEGORIES:Saison 2025/26
END:VEVENT
BEGIN:VEVENT
DTSTAMP:20260424T151707Z
DTSTART;TZID=Europe/Berlin:20251204T200000
DTEND;TZID=Europe/Berlin:20251204T230000
SUMMARY:HE 3. Liga Gr. 2 Gaiserwald II vs Ettenhausen (0)
UID:43bda7ee-c88c-4d30-bc3a-b67612be4903
STATUS:CONFIRMED
LAST-MODIFIED:20251205T125235Z
DESCRIPTION:3. Liga Herren Gruppe 2\nBegegnungs-Nr: 0\nHeim: Gaiserwald II\nGast: Ettenhausen\n\nAdresse: Sonnenbergstrasse 15\, 9030 Abtwil\n
LOCATION:Sonnenbergstrasse 15\, 9030 Abtwil
CATEGORIES:Saison 2025/26
END:VEVENT
BEGIN:VEVENT
DTSTAMP:20260424T151707Z
DTSTART;TZID=Europe/Berlin:20260108T200000
DTEND;TZID=Europe/Berlin:20260108T230000
SUMMARY:HE 3. Liga Gr. 2 Gaiserwald II vs Wil SG III (0)
UID:a3948b28-7aa3-4e49-9422-fee0e1182f89
STATUS:CONFIRMED
LAST-MODIFIED:20260112T090649Z
DESCRIPTION:3. Liga Herren Gruppe 2\nBegegnungs-Nr: 0\nHeim: Gaiserwald II\nGast: Wil SG III\n\nAdresse: Sonnenbergstrasse 15\, 9030 Abtwil\n
LOCATION:Sonnenbergstrasse 15\, 9030 Abtwil
CATEGORIES:Saison 2025/26
END:VEVENT
BEGIN:VEVENT
DTSTAMP:20260424T151707Z
DTSTART;TZID=Europe/Berlin:20250904T200000
DTEND;TZID=Europe/Berlin:20250904T230000
SUMMARY:HE 3. Liga Gr. 2 Gaiserwald II vs Steckborn-Homburg II (0)
UID:7e3c3032-a8bb-4f2c-b35c-3193abab8221
STATUS:CONFIRMED
LAST-MODIFIED:20250905T135543Z
DESCRIPTION:3. Liga Herren Gruppe 2\nBegegnungs-Nr: 0\nHeim: Gaiserwald II\nGast: Steckborn-Homburg II\n\nAdresse: Sonnenbergstrasse 15\, 9030 Abtwil\n
LOCATION:Sonnenbergstrasse 15\, 9030 Abtwil
CATEGORIES:Saison 2025/26
END:VEVENT
BEGIN:VEVENT
DTSTAMP:20260424T151707Z
DTSTART;TZID=Europe/Berlin:20250925T200000
DTEND;TZID=Europe/Berlin:20250925T230000
SUMMARY:HE 3. Liga Gr. 2 Gaiserwald II vs Herisau (0)
UID:7325c709-3667-4fec-835d-3a24e49e06d4
STATUS:CONFIRMED
LAST-MODIFIED:20250926T125947Z
DESCRIPTION:3. Liga Herren Gruppe 2\nBegegnungs-Nr: 0\nHeim: Gaiserwald II\nGast: Herisau\n\nAdresse: Sonnenbergstrasse 15\, 9030 Abtwil\n
LOCATION:Sonnenbergstrasse 15\, 9030 Abtwil
CATEGORIES:Saison 2025/26
END:VEVENT
BEGIN:VEVENT
DTSTAMP:20260424T151707Z
DTSTART;TZID=Europe/Berlin:20260205T200000
DTEND;TZID=Europe/Berlin:20260205T230000
SUMMARY:HE 3. Liga Gr. 2 Gaiserwald II vs Wallenwil (0)
UID:085eef2d-0be6-482b-b55d-3723ec57fdef
STATUS:CONFIRMED
LAST-MODIFIED:20260206T135151Z
DESCRIPTION:3. Liga Herren Gruppe 2\nBegegnungs-Nr: 0\nHeim: Gaiserwald II\nGast: Wallenwil\n\nAdresse: Sonnenbergstrasse 15\, 9030 Abtwil\n
LOCATION:Sonnenbergstrasse 15\, 9030 Abtwil
CATEGORIES:Saison 2025/26
END:VEVENT
BEGIN:VEVENT
DTSTAMP:20260424T151707Z
DTSTART;TZID=Europe/Berlin:20260321T140000
DTEND;TZID=Europe/Berlin:20260321T170000
SUMMARY:HE 3. Liga Gr. 2 Ettenhausen vs Gaiserwald II (0)
UID:8993f5db-ecea-4350-83f7-0c8d0a3f9933
STATUS:CONFIRMED
LAST-MODIFIED:20260326T134954Z
DESCRIPTION:3. Liga Herren Gruppe 2\nBegegnungs-Nr: 0\nHeim: Ettenhausen\nGast: Gaiserwald II\n\nAdresse: Weidlistrasse 12\, 8356 Ettenhausen\n
LOCATION:Weidlistrasse 12\, 8356 Ettenhausen
CATEGORIES:Saison 2025/26
END:VEVENT
BEGIN:VEVENT
DTSTAMP:20260424T151707Z
DTSTART;TZID=Europe/Berlin:20251107T200000
DTEND;TZID=Europe/Berlin:20251107T230000
SUMMARY:HE 3. Liga Gr. 2 St. Gallen IV vs Gaiserwald II (0)
UID:034af863-bba7-43e7-a09d-d5cc331525da
STATUS:CONFIRMED
LAST-MODIFIED:20251114T165310Z
DESCRIPTION:3. Liga Herren Gruppe 2\nBegegnungs-Nr: 0\nHeim: St. Gallen IV\nGast: Gaiserwald II\n\nAdresse: Zilstrasse 61\, 9016 St.Gallen\n
LOCATION:Zilstrasse 61\, 9016 St.Gallen
CATEGORIES:Saison 2025/26
END:VEVENT
BEGIN:VEVENT
DTSTAMP:20260424T151707Z
DTSTART;TZID=Europe/Berlin:20260123T194500
DTEND;TZID=Europe/Berlin:20260123T224500
SUMMARY:HE 3. Liga Gr. 2 Steckborn-Homburg II vs Gaiserwald II (0)
UID:4989ac85-7140-4bfe-afbb-0b91ef001cba
STATUS:CONFIRMED
LAST-MODIFIED:20260127T134514Z
DESCRIPTION:3. Liga Herren Gruppe 2\nBegegnungs-Nr: 0\nHeim: Steckborn-Homburg II\nGast: Gaiserwald II\n\nAdresse: Schulstrasse 4\, 8508 Unterhörstetten\n
LOCATION:Schulstrasse 4\, 8508 Unterhörstetten
CATEGORIES:Saison 2025/26
END:VEVENT
BEGIN:VEVENT
DTSTAMP:20260424T151707Z
DTSTART;TZID=Europe/Berlin:20250827T201500
DTEND;TZID=Europe/Berlin:20250827T231500
SUMMARY:HE 3. Liga Gr. 2 Wil SG III vs Gaiserwald II (0)
UID:bd549aa4-2ac1-4b9c-a35f-433ccff9a399
STATUS:CONFIRMED
LAST-MODIFIED:20250829T143041Z
DESCRIPTION:3. Liga Herren Gruppe 2\nBegegnungs-Nr: 0\nHeim: Wil SG III\nGast: Gaiserwald II\n\nAdresse: Lindenhofstr. 23\, 9500 Wil\n
LOCATION:Lindenhofstr. 23\, 9500 Wil
CATEGORIES:Saison 2025/26
END:VEVENT
BEGIN:VEVENT
DTSTAMP:20260424T151707Z
DTSTART;TZID=Europe/Berlin:20250918T201500
DTEND;TZID=Europe/Berlin:20250918T231500
SUMMARY:HE 3. Liga Gr. 2 Wallenwil vs Gaiserwald II (0)
UID:f6ed3e21-e0cd-45f6-b0a1-e80bcd2f51b6
STATUS:CONFIRMED
LAST-MODIFIED:20250926T125923Z
DESCRIPTION:3. Liga Herren Gruppe 2\nBegegnungs-Nr: 0\nHeim: Wallenwil\nGast: Gaiserwald II\n\nAdresse: Stationsstrasse 29\, 8360 Wallenwil\n
LOCATION:Stationsstrasse 29\, 8360 Wallenwil
CATEGORIES:Saison 2025/26
END:VEVENT
BEGIN:VEVENT
DTSTAMP:20260424T151707Z
DTSTART;TZID=Europe/Berlin:20260320T200000
DTEND;TZID=Europe/Berlin:20260320T230000
SUMMARY:HE 3. Liga Gr. 2 Herisau vs Gaiserwald II (0)
UID:db337055-4c90-4605-b9f9-8465f507b72e
STATUS:CONFIRMED
LAST-MODIFIED:20260326T134938Z
DESCRIPTION:3. Liga Herren Gruppe 2\nBegegnungs-Nr: 0\nHeim: Herisau\nGast: Gaiserwald II\n\nAdresse: Schwellbrunnerstrasse 29\, 9100 Herisau\n
LOCATION:Schwellbrunnerstrasse 29\, 9100 Herisau
CATEGORIES:Saison 2025/26
END:VEVENT
BEGIN:VEVENT
DTSTAMP:20260424T151707Z
DTSTART;TZID=Europe/Berlin:20260311T200000
DTEND;TZID=Europe/Berlin:20260311T230000
SUMMARY:HE 3. Liga Gr. 2 Bronschhofen III vs Gaiserwald II (0)
UID:81f77f8c-560a-4ef5-a5ea-a4745162a313
STATUS:CONFIRMED
LAST-MODIFIED:20260317T133528Z
DESCRIPTION:3. Liga Herren Gruppe 2\nBegegnungs-Nr: 0\nHeim: Bronschhofen III\nGast: Gaiserwald II\n\nAdresse: Industriestrasse 4\, 9552 Bronschhofen\n
LOCATION:Industriestrasse 4\, 9552 Bronschhofen
CATEGORIES:Saison 2025/26
END:VEVENT
END:VCALENDAR
