BEGIN:VCALENDAR
PRODID:-//nuDatenautomaten//framework iCal4j //DE
VERSION:2.0
CALSCALE:GREGORIAN
BEGIN:VTIMEZONE
TZID:Europe/Berlin
LAST-MODIFIED:20260306T231828Z
TZURL:https://www.tzurl.org/zoneinfo/Europe/Berlin
X-LIC-LOCATION:Europe/Berlin
X-PROLEPTIC-TZNAME:LMT
BEGIN:STANDARD
TZNAME:CET
TZOFFSETFROM:+005328
TZOFFSETTO:+0100
DTSTART:18930401T000000
END:STANDARD
BEGIN:DAYLIGHT
TZNAME:CEST
TZOFFSETFROM:+0100
TZOFFSETTO:+0200
DTSTART:19160430T230000
RDATE:19400401T020000
RDATE:19430329T020000
RDATE:19460414T020000
RDATE:19470406T030000
RDATE:19480418T020000
RDATE:19490410T020000
RDATE:19800406T020000
END:DAYLIGHT
BEGIN:STANDARD
TZNAME:CET
TZOFFSETFROM:+0200
TZOFFSETTO:+0100
DTSTART:19161001T010000
RDATE:19421102T030000
RDATE:19431004T030000
RDATE:19441002T030000
RDATE:19451118T030000
RDATE:19461007T030000
END:STANDARD
BEGIN:DAYLIGHT
TZNAME:CEST
TZOFFSETFROM:+0100
TZOFFSETTO:+0200
DTSTART:19170416T020000
RRULE:FREQ=YEARLY;UNTIL=19180415T010000Z;BYMONTH=4;BYDAY=3MO
END:DAYLIGHT
BEGIN:STANDARD
TZNAME:CET
TZOFFSETFROM:+0200
TZOFFSETTO:+0100
DTSTART:19170917T030000
RRULE:FREQ=YEARLY;UNTIL=19180916T010000Z;BYMONTH=9;BYDAY=3MO
END:STANDARD
BEGIN:DAYLIGHT
TZNAME:CEST
TZOFFSETFROM:+0100
TZOFFSETTO:+0200
DTSTART:19440403T020000
RRULE:FREQ=YEARLY;UNTIL=19450402T010000Z;BYMONTH=4;BYDAY=1MO
END:DAYLIGHT
BEGIN:DAYLIGHT
TZNAME:CEMT
TZOFFSETFROM:+0200
TZOFFSETTO:+0300
DTSTART:19450524T020000
RDATE:19470511T030000
END:DAYLIGHT
BEGIN:DAYLIGHT
TZNAME:CEST
TZOFFSETFROM:+0300
TZOFFSETTO:+0200
DTSTART:19450924T030000
RDATE:19470629T030000
END:DAYLIGHT
BEGIN:STANDARD
TZNAME:CET
TZOFFSETFROM:+0100
TZOFFSETTO:+0100
DTSTART:19460101T000000
RDATE:19800101T000000
END:STANDARD
BEGIN:STANDARD
TZNAME:CET
TZOFFSETFROM:+0200
TZOFFSETTO:+0100
DTSTART:19471005T030000
RRULE:FREQ=YEARLY;UNTIL=19491002T010000Z;BYMONTH=10;BYDAY=1SU
END:STANDARD
BEGIN:STANDARD
TZNAME:CET
TZOFFSETFROM:+0200
TZOFFSETTO:+0100
DTSTART:19800928T030000
RRULE:FREQ=YEARLY;UNTIL=19950924T010000Z;BYMONTH=9;BYDAY=-1SU
END:STANDARD
BEGIN:DAYLIGHT
TZNAME:CEST
TZOFFSETFROM:+0100
TZOFFSETTO:+0200
DTSTART:19810329T020000
RRULE:FREQ=YEARLY;BYMONTH=3;BYDAY=-1SU
END:DAYLIGHT
BEGIN:STANDARD
TZNAME:CET
TZOFFSETFROM:+0200
TZOFFSETTO:+0100
DTSTART:19961027T030000
RRULE:FREQ=YEARLY;BYMONTH=10;BYDAY=-1SU
END:STANDARD
END:VTIMEZONE
BEGIN:VEVENT
DTSTAMP:20260424T083922Z
DTSTART;TZID=Europe/Berlin:20250917T200000
DTEND;TZID=Europe/Berlin:20250917T230000
SUMMARY:HE 3. Liga Gr. 2 Langnau II vs Ittigen (7)
UID:013d439f-226b-49f7-97f8-7b8636c5b16d
STATUS:CONFIRMED
LAST-MODIFIED:20250921T150437Z
DESCRIPTION:3. Liga Herren Gruppe 2\nBegegnungs-Nr: 7\nHeim: Langnau II\nGast: Ittigen\n\nAdresse: Bleicheweg 11\, 3550 Langnau\n
LOCATION:Bleicheweg 11\, 3550 Langnau
CATEGORIES:Saison 2025/26
END:VEVENT
BEGIN:VEVENT
DTSTAMP:20260424T083922Z
DTSTART;TZID=Europe/Berlin:20251208T200000
DTEND;TZID=Europe/Berlin:20251208T230000
SUMMARY:HE 3. Liga Gr. 2 Langnau II vs Bern IV (27)
UID:3d80bc9f-aa3d-4027-9bef-b626b7cab489
STATUS:CONFIRMED
LAST-MODIFIED:20251216T120342Z
DESCRIPTION:3. Liga Herren Gruppe 2\nBegegnungs-Nr: 27\nHeim: Langnau II\nGast: Bern IV\n\nAdresse: Bleicheweg 11\, 3550 Langnau\n
LOCATION:Bleicheweg 11\, 3550 Langnau
CATEGORIES:Saison 2025/26
END:VEVENT
BEGIN:VEVENT
DTSTAMP:20260424T083922Z
DTSTART;TZID=Europe/Berlin:20251119T200000
DTEND;TZID=Europe/Berlin:20251119T230000
SUMMARY:HE 3. Liga Gr. 2 Langnau II vs Heimberg V (19)
UID:b2e30575-c00f-45c9-92bc-a2d885d3f38a
STATUS:CONFIRMED
LAST-MODIFIED:20251122T090821Z
DESCRIPTION:3. Liga Herren Gruppe 2\nBegegnungs-Nr: 19\nHeim: Langnau II\nGast: Heimberg V\n\nAdresse: Bleicheweg 11\, 3550 Langnau\n
LOCATION:Bleicheweg 11\, 3550 Langnau
CATEGORIES:Saison 2025/26
END:VEVENT
BEGIN:VEVENT
DTSTAMP:20260424T083922Z
DTSTART;TZID=Europe/Berlin:20251108T140000
DTEND;TZID=Europe/Berlin:20251108T170000
SUMMARY:HE 3. Liga Gr. 2 Langnau II vs Münchenbuchsee II (13)
UID:3ec4e5ac-d9de-4a46-82c0-c5bbf62f489b
STATUS:CONFIRMED
LAST-MODIFIED:20251115T171651Z
DESCRIPTION:3. Liga Herren Gruppe 2\nBegegnungs-Nr: 13\nHeim: Langnau II\nGast: Münchenbuchsee II\n\nAdresse: Bleicheweg 11\, 3550 Langnau\n
LOCATION:Bleicheweg 11\, 3550 Langnau
CATEGORIES:Saison 2025/26
END:VEVENT
BEGIN:VEVENT
DTSTAMP:20260424T083922Z
DTSTART;TZID=Europe/Berlin:20260314T140000
DTEND;TZID=Europe/Berlin:20260314T170000
SUMMARY:HE 3. Liga Gr. 2 Langnau II vs Ostermundigen IV (23)
UID:8297ad73-4e3a-4ae7-9643-82dd41cef20c
STATUS:CONFIRMED
LAST-MODIFIED:20260315T225919Z
DESCRIPTION:3. Liga Herren Gruppe 2\nBegegnungs-Nr: 23\nHeim: Langnau II\nGast: Ostermundigen IV\n\nAdresse: Bleicheweg 11\, 3550 Langnau\n
LOCATION:Bleicheweg 11\, 3550 Langnau
CATEGORIES:Saison 2025/26
END:VEVENT
BEGIN:VEVENT
DTSTAMP:20260424T083922Z
DTSTART;TZID=Europe/Berlin:20260204T200000
DTEND;TZID=Europe/Berlin:20260204T230000
SUMMARY:HE 3. Liga Gr. 2 Langnau II vs Düdingen (12)
UID:8745682c-cf9b-48f8-8c4a-eb8f285bdc2e
STATUS:CONFIRMED
LAST-MODIFIED:20260217T213045Z
DESCRIPTION:3. Liga Herren Gruppe 2\nBegegnungs-Nr: 12\nHeim: Langnau II\nGast: Düdingen\n\nAdresse: Bleicheweg 11\, 3550 Langnau\n
LOCATION:Bleicheweg 11\, 3550 Langnau
CATEGORIES:Saison 2025/26
END:VEVENT
BEGIN:VEVENT
DTSTAMP:20260424T083922Z
DTSTART;TZID=Europe/Berlin:20260110T140000
DTEND;TZID=Europe/Berlin:20260110T170000
SUMMARY:HE 3. Liga Gr. 2 Langnau II vs Aarberg II (2)
UID:8ac6505b-32c4-4c95-b115-432fca0f72a7
STATUS:CONFIRMED
LAST-MODIFIED:20260125T000452Z
DESCRIPTION:3. Liga Herren Gruppe 2\nBegegnungs-Nr: 2\nHeim: Langnau II\nGast: Aarberg II\n\nAdresse: Bleicheweg 11\, 3550 Langnau\n
LOCATION:Bleicheweg 11\, 3550 Langnau
CATEGORIES:Saison 2025/26
END:VEVENT
BEGIN:VEVENT
DTSTAMP:20260424T083922Z
DTSTART;TZID=Europe/Berlin:20251218T200000
DTEND;TZID=Europe/Berlin:20251218T230000
SUMMARY:HE 3. Liga Gr. 2 Ostermundigen IV vs Langnau II (23)
UID:a16009e3-2a0a-4a8a-9295-2041fbd9c0ee
STATUS:CONFIRMED
LAST-MODIFIED:20251223T090848Z
DESCRIPTION:3. Liga Herren Gruppe 2\nBegegnungs-Nr: 23\nHeim: Ostermundigen IV\nGast: Langnau II\n
LOCATION:
CATEGORIES:Saison 2025/26
END:VEVENT
BEGIN:VEVENT
DTSTAMP:20260424T083922Z
DTSTART;TZID=Europe/Berlin:20250826T201500
DTEND;TZID=Europe/Berlin:20250826T231500
SUMMARY:HE 3. Liga Gr. 2 Aarberg II vs Langnau II (2)
UID:5085e6a9-846d-41c5-b3bc-0b6cc917d1d1
STATUS:CONFIRMED
LAST-MODIFIED:20250828T192406Z
DESCRIPTION:3. Liga Herren Gruppe 2\nBegegnungs-Nr: 2\nHeim: Aarberg II\nGast: Langnau II\n\nAdresse: Nidaustrasse 7\, 3270 Aarberg\n
LOCATION:Nidaustrasse 7\, 3270 Aarberg
CATEGORIES:Saison 2025/26
END:VEVENT
BEGIN:VEVENT
DTSTAMP:20260424T083922Z
DTSTART;TZID=Europe/Berlin:20251023T200000
DTEND;TZID=Europe/Berlin:20251023T230000
SUMMARY:HE 3. Liga Gr. 2 Düdingen vs Langnau II (12)
UID:12e22d05-78c0-43b7-a4cf-64c139aa33af
STATUS:CONFIRMED
LAST-MODIFIED:20251029T220824Z
DESCRIPTION:3. Liga Herren Gruppe 2\nBegegnungs-Nr: 12\nHeim: Düdingen\nGast: Langnau II\n\nAdresse: Alfons-Aeby-Strasse\, 3186 Düdingen\n
LOCATION:Alfons-Aeby-Strasse\, 3186 Düdingen
CATEGORIES:Saison 2025/26
END:VEVENT
BEGIN:VEVENT
DTSTAMP:20260424T083922Z
DTSTART;TZID=Europe/Berlin:20260325T193000
DTEND;TZID=Europe/Berlin:20260325T223000
SUMMARY:HE 3. Liga Gr. 2 Bern IV vs Langnau II (27)
UID:d0ffedad-e0ff-4cfc-8473-0a34475c9e9f
STATUS:CONFIRMED
LAST-MODIFIED:20260409T115101Z
DESCRIPTION:3. Liga Herren Gruppe 2\nBegegnungs-Nr: 27\nHeim: Bern IV\nGast: Langnau II\n\nAdresse: Papiermühlestrasse 81\, 3014 Bern\n
LOCATION:Papiermühlestrasse 81\, 3014 Bern
CATEGORIES:Saison 2025/26
END:VEVENT
BEGIN:VEVENT
DTSTAMP:20260424T083922Z
DTSTART;TZID=Europe/Berlin:20260307T170000
DTEND;TZID=Europe/Berlin:20260307T200000
SUMMARY:HE 3. Liga Gr. 2 Heimberg V vs Langnau II (19)
UID:d2083652-81eb-4033-865c-7ff7801d928c
STATUS:CONFIRMED
LAST-MODIFIED:20260308T173817Z
DESCRIPTION:3. Liga Herren Gruppe 2\nBegegnungs-Nr: 19\nHeim: Heimberg V\nGast: Langnau II\n\nAdresse: Niesenstrasse 38\, 3627 Heimberg\n
LOCATION:Niesenstrasse 38\, 3627 Heimberg
CATEGORIES:Saison 2025/26
END:VEVENT
BEGIN:VEVENT
DTSTAMP:20260424T083922Z
DTSTART;TZID=Europe/Berlin:20260218T200000
DTEND;TZID=Europe/Berlin:20260218T230000
SUMMARY:HE 3. Liga Gr. 2 Münchenbuchsee II vs Langnau II (13)
UID:d4dcf8e6-a369-45a1-b690-21376c57dabc
STATUS:CONFIRMED
LAST-MODIFIED:20260220T123233Z
DESCRIPTION:3. Liga Herren Gruppe 2\nBegegnungs-Nr: 13\nHeim: Münchenbuchsee II\nGast: Langnau II\n\nAdresse: Laubbergweg 41\, 3053 Münchenbuchsee\n
LOCATION:Laubbergweg 41\, 3053 Münchenbuchsee
CATEGORIES:Saison 2025/26
END:VEVENT
BEGIN:VEVENT
DTSTAMP:20260424T083922Z
DTSTART;TZID=Europe/Berlin:20260126T194500
DTEND;TZID=Europe/Berlin:20260126T224500
SUMMARY:HE 3. Liga Gr. 2 Ittigen vs Langnau II (7)
UID:0826ba26-adb9-489b-922a-17f9bcbe68ae
STATUS:CONFIRMED
LAST-MODIFIED:20260217T213009Z
DESCRIPTION:3. Liga Herren Gruppe 2\nBegegnungs-Nr: 7\nHeim: Ittigen\nGast: Langnau II\n\nAdresse: Fischrainweg 17\, 3048 Worblaufen\n
LOCATION:Fischrainweg 17\, 3048 Worblaufen
CATEGORIES:Saison 2025/26
END:VEVENT
END:VCALENDAR
