BEGIN:VCALENDAR
PRODID:-//nuDatenautomaten//framework iCal4j //DE
VERSION:2.0
CALSCALE:GREGORIAN
BEGIN:VTIMEZONE
TZID:Europe/Berlin
LAST-MODIFIED:20260306T231828Z
TZURL:https://www.tzurl.org/zoneinfo/Europe/Berlin
X-LIC-LOCATION:Europe/Berlin
X-PROLEPTIC-TZNAME:LMT
BEGIN:STANDARD
TZNAME:CET
TZOFFSETFROM:+005328
TZOFFSETTO:+0100
DTSTART:18930401T000000
END:STANDARD
BEGIN:DAYLIGHT
TZNAME:CEST
TZOFFSETFROM:+0100
TZOFFSETTO:+0200
DTSTART:19160430T230000
RDATE:19400401T020000
RDATE:19430329T020000
RDATE:19460414T020000
RDATE:19470406T030000
RDATE:19480418T020000
RDATE:19490410T020000
RDATE:19800406T020000
END:DAYLIGHT
BEGIN:STANDARD
TZNAME:CET
TZOFFSETFROM:+0200
TZOFFSETTO:+0100
DTSTART:19161001T010000
RDATE:19421102T030000
RDATE:19431004T030000
RDATE:19441002T030000
RDATE:19451118T030000
RDATE:19461007T030000
END:STANDARD
BEGIN:DAYLIGHT
TZNAME:CEST
TZOFFSETFROM:+0100
TZOFFSETTO:+0200
DTSTART:19170416T020000
RRULE:FREQ=YEARLY;UNTIL=19180415T010000Z;BYMONTH=4;BYDAY=3MO
END:DAYLIGHT
BEGIN:STANDARD
TZNAME:CET
TZOFFSETFROM:+0200
TZOFFSETTO:+0100
DTSTART:19170917T030000
RRULE:FREQ=YEARLY;UNTIL=19180916T010000Z;BYMONTH=9;BYDAY=3MO
END:STANDARD
BEGIN:DAYLIGHT
TZNAME:CEST
TZOFFSETFROM:+0100
TZOFFSETTO:+0200
DTSTART:19440403T020000
RRULE:FREQ=YEARLY;UNTIL=19450402T010000Z;BYMONTH=4;BYDAY=1MO
END:DAYLIGHT
BEGIN:DAYLIGHT
TZNAME:CEMT
TZOFFSETFROM:+0200
TZOFFSETTO:+0300
DTSTART:19450524T020000
RDATE:19470511T030000
END:DAYLIGHT
BEGIN:DAYLIGHT
TZNAME:CEST
TZOFFSETFROM:+0300
TZOFFSETTO:+0200
DTSTART:19450924T030000
RDATE:19470629T030000
END:DAYLIGHT
BEGIN:STANDARD
TZNAME:CET
TZOFFSETFROM:+0100
TZOFFSETTO:+0100
DTSTART:19460101T000000
RDATE:19800101T000000
END:STANDARD
BEGIN:STANDARD
TZNAME:CET
TZOFFSETFROM:+0200
TZOFFSETTO:+0100
DTSTART:19471005T030000
RRULE:FREQ=YEARLY;UNTIL=19491002T010000Z;BYMONTH=10;BYDAY=1SU
END:STANDARD
BEGIN:STANDARD
TZNAME:CET
TZOFFSETFROM:+0200
TZOFFSETTO:+0100
DTSTART:19800928T030000
RRULE:FREQ=YEARLY;UNTIL=19950924T010000Z;BYMONTH=9;BYDAY=-1SU
END:STANDARD
BEGIN:DAYLIGHT
TZNAME:CEST
TZOFFSETFROM:+0100
TZOFFSETTO:+0200
DTSTART:19810329T020000
RRULE:FREQ=YEARLY;BYMONTH=3;BYDAY=-1SU
END:DAYLIGHT
BEGIN:STANDARD
TZNAME:CET
TZOFFSETFROM:+0200
TZOFFSETTO:+0100
DTSTART:19961027T030000
RRULE:FREQ=YEARLY;BYMONTH=10;BYDAY=-1SU
END:STANDARD
END:VTIMEZONE
BEGIN:VEVENT
DTSTAMP:20260424T151710Z
DTSTART;TZID=Europe/Berlin:20260109T200000
DTEND;TZID=Europe/Berlin:20260109T230000
SUMMARY:HE 4. Liga Gr. 1 Rorschach vs Romanshorn III (0)
UID:8c9b7c5e-7940-4685-89e1-0b79d4e25aa3
STATUS:CONFIRMED
LAST-MODIFIED:20260112T091722Z
DESCRIPTION:4. Liga Herren Gruppe 1\nBegegnungs-Nr: 0\nHeim: Rorschach\nGast: Romanshorn III\n\nAdresse: Mariabergstrasse 33\, 9400 Rorschach\n
LOCATION:Mariabergstrasse 33\, 9400 Rorschach
CATEGORIES:Saison 2025/26
END:VEVENT
BEGIN:VEVENT
DTSTAMP:20260424T151710Z
DTSTART;TZID=Europe/Berlin:20260203T200000
DTEND;TZID=Europe/Berlin:20260203T230000
SUMMARY:HE 4. Liga Gr. 1 Rorschach vs Gossau St.Gallen (0)
UID:dc32776c-951d-4c14-a1b4-b78f167a274b
STATUS:CONFIRMED
LAST-MODIFIED:20260204T084958Z
DESCRIPTION:4. Liga Herren Gruppe 1\nBegegnungs-Nr: 0\nHeim: Rorschach\nGast: Gossau St.Gallen\n\nAdresse: Mariabergstrasse 33\, 9400 Rorschach\n
LOCATION:Mariabergstrasse 33\, 9400 Rorschach
CATEGORIES:Saison 2025/26
END:VEVENT
BEGIN:VEVENT
DTSTAMP:20260424T151710Z
DTSTART;TZID=Europe/Berlin:20260324T200000
DTEND;TZID=Europe/Berlin:20260324T230000
SUMMARY:HE 4. Liga Gr. 1 Rorschach vs Horn II (0)
UID:848fd852-55a5-46b1-9423-ad7cfce9a4e2
STATUS:CONFIRMED
LAST-MODIFIED:20260326T151847Z
DESCRIPTION:4. Liga Herren Gruppe 1\nBegegnungs-Nr: 0\nHeim: Rorschach\nGast: Horn II\n\nAdresse: Mariabergstrasse 33\, 9400 Rorschach\n
LOCATION:Mariabergstrasse 33\, 9400 Rorschach
CATEGORIES:Saison 2025/26
END:VEVENT
BEGIN:VEVENT
DTSTAMP:20260424T151710Z
DTSTART;TZID=Europe/Berlin:20250902T200000
DTEND;TZID=Europe/Berlin:20250902T230000
SUMMARY:HE 4. Liga Gr. 1 Rorschach vs Weinfelden (0)
UID:ce463b2d-4765-47e0-b211-15f32f3933a6
STATUS:CONFIRMED
LAST-MODIFIED:20250905T091237Z
DESCRIPTION:4. Liga Herren Gruppe 1\nBegegnungs-Nr: 0\nHeim: Rorschach\nGast: Weinfelden\n\nAdresse: Mariabergstrasse 33\, 9400 Rorschach\n
LOCATION:Mariabergstrasse 33\, 9400 Rorschach
CATEGORIES:Saison 2025/26
END:VEVENT
BEGIN:VEVENT
DTSTAMP:20260424T151710Z
DTSTART;TZID=Europe/Berlin:20250923T200000
DTEND;TZID=Europe/Berlin:20250923T230000
SUMMARY:HE 4. Liga Gr. 1 Rorschach vs St. Gallen VI (0)
UID:233ba0c4-c95a-4f0b-8d6d-e5a19df9e54b
STATUS:CONFIRMED
LAST-MODIFIED:20250926T130556Z
DESCRIPTION:4. Liga Herren Gruppe 1\nBegegnungs-Nr: 0\nHeim: Rorschach\nGast: St. Gallen VI\n\nAdresse: Mariabergstrasse 33\, 9400 Rorschach\n
LOCATION:Mariabergstrasse 33\, 9400 Rorschach
CATEGORIES:Saison 2025/26
END:VEVENT
BEGIN:VEVENT
DTSTAMP:20260424T151710Z
DTSTART;TZID=Europe/Berlin:20251028T200000
DTEND;TZID=Europe/Berlin:20251028T230000
SUMMARY:HE 4. Liga Gr. 1 Rorschach vs Herisau II (0)
UID:084b3ac3-7325-49f9-9ef7-8d3ef5d4243a
STATUS:CONFIRMED
LAST-MODIFIED:20251031T143457Z
DESCRIPTION:4. Liga Herren Gruppe 1\nBegegnungs-Nr: 0\nHeim: Rorschach\nGast: Herisau II\n\nAdresse: Mariabergstrasse 33\, 9400 Rorschach\n
LOCATION:Mariabergstrasse 33\, 9400 Rorschach
CATEGORIES:Saison 2025/26
END:VEVENT
BEGIN:VEVENT
DTSTAMP:20260424T151710Z
DTSTART;TZID=Europe/Berlin:20260331T200000
DTEND;TZID=Europe/Berlin:20260331T230000
SUMMARY:HE 4. Liga Gr. 1 Rorschach vs Wuppenau (0)
UID:04815118-bc9f-41cb-902d-8fdea6c81229
STATUS:CONFIRMED
LAST-MODIFIED:20260401T121800Z
DESCRIPTION:4. Liga Herren Gruppe 1\nBegegnungs-Nr: 0\nHeim: Rorschach\nGast: Wuppenau\n\nAdresse: Mariabergstrasse 33\, 9400 Rorschach\n
LOCATION:Mariabergstrasse 33\, 9400 Rorschach
CATEGORIES:Saison 2025/26
END:VEVENT
BEGIN:VEVENT
DTSTAMP:20260424T151710Z
DTSTART;TZID=Europe/Berlin:20260122T201500
DTEND;TZID=Europe/Berlin:20260122T231500
SUMMARY:HE 4. Liga Gr. 1 Weinfelden vs Rorschach (0)
UID:426b4dc1-4627-42ad-bdcb-fb510cd46c99
STATUS:CONFIRMED
LAST-MODIFIED:20260127T135446Z
DESCRIPTION:4. Liga Herren Gruppe 1\nBegegnungs-Nr: 0\nHeim: Weinfelden\nGast: Rorschach\n\nAdresse: Bleichestrasse 3 (neben Hallenbad)\, 8570 Weinfelden\n
LOCATION:Bleichestrasse 3 (neben Hallenbad)\, 8570 Weinfelden
CATEGORIES:Saison 2025/26
END:VEVENT
BEGIN:VEVENT
DTSTAMP:20260424T151710Z
DTSTART;TZID=Europe/Berlin:20250825T201500
DTEND;TZID=Europe/Berlin:20250825T231500
SUMMARY:HE 4. Liga Gr. 1 Romanshorn III vs Rorschach (0)
UID:df55313c-9fba-482e-9013-f86d30d3bc28
STATUS:CONFIRMED
LAST-MODIFIED:20250826T111749Z
DESCRIPTION:4. Liga Herren Gruppe 1\nBegegnungs-Nr: 0\nHeim: Romanshorn III\nGast: Rorschach\n\nAdresse: Florastrasse\, 8590 Romanshorn\n
LOCATION:Florastrasse\, 8590 Romanshorn
CATEGORIES:Saison 2025/26
END:VEVENT
BEGIN:VEVENT
DTSTAMP:20260424T151710Z
DTSTART;TZID=Europe/Berlin:20260213T200000
DTEND;TZID=Europe/Berlin:20260213T230000
SUMMARY:HE 4. Liga Gr. 1 St. Gallen VI vs Rorschach (0)
UID:795057f0-de50-487b-97a7-777eba3e1610
STATUS:CONFIRMED
LAST-MODIFIED:20260216T100019Z
DESCRIPTION:4. Liga Herren Gruppe 1\nBegegnungs-Nr: 0\nHeim: St. Gallen VI\nGast: Rorschach\n\nAdresse: Zilstrasse 61\, 9016 St.Gallen\n
LOCATION:Zilstrasse 61\, 9016 St.Gallen
CATEGORIES:Saison 2025/26
END:VEVENT
BEGIN:VEVENT
DTSTAMP:20260424T151710Z
DTSTART;TZID=Europe/Berlin:20260217T201500
DTEND;TZID=Europe/Berlin:20260217T231500
SUMMARY:HE 4. Liga Gr. 1 Herisau II vs Rorschach (0)
UID:522009db-0a93-4557-9e8b-72b41390b292
STATUS:CONFIRMED
LAST-MODIFIED:20260225T102732Z
DESCRIPTION:4. Liga Herren Gruppe 1\nBegegnungs-Nr: 0\nHeim: Herisau II\nGast: Rorschach\n\nAdresse: Schwellbrunnerstrasse 29\, 9100 Herisau\n
LOCATION:Schwellbrunnerstrasse 29\, 9100 Herisau
CATEGORIES:Saison 2025/26
END:VEVENT
BEGIN:VEVENT
DTSTAMP:20260424T151710Z
DTSTART;TZID=Europe/Berlin:20250915T200000
DTEND;TZID=Europe/Berlin:20250915T230000
SUMMARY:HE 4. Liga Gr. 1 Gossau St.Gallen vs Rorschach (0)
UID:758d3b14-fa57-4b56-a30d-ecba95805727
STATUS:CONFIRMED
LAST-MODIFIED:20250916T092528Z
DESCRIPTION:4. Liga Herren Gruppe 1\nBegegnungs-Nr: 0\nHeim: Gossau St.Gallen\nGast: Rorschach\n\nAdresse: Falkenstrasse 21\, 9200 Gossau\n
LOCATION:Falkenstrasse 21\, 9200 Gossau
CATEGORIES:Saison 2025/26
END:VEVENT
BEGIN:VEVENT
DTSTAMP:20260424T151710Z
DTSTART;TZID=Europe/Berlin:20251104T200000
DTEND;TZID=Europe/Berlin:20251104T230000
SUMMARY:HE 4. Liga Gr. 1 Horn II vs Rorschach (0)
UID:b9aad734-f4d4-4e5d-8f40-91315c21833e
STATUS:CONFIRMED
LAST-MODIFIED:20251107T144622Z
DESCRIPTION:4. Liga Herren Gruppe 1\nBegegnungs-Nr: 0\nHeim: Horn II\nGast: Rorschach\n\nAdresse: Feldstrasse 16\, 9326 Horn\n
LOCATION:Feldstrasse 16\, 9326 Horn
CATEGORIES:Saison 2025/26
END:VEVENT
BEGIN:VEVENT
DTSTAMP:20260424T151710Z
DTSTART;TZID=Europe/Berlin:20251201T201500
DTEND;TZID=Europe/Berlin:20251201T231500
SUMMARY:HE 4. Liga Gr. 1 Wuppenau vs Rorschach (0)
UID:b1d15d2c-4978-4f41-b7cb-2225bc30d8c3
STATUS:CONFIRMED
LAST-MODIFIED:20251210T083842Z
DESCRIPTION:4. Liga Herren Gruppe 1\nBegegnungs-Nr: 0\nHeim: Wuppenau\nGast: Rorschach\n\nAdresse: Nollenstrasse\, 9514 Wuppenau\n
LOCATION:Nollenstrasse\, 9514 Wuppenau
CATEGORIES:Saison 2025/26
END:VEVENT
END:VCALENDAR
