BEGIN:VCALENDAR
PRODID:-//nuDatenautomaten//framework iCal4j //DE
VERSION:2.0
CALSCALE:GREGORIAN
BEGIN:VTIMEZONE
TZID:Europe/Berlin
LAST-MODIFIED:20260306T231828Z
TZURL:https://www.tzurl.org/zoneinfo/Europe/Berlin
X-LIC-LOCATION:Europe/Berlin
X-PROLEPTIC-TZNAME:LMT
BEGIN:STANDARD
TZNAME:CET
TZOFFSETFROM:+005328
TZOFFSETTO:+0100
DTSTART:18930401T000000
END:STANDARD
BEGIN:DAYLIGHT
TZNAME:CEST
TZOFFSETFROM:+0100
TZOFFSETTO:+0200
DTSTART:19160430T230000
RDATE:19400401T020000
RDATE:19430329T020000
RDATE:19460414T020000
RDATE:19470406T030000
RDATE:19480418T020000
RDATE:19490410T020000
RDATE:19800406T020000
END:DAYLIGHT
BEGIN:STANDARD
TZNAME:CET
TZOFFSETFROM:+0200
TZOFFSETTO:+0100
DTSTART:19161001T010000
RDATE:19421102T030000
RDATE:19431004T030000
RDATE:19441002T030000
RDATE:19451118T030000
RDATE:19461007T030000
END:STANDARD
BEGIN:DAYLIGHT
TZNAME:CEST
TZOFFSETFROM:+0100
TZOFFSETTO:+0200
DTSTART:19170416T020000
RRULE:FREQ=YEARLY;UNTIL=19180415T010000Z;BYMONTH=4;BYDAY=3MO
END:DAYLIGHT
BEGIN:STANDARD
TZNAME:CET
TZOFFSETFROM:+0200
TZOFFSETTO:+0100
DTSTART:19170917T030000
RRULE:FREQ=YEARLY;UNTIL=19180916T010000Z;BYMONTH=9;BYDAY=3MO
END:STANDARD
BEGIN:DAYLIGHT
TZNAME:CEST
TZOFFSETFROM:+0100
TZOFFSETTO:+0200
DTSTART:19440403T020000
RRULE:FREQ=YEARLY;UNTIL=19450402T010000Z;BYMONTH=4;BYDAY=1MO
END:DAYLIGHT
BEGIN:DAYLIGHT
TZNAME:CEMT
TZOFFSETFROM:+0200
TZOFFSETTO:+0300
DTSTART:19450524T020000
RDATE:19470511T030000
END:DAYLIGHT
BEGIN:DAYLIGHT
TZNAME:CEST
TZOFFSETFROM:+0300
TZOFFSETTO:+0200
DTSTART:19450924T030000
RDATE:19470629T030000
END:DAYLIGHT
BEGIN:STANDARD
TZNAME:CET
TZOFFSETFROM:+0100
TZOFFSETTO:+0100
DTSTART:19460101T000000
RDATE:19800101T000000
END:STANDARD
BEGIN:STANDARD
TZNAME:CET
TZOFFSETFROM:+0200
TZOFFSETTO:+0100
DTSTART:19471005T030000
RRULE:FREQ=YEARLY;UNTIL=19491002T010000Z;BYMONTH=10;BYDAY=1SU
END:STANDARD
BEGIN:STANDARD
TZNAME:CET
TZOFFSETFROM:+0200
TZOFFSETTO:+0100
DTSTART:19800928T030000
RRULE:FREQ=YEARLY;UNTIL=19950924T010000Z;BYMONTH=9;BYDAY=-1SU
END:STANDARD
BEGIN:DAYLIGHT
TZNAME:CEST
TZOFFSETFROM:+0100
TZOFFSETTO:+0200
DTSTART:19810329T020000
RRULE:FREQ=YEARLY;BYMONTH=3;BYDAY=-1SU
END:DAYLIGHT
BEGIN:STANDARD
TZNAME:CET
TZOFFSETFROM:+0200
TZOFFSETTO:+0100
DTSTART:19961027T030000
RRULE:FREQ=YEARLY;BYMONTH=10;BYDAY=-1SU
END:STANDARD
END:VTIMEZONE
BEGIN:VEVENT
DTSTAMP:20260424T135852Z
DTSTART;TZID=Europe/Berlin:20260327T200000
DTEND;TZID=Europe/Berlin:20260327T230000
SUMMARY:HE 4. Liga Gr. 3 Köniz III vs Wohlensee II (27)
UID:7069e707-e529-47ae-98cb-01ff1e58ce65
STATUS:CONFIRMED
LAST-MODIFIED:20260409T115201Z
DESCRIPTION:4. Liga Herren Gruppe 3\nBegegnungs-Nr: 27\nHeim: Köniz III\nGast: Wohlensee II\n\nAdresse: Kirchstrasse 72-76\, 3084 Wabern\n
LOCATION:Kirchstrasse 72-76\, 3084 Wabern
CATEGORIES:Saison 2025/26
END:VEVENT
BEGIN:VEVENT
DTSTAMP:20260424T135852Z
DTSTART;TZID=Europe/Berlin:20260316T200000
DTEND;TZID=Europe/Berlin:20260316T230000
SUMMARY:HE 4. Liga Gr. 3 Köniz III vs Düdingen II (24)
UID:e6e3ceb1-c6db-49dc-99ca-b05077baea62
STATUS:CONFIRMED
LAST-MODIFIED:20260327T143535Z
DESCRIPTION:4. Liga Herren Gruppe 3\nBegegnungs-Nr: 24\nHeim: Köniz III\nGast: Düdingen II\n\nAdresse: Kirchstrasse 72-76\, 3084 Wabern\n
LOCATION:Kirchstrasse 72-76\, 3084 Wabern
CATEGORIES:Saison 2025/26
END:VEVENT
BEGIN:VEVENT
DTSTAMP:20260424T135852Z
DTSTART;TZID=Europe/Berlin:20260206T200000
DTEND;TZID=Europe/Berlin:20260206T230000
SUMMARY:HE 4. Liga Gr. 3 Köniz III vs Schmitten (9)
UID:f7b6ca50-aa4e-4be5-8fb6-29c6b51cad0d
STATUS:CONFIRMED
LAST-MODIFIED:20260217T214750Z
DESCRIPTION:4. Liga Herren Gruppe 3\nBegegnungs-Nr: 9\nHeim: Köniz III\nGast: Schmitten\n\nAdresse: Kirchstrasse 72-76\, 3084 Wabern\n
LOCATION:Kirchstrasse 72-76\, 3084 Wabern
CATEGORIES:Saison 2025/26
END:VEVENT
BEGIN:VEVENT
DTSTAMP:20260424T135852Z
DTSTART;TZID=Europe/Berlin:20260116T200000
DTEND;TZID=Europe/Berlin:20260116T230000
SUMMARY:HE 4. Liga Gr. 3 Köniz III vs Schwarzenburg (3)
UID:5eb23dba-cec1-452e-b626-1b10bf7b70df
STATUS:CONFIRMED
LAST-MODIFIED:20260125T001758Z
DESCRIPTION:4. Liga Herren Gruppe 3\nBegegnungs-Nr: 3\nHeim: Köniz III\nGast: Schwarzenburg\n\nAdresse: Kirchstrasse 72-76\, 3084 Wabern\n
LOCATION:Kirchstrasse 72-76\, 3084 Wabern
CATEGORIES:Saison 2025/26
END:VEVENT
BEGIN:VEVENT
DTSTAMP:20260424T135852Z
DTSTART;TZID=Europe/Berlin:20251114T200000
DTEND;TZID=Europe/Berlin:20251114T230000
SUMMARY:HE 4. Liga Gr. 3 Köniz III vs Ittigen II (20)
UID:0406e888-d541-4663-ab31-523e60fc1aae
STATUS:CONFIRMED
LAST-MODIFIED:20251115T174345Z
DESCRIPTION:4. Liga Herren Gruppe 3\nBegegnungs-Nr: 20\nHeim: Köniz III\nGast: Ittigen II\n\nAdresse: Kirchstrasse 72-76\, 3084 Wabern\n
LOCATION:Kirchstrasse 72-76\, 3084 Wabern
CATEGORIES:Saison 2025/26
END:VEVENT
BEGIN:VEVENT
DTSTAMP:20260424T135852Z
DTSTART;TZID=Europe/Berlin:20251031T200000
DTEND;TZID=Europe/Berlin:20251031T230000
SUMMARY:HE 4. Liga Gr. 3 Köniz III vs Ostermundigen VI (14)
UID:47b1fbb4-359a-4e01-b659-4cbc303fd7d3
STATUS:CONFIRMED
LAST-MODIFIED:20251111T072807Z
DESCRIPTION:4. Liga Herren Gruppe 3\nBegegnungs-Nr: 14\nHeim: Köniz III\nGast: Ostermundigen VI\n\nAdresse: Kirchstrasse 72-76\, 3084 Wabern\n
LOCATION:Kirchstrasse 72-76\, 3084 Wabern
CATEGORIES:Saison 2025/26
END:VEVENT
BEGIN:VEVENT
DTSTAMP:20260424T135852Z
DTSTART;TZID=Europe/Berlin:20250919T200000
DTEND;TZID=Europe/Berlin:20250919T230000
SUMMARY:HE 4. Liga Gr. 3 Köniz III vs Bern VI (8)
UID:b0196457-a72c-4ef8-a545-651e0708d15b
STATUS:CONFIRMED
LAST-MODIFIED:20250921T150400Z
DESCRIPTION:4. Liga Herren Gruppe 3\nBegegnungs-Nr: 8\nHeim: Köniz III\nGast: Bern VI\n\nAdresse: Kirchstrasse 72-76\, 3084 Wabern\n
LOCATION:Kirchstrasse 72-76\, 3084 Wabern
CATEGORIES:Saison 2025/26
END:VEVENT
BEGIN:VEVENT
DTSTAMP:20260424T135852Z
DTSTART;TZID=Europe/Berlin:20250825T201500
DTEND;TZID=Europe/Berlin:20250825T231500
SUMMARY:HE 4. Liga Gr. 3 Schwarzenburg vs Köniz III (3)
UID:9097d8e4-0ee8-492c-b1a1-9bcc6cc8b640
STATUS:CONFIRMED
LAST-MODIFIED:20250828T192509Z
DESCRIPTION:4. Liga Herren Gruppe 3\nBegegnungs-Nr: 3\nHeim: Schwarzenburg\nGast: Köniz III\n\nAdresse: Einschlag 21\, 3150 Schwarzenburg\n
LOCATION:Einschlag 21\, 3150 Schwarzenburg
CATEGORIES:Saison 2025/26
END:VEVENT
BEGIN:VEVENT
DTSTAMP:20260424T135852Z
DTSTART;TZID=Europe/Berlin:20260302T194500
DTEND;TZID=Europe/Berlin:20260302T224500
SUMMARY:HE 4. Liga Gr. 3 Ittigen II vs Köniz III (20)
UID:048e933b-d933-4fb1-9561-669409fdb444
STATUS:CONFIRMED
LAST-MODIFIED:20260308T180308Z
DESCRIPTION:4. Liga Herren Gruppe 3\nBegegnungs-Nr: 20\nHeim: Ittigen II\nGast: Köniz III\n\nAdresse: Fischrainweg 17\, 3048 Worblaufen\n
LOCATION:Fischrainweg 17\, 3048 Worblaufen
CATEGORIES:Saison 2025/26
END:VEVENT
BEGIN:VEVENT
DTSTAMP:20260424T135852Z
DTSTART;TZID=Europe/Berlin:20260217T193000
DTEND;TZID=Europe/Berlin:20260217T223000
SUMMARY:HE 4. Liga Gr. 3 Ostermundigen VI vs Köniz III (14)
UID:99348eea-3f83-484a-866b-300c66bc5c8b
STATUS:CONFIRMED
LAST-MODIFIED:20260220T123335Z
DESCRIPTION:4. Liga Herren Gruppe 3\nBegegnungs-Nr: 14\nHeim: Ostermundigen VI\nGast: Köniz III\n\nAdresse: Dennigkofenweg 169\, 3072 Ostermundigen\n
LOCATION:Dennigkofenweg 169\, 3072 Ostermundigen
CATEGORIES:Saison 2025/26
END:VEVENT
BEGIN:VEVENT
DTSTAMP:20260424T135852Z
DTSTART;TZID=Europe/Berlin:20260122T200000
DTEND;TZID=Europe/Berlin:20260122T230000
SUMMARY:HE 4. Liga Gr. 3 Bern VI vs Köniz III (8)
UID:bf877bc4-2bda-4f21-b5ec-378e004b30bf
STATUS:CONFIRMED
LAST-MODIFIED:20260125T001825Z
DESCRIPTION:4. Liga Herren Gruppe 3\nBegegnungs-Nr: 8\nHeim: Bern VI\nGast: Köniz III\n\nAdresse: Mädergutstrasse 58\, 3018 Bern\n
LOCATION:Mädergutstrasse 58\, 3018 Bern
CATEGORIES:Saison 2025/26
END:VEVENT
BEGIN:VEVENT
DTSTAMP:20260424T135852Z
DTSTART;TZID=Europe/Berlin:20251210T194500
DTEND;TZID=Europe/Berlin:20251210T224500
SUMMARY:HE 4. Liga Gr. 3 Wohlensee II vs Köniz III (27)
UID:3af5537d-3c19-4f4d-88d5-28209ff3557f
STATUS:CONFIRMED
LAST-MODIFIED:20251216T120608Z
DESCRIPTION:4. Liga Herren Gruppe 3\nBegegnungs-Nr: 27\nHeim: Wohlensee II\nGast: Köniz III\n\nAdresse: Kappelenring 36 a\, 3032 Hinterkappelen\n
LOCATION:Kappelenring 36 a\, 3032 Hinterkappelen
CATEGORIES:Saison 2025/26
END:VEVENT
BEGIN:VEVENT
DTSTAMP:20260424T135852Z
DTSTART;TZID=Europe/Berlin:20251204T200000
DTEND;TZID=Europe/Berlin:20251204T230000
SUMMARY:HE 4. Liga Gr. 3 Düdingen II vs Köniz III (24)
UID:db777f32-800e-4033-b77b-b530058bcfc3
STATUS:CONFIRMED
LAST-MODIFIED:20251207T173043Z
DESCRIPTION:4. Liga Herren Gruppe 3\nBegegnungs-Nr: 24\nHeim: Düdingen II\nGast: Köniz III\n\nAdresse: Alfons-Aeby-Strasse\, 3186 Düdingen\n
LOCATION:Alfons-Aeby-Strasse\, 3186 Düdingen
CATEGORIES:Saison 2025/26
END:VEVENT
BEGIN:VEVENT
DTSTAMP:20260424T135852Z
DTSTART;TZID=Europe/Berlin:20251002T201500
DTEND;TZID=Europe/Berlin:20251002T231500
SUMMARY:HE 4. Liga Gr. 3 Schmitten vs Köniz III (9)
UID:4056422c-3745-4b5c-8ef3-120f9590e7ff
STATUS:CONFIRMED
LAST-MODIFIED:20251003T172954Z
DESCRIPTION:4. Liga Herren Gruppe 3\nBegegnungs-Nr: 9\nHeim: Schmitten\nGast: Köniz III\n\nAdresse: -\, 3185 Schmitten\n
LOCATION:-\, 3185 Schmitten
CATEGORIES:Saison 2025/26
END:VEVENT
END:VCALENDAR
