BEGIN:VCALENDAR
PRODID:-//nuDatenautomaten//framework iCal4j //DE
VERSION:2.0
CALSCALE:GREGORIAN
BEGIN:VTIMEZONE
TZID:Europe/Berlin
LAST-MODIFIED:20260306T231828Z
TZURL:https://www.tzurl.org/zoneinfo/Europe/Berlin
X-LIC-LOCATION:Europe/Berlin
X-PROLEPTIC-TZNAME:LMT
BEGIN:STANDARD
TZNAME:CET
TZOFFSETFROM:+005328
TZOFFSETTO:+0100
DTSTART:18930401T000000
END:STANDARD
BEGIN:DAYLIGHT
TZNAME:CEST
TZOFFSETFROM:+0100
TZOFFSETTO:+0200
DTSTART:19160430T230000
RDATE:19400401T020000
RDATE:19430329T020000
RDATE:19460414T020000
RDATE:19470406T030000
RDATE:19480418T020000
RDATE:19490410T020000
RDATE:19800406T020000
END:DAYLIGHT
BEGIN:STANDARD
TZNAME:CET
TZOFFSETFROM:+0200
TZOFFSETTO:+0100
DTSTART:19161001T010000
RDATE:19421102T030000
RDATE:19431004T030000
RDATE:19441002T030000
RDATE:19451118T030000
RDATE:19461007T030000
END:STANDARD
BEGIN:DAYLIGHT
TZNAME:CEST
TZOFFSETFROM:+0100
TZOFFSETTO:+0200
DTSTART:19170416T020000
RRULE:FREQ=YEARLY;UNTIL=19180415T010000Z;BYMONTH=4;BYDAY=3MO
END:DAYLIGHT
BEGIN:STANDARD
TZNAME:CET
TZOFFSETFROM:+0200
TZOFFSETTO:+0100
DTSTART:19170917T030000
RRULE:FREQ=YEARLY;UNTIL=19180916T010000Z;BYMONTH=9;BYDAY=3MO
END:STANDARD
BEGIN:DAYLIGHT
TZNAME:CEST
TZOFFSETFROM:+0100
TZOFFSETTO:+0200
DTSTART:19440403T020000
RRULE:FREQ=YEARLY;UNTIL=19450402T010000Z;BYMONTH=4;BYDAY=1MO
END:DAYLIGHT
BEGIN:DAYLIGHT
TZNAME:CEMT
TZOFFSETFROM:+0200
TZOFFSETTO:+0300
DTSTART:19450524T020000
RDATE:19470511T030000
END:DAYLIGHT
BEGIN:DAYLIGHT
TZNAME:CEST
TZOFFSETFROM:+0300
TZOFFSETTO:+0200
DTSTART:19450924T030000
RDATE:19470629T030000
END:DAYLIGHT
BEGIN:STANDARD
TZNAME:CET
TZOFFSETFROM:+0100
TZOFFSETTO:+0100
DTSTART:19460101T000000
RDATE:19800101T000000
END:STANDARD
BEGIN:STANDARD
TZNAME:CET
TZOFFSETFROM:+0200
TZOFFSETTO:+0100
DTSTART:19471005T030000
RRULE:FREQ=YEARLY;UNTIL=19491002T010000Z;BYMONTH=10;BYDAY=1SU
END:STANDARD
BEGIN:STANDARD
TZNAME:CET
TZOFFSETFROM:+0200
TZOFFSETTO:+0100
DTSTART:19800928T030000
RRULE:FREQ=YEARLY;UNTIL=19950924T010000Z;BYMONTH=9;BYDAY=-1SU
END:STANDARD
BEGIN:DAYLIGHT
TZNAME:CEST
TZOFFSETFROM:+0100
TZOFFSETTO:+0200
DTSTART:19810329T020000
RRULE:FREQ=YEARLY;BYMONTH=3;BYDAY=-1SU
END:DAYLIGHT
BEGIN:STANDARD
TZNAME:CET
TZOFFSETFROM:+0200
TZOFFSETTO:+0100
DTSTART:19961027T030000
RRULE:FREQ=YEARLY;BYMONTH=10;BYDAY=-1SU
END:STANDARD
END:VTIMEZONE
BEGIN:VEVENT
DTSTAMP:20260424T151704Z
DTSTART;TZID=Europe/Berlin:20250904T194500
DTEND;TZID=Europe/Berlin:20250904T224500
SUMMARY:Ligue 4 Gr.2 Ph.A Puplinge II vs Meyrin V (3)
UID:40a2e21c-0705-4271-9a31-92c5fabb2bc3
STATUS:CONFIRMED
LAST-MODIFIED:20250905T071344Z
DESCRIPTION:4ème ligue Hommes Gr.2 Phase A\nBegegnungs-Nr: 3\nHeim: Puplinge II\nGast: Meyrin V\n\nAdresse: Chemin de la Brenaz\,  15\, 1241 Puplinge\n
LOCATION:Chemin de la Brenaz\,  15\, 1241 Puplinge
CATEGORIES:Saison 2025/26
END:VEVENT
BEGIN:VEVENT
DTSTAMP:20260424T151704Z
DTSTART;TZID=Europe/Berlin:20251120T194500
DTEND;TZID=Europe/Berlin:20251120T224500
SUMMARY:Ligue 4 Gr.2 Ph.A Puplinge II vs Rapid-Genève III (24)
UID:73dc08ea-dc00-49d2-b2de-b785b3c2fc95
STATUS:CONFIRMED
LAST-MODIFIED:20251121T102341Z
DESCRIPTION:4ème ligue Hommes Gr.2 Phase A\nBegegnungs-Nr: 24\nHeim: Puplinge II\nGast: Rapid-Genève III\n\nAdresse: Chemin de la Brenaz\,  15\, 1241 Puplinge\n
LOCATION:Chemin de la Brenaz\,  15\, 1241 Puplinge
CATEGORIES:Saison 2025/26
END:VEVENT
BEGIN:VEVENT
DTSTAMP:20260424T151704Z
DTSTART;TZID=Europe/Berlin:20251113T194500
DTEND;TZID=Europe/Berlin:20251113T224500
SUMMARY:Ligue 4 Gr.2 Ph.A Puplinge II vs Veyrier II (21)
UID:7235f01e-c4f6-4fee-9b4a-6916ac380506
STATUS:CONFIRMED
LAST-MODIFIED:20251114T081823Z
DESCRIPTION:4ème ligue Hommes Gr.2 Phase A\nBegegnungs-Nr: 21\nHeim: Puplinge II\nGast: Veyrier II\n\nAdresse: Chemin de la Brenaz\,  15\, 1241 Puplinge\n
LOCATION:Chemin de la Brenaz\,  15\, 1241 Puplinge
CATEGORIES:Saison 2025/26
END:VEVENT
BEGIN:VEVENT
DTSTAMP:20260424T151704Z
DTSTART;TZID=Europe/Berlin:20251016T194500
DTEND;TZID=Europe/Berlin:20251016T224500
SUMMARY:Ligue 4 Gr.2 Ph.A Puplinge II vs Châtelaine VI (15)
UID:b441ac7e-b5c5-49b0-a93f-de6f8b31ffd4
STATUS:CONFIRMED
LAST-MODIFIED:20251017T064436Z
DESCRIPTION:4ème ligue Hommes Gr.2 Phase A\nBegegnungs-Nr: 15\nHeim: Puplinge II\nGast: Châtelaine VI\n\nAdresse: Chemin de la Brenaz\,  15\, 1241 Puplinge\n
LOCATION:Chemin de la Brenaz\,  15\, 1241 Puplinge
CATEGORIES:Saison 2025/26
END:VEVENT
BEGIN:VEVENT
DTSTAMP:20260424T151704Z
DTSTART;TZID=Europe/Berlin:20251009T194500
DTEND;TZID=Europe/Berlin:20251009T224500
SUMMARY:Ligue 4 Gr.2 Ph.A Puplinge II vs Grand-Saconnex II (12)
UID:0ef23c9d-5e5f-4fa8-a52b-22f3b2b9d1d2
STATUS:CONFIRMED
LAST-MODIFIED:20251010T071723Z
DESCRIPTION:4ème ligue Hommes Gr.2 Phase A\nBegegnungs-Nr: 12\nHeim: Puplinge II\nGast: Grand-Saconnex II\n\nAdresse: Chemin de la Brenaz\,  15\, 1241 Puplinge\n
LOCATION:Chemin de la Brenaz\,  15\, 1241 Puplinge
CATEGORIES:Saison 2025/26
END:VEVENT
BEGIN:VEVENT
DTSTAMP:20260424T151704Z
DTSTART;TZID=Europe/Berlin:20260430T194500
DTEND;TZID=Europe/Berlin:20260430T224500
SUMMARY:Ligue 4 Gr.1 Ph.B Puplinge II vs Carouge VI (29)
UID:4ca37fea-d1f9-492c-929e-63155a9deae5
STATUS:CONFIRMED
DESCRIPTION:4ème ligue Hommes Gr.1 Phase B\nBegegnungs-Nr: 29\nHeim: Puplinge II\nGast: Carouge VI\n\nAdresse: Chemin de la Brenaz\,  15\, 1241 Puplinge\n
LOCATION:Chemin de la Brenaz\,  15\, 1241 Puplinge
CATEGORIES:Saison 2025/26
END:VEVENT
BEGIN:VEVENT
DTSTAMP:20260424T151704Z
DTSTART;TZID=Europe/Berlin:20260326T194500
DTEND;TZID=Europe/Berlin:20260326T224500
SUMMARY:Ligue 4 Gr.1 Ph.B Puplinge II vs Onex V (24)
UID:51ef752a-9cd3-41e3-8fe3-6511e8f9740f
STATUS:CONFIRMED
LAST-MODIFIED:20260327T081452Z
DESCRIPTION:4ème ligue Hommes Gr.1 Phase B\nBegegnungs-Nr: 24\nHeim: Puplinge II\nGast: Onex V\n\nAdresse: Chemin de la Brenaz\,  15\, 1241 Puplinge\n
LOCATION:Chemin de la Brenaz\,  15\, 1241 Puplinge
CATEGORIES:Saison 2025/26
END:VEVENT
BEGIN:VEVENT
DTSTAMP:20260424T151704Z
DTSTART;TZID=Europe/Berlin:20260312T194500
DTEND;TZID=Europe/Berlin:20260312T224500
SUMMARY:Ligue 4 Gr.1 Ph.B Puplinge II vs Rapid-Genève II (16)
UID:f82853e6-218b-4813-b7f5-4e99419a0a4f
STATUS:CONFIRMED
LAST-MODIFIED:20260313T072605Z
DESCRIPTION:4ème ligue Hommes Gr.1 Phase B\nBegegnungs-Nr: 16\nHeim: Puplinge II\nGast: Rapid-Genève II\n\nAdresse: Chemin de la Brenaz\,  15\, 1241 Puplinge\n
LOCATION:Chemin de la Brenaz\,  15\, 1241 Puplinge
CATEGORIES:Saison 2025/26
END:VEVENT
BEGIN:VEVENT
DTSTAMP:20260424T151704Z
DTSTART;TZID=Europe/Berlin:20260212T194500
DTEND;TZID=Europe/Berlin:20260212T224500
SUMMARY:Ligue 4 Gr.1 Ph.B Puplinge II vs UGS-Chênois X (11)
UID:8b938a70-ce13-4d75-92dc-b38ff0d22d01
STATUS:CONFIRMED
LAST-MODIFIED:20260213T081908Z
DESCRIPTION:4ème ligue Hommes Gr.1 Phase B\nBegegnungs-Nr: 11\nHeim: Puplinge II\nGast: UGS-Chênois X\n\nAdresse: Chemin de la Brenaz\,  15\, 1241 Puplinge\n
LOCATION:Chemin de la Brenaz\,  15\, 1241 Puplinge
CATEGORIES:Saison 2025/26
END:VEVENT
BEGIN:VEVENT
DTSTAMP:20260424T151704Z
DTSTART;TZID=Europe/Berlin:20260122T194500
DTEND;TZID=Europe/Berlin:20260122T224500
SUMMARY:Ligue 4 Gr.1 Ph.B Puplinge II vs Silver Star VIII (5)
UID:ccbcd12a-eca6-4260-afe0-f723bb5bc56b
STATUS:CONFIRMED
LAST-MODIFIED:20260123T083136Z
DESCRIPTION:4ème ligue Hommes Gr.1 Phase B\nBegegnungs-Nr: 5\nHeim: Puplinge II\nGast: Silver Star VIII\n\nAdresse: Chemin de la Brenaz\,  15\, 1241 Puplinge\n
LOCATION:Chemin de la Brenaz\,  15\, 1241 Puplinge
CATEGORIES:Saison 2025/26
END:VEVENT
BEGIN:VEVENT
DTSTAMP:20260424T151704Z
DTSTART;TZID=Europe/Berlin:20251204T200000
DTEND;TZID=Europe/Berlin:20251204T230000
SUMMARY:Ligue 4 Gr.2 Ph.A Châtelaine VI vs Puplinge II (30)
UID:c030912c-727a-4a02-babb-93cb10c68743
STATUS:CONFIRMED
LAST-MODIFIED:20251205T082355Z
DESCRIPTION:4ème ligue Hommes Gr.2 Phase A\nBegegnungs-Nr: 30\nHeim: Châtelaine VI\nGast: Puplinge II\n
LOCATION:
CATEGORIES:Saison 2025/26
END:VEVENT
BEGIN:VEVENT
DTSTAMP:20260424T151704Z
DTSTART;TZID=Europe/Berlin:20251127T194500
DTEND;TZID=Europe/Berlin:20251127T224500
SUMMARY:Ligue 4 Gr.2 Ph.A Grand-Saconnex II vs Puplinge II (27)
UID:bdc43d20-95ca-4e4d-a22c-281065308075
STATUS:CONFIRMED
LAST-MODIFIED:20251128T180737Z
DESCRIPTION:4ème ligue Hommes Gr.2 Phase A\nBegegnungs-Nr: 27\nHeim: Grand-Saconnex II\nGast: Puplinge II\n
LOCATION:
CATEGORIES:Saison 2025/26
END:VEVENT
BEGIN:VEVENT
DTSTAMP:20260424T151704Z
DTSTART;TZID=Europe/Berlin:20251030T194500
DTEND;TZID=Europe/Berlin:20251030T224500
SUMMARY:Ligue 4 Gr.2 Ph.A Meyrin V vs Puplinge II (18)
UID:74646aca-c76f-4b6c-9a7e-53617d3775d5
STATUS:CONFIRMED
LAST-MODIFIED:20251031T113605Z
DESCRIPTION:4ème ligue Hommes Gr.2 Phase A\nBegegnungs-Nr: 18\nHeim: Meyrin V\nGast: Puplinge II\n
LOCATION:
CATEGORIES:Saison 2025/26
END:VEVENT
BEGIN:VEVENT
DTSTAMP:20260424T151704Z
DTSTART;TZID=Europe/Berlin:20250925T194500
DTEND;TZID=Europe/Berlin:20250925T224500
SUMMARY:Ligue 4 Gr.2 Ph.A Rapid-Genève III vs Puplinge II (9)
UID:379e456c-19c4-4641-9f84-fa148189b8c5
STATUS:CONFIRMED
LAST-MODIFIED:20250926T160634Z
DESCRIPTION:4ème ligue Hommes Gr.2 Phase A\nBegegnungs-Nr: 9\nHeim: Rapid-Genève III\nGast: Puplinge II\n
LOCATION:
CATEGORIES:Saison 2025/26
END:VEVENT
BEGIN:VEVENT
DTSTAMP:20260424T151704Z
DTSTART;TZID=Europe/Berlin:20250918T194500
DTEND;TZID=Europe/Berlin:20250918T224500
SUMMARY:Ligue 4 Gr.2 Ph.A Veyrier II vs Puplinge II (6)
UID:8bfca5b8-c15e-40aa-9d33-d724316d4100
STATUS:CONFIRMED
LAST-MODIFIED:20250919T080724Z
DESCRIPTION:4ème ligue Hommes Gr.2 Phase A\nBegegnungs-Nr: 6\nHeim: Veyrier II\nGast: Puplinge II\n\nAdresse: -\, 1255 Veyrier\n
LOCATION:-\, 1255 Veyrier
CATEGORIES:Saison 2025/26
END:VEVENT
BEGIN:VEVENT
DTSTAMP:20260424T151704Z
DTSTART;TZID=Europe/Berlin:20260402T194500
DTEND;TZID=Europe/Berlin:20260402T224500
SUMMARY:Ligue 4 Gr.1 Ph.B UGS-Chênois X vs Puplinge II (26)
UID:6f01b627-2dc3-443f-8df6-94b53622cc2e
STATUS:CONFIRMED
LAST-MODIFIED:20260403T074550Z
DESCRIPTION:4ème ligue Hommes Gr.1 Phase B\nBegegnungs-Nr: 26\nHeim: UGS-Chênois X\nGast: Puplinge II\n
LOCATION:
CATEGORIES:Saison 2025/26
END:VEVENT
BEGIN:VEVENT
DTSTAMP:20260424T151704Z
DTSTART;TZID=Europe/Berlin:20260319T194500
DTEND;TZID=Europe/Berlin:20260319T224500
SUMMARY:Ligue 4 Gr.1 Ph.B Silver Star VIII vs Puplinge II (20)
UID:03046f50-9b1a-4ca1-801f-3383bc165ebf
STATUS:CONFIRMED
LAST-MODIFIED:20260320T081254Z
DESCRIPTION:4ème ligue Hommes Gr.1 Phase B\nBegegnungs-Nr: 20\nHeim: Silver Star VIII\nGast: Puplinge II\n
LOCATION:
CATEGORIES:Saison 2025/26
END:VEVENT
BEGIN:VEVENT
DTSTAMP:20260424T151704Z
DTSTART;TZID=Europe/Berlin:20260219T194500
DTEND;TZID=Europe/Berlin:20260219T224500
SUMMARY:Ligue 4 Gr.1 Ph.B Carouge VI vs Puplinge II (14)
UID:9a83654c-2e9b-405e-9f82-33e53fbf26c8
STATUS:CONFIRMED
LAST-MODIFIED:20260220T111507Z
DESCRIPTION:4ème ligue Hommes Gr.1 Phase B\nBegegnungs-Nr: 14\nHeim: Carouge VI\nGast: Puplinge II\n
LOCATION:
CATEGORIES:Saison 2025/26
END:VEVENT
BEGIN:VEVENT
DTSTAMP:20260424T151704Z
DTSTART;TZID=Europe/Berlin:20260115T194500
DTEND;TZID=Europe/Berlin:20260115T224500
SUMMARY:Ligue 4 Gr.1 Ph.B Rapid-Genève II vs Puplinge II (1)
UID:845cb203-73f9-4d85-bad2-8477147f771c
STATUS:CONFIRMED
LAST-MODIFIED:20260116T181647Z
DESCRIPTION:4ème ligue Hommes Gr.1 Phase B\nBegegnungs-Nr: 1\nHeim: Rapid-Genève II\nGast: Puplinge II\n
LOCATION:
CATEGORIES:Saison 2025/26
END:VEVENT
BEGIN:VEVENT
DTSTAMP:20260424T151704Z
DTSTART;TZID=Europe/Berlin:20260129T194500
DTEND;TZID=Europe/Berlin:20260129T224500
SUMMARY:Ligue 4 Gr.1 Ph.B Onex V vs Puplinge II (9)
UID:ff2e7647-55a8-4e76-879e-f931400ae882
STATUS:CONFIRMED
LAST-MODIFIED:20260130T084324Z
DESCRIPTION:4ème ligue Hommes Gr.1 Phase B\nBegegnungs-Nr: 9\nHeim: Onex V\nGast: Puplinge II\n
LOCATION:
CATEGORIES:Saison 2025/26
END:VEVENT
END:VCALENDAR
