BEGIN:VCALENDAR
PRODID:-//nuDatenautomaten//framework iCal4j //DE
VERSION:2.0
CALSCALE:GREGORIAN
BEGIN:VTIMEZONE
TZID:Europe/Berlin
LAST-MODIFIED:20260306T231828Z
TZURL:https://www.tzurl.org/zoneinfo/Europe/Berlin
X-LIC-LOCATION:Europe/Berlin
X-PROLEPTIC-TZNAME:LMT
BEGIN:STANDARD
TZNAME:CET
TZOFFSETFROM:+005328
TZOFFSETTO:+0100
DTSTART:18930401T000000
END:STANDARD
BEGIN:DAYLIGHT
TZNAME:CEST
TZOFFSETFROM:+0100
TZOFFSETTO:+0200
DTSTART:19160430T230000
RDATE:19400401T020000
RDATE:19430329T020000
RDATE:19460414T020000
RDATE:19470406T030000
RDATE:19480418T020000
RDATE:19490410T020000
RDATE:19800406T020000
END:DAYLIGHT
BEGIN:STANDARD
TZNAME:CET
TZOFFSETFROM:+0200
TZOFFSETTO:+0100
DTSTART:19161001T010000
RDATE:19421102T030000
RDATE:19431004T030000
RDATE:19441002T030000
RDATE:19451118T030000
RDATE:19461007T030000
END:STANDARD
BEGIN:DAYLIGHT
TZNAME:CEST
TZOFFSETFROM:+0100
TZOFFSETTO:+0200
DTSTART:19170416T020000
RRULE:FREQ=YEARLY;UNTIL=19180415T010000Z;BYMONTH=4;BYDAY=3MO
END:DAYLIGHT
BEGIN:STANDARD
TZNAME:CET
TZOFFSETFROM:+0200
TZOFFSETTO:+0100
DTSTART:19170917T030000
RRULE:FREQ=YEARLY;UNTIL=19180916T010000Z;BYMONTH=9;BYDAY=3MO
END:STANDARD
BEGIN:DAYLIGHT
TZNAME:CEST
TZOFFSETFROM:+0100
TZOFFSETTO:+0200
DTSTART:19440403T020000
RRULE:FREQ=YEARLY;UNTIL=19450402T010000Z;BYMONTH=4;BYDAY=1MO
END:DAYLIGHT
BEGIN:DAYLIGHT
TZNAME:CEMT
TZOFFSETFROM:+0200
TZOFFSETTO:+0300
DTSTART:19450524T020000
RDATE:19470511T030000
END:DAYLIGHT
BEGIN:DAYLIGHT
TZNAME:CEST
TZOFFSETFROM:+0300
TZOFFSETTO:+0200
DTSTART:19450924T030000
RDATE:19470629T030000
END:DAYLIGHT
BEGIN:STANDARD
TZNAME:CET
TZOFFSETFROM:+0100
TZOFFSETTO:+0100
DTSTART:19460101T000000
RDATE:19800101T000000
END:STANDARD
BEGIN:STANDARD
TZNAME:CET
TZOFFSETFROM:+0200
TZOFFSETTO:+0100
DTSTART:19471005T030000
RRULE:FREQ=YEARLY;UNTIL=19491002T010000Z;BYMONTH=10;BYDAY=1SU
END:STANDARD
BEGIN:STANDARD
TZNAME:CET
TZOFFSETFROM:+0200
TZOFFSETTO:+0100
DTSTART:19800928T030000
RRULE:FREQ=YEARLY;UNTIL=19950924T010000Z;BYMONTH=9;BYDAY=-1SU
END:STANDARD
BEGIN:DAYLIGHT
TZNAME:CEST
TZOFFSETFROM:+0100
TZOFFSETTO:+0200
DTSTART:19810329T020000
RRULE:FREQ=YEARLY;BYMONTH=3;BYDAY=-1SU
END:DAYLIGHT
BEGIN:STANDARD
TZNAME:CET
TZOFFSETFROM:+0200
TZOFFSETTO:+0100
DTSTART:19961027T030000
RRULE:FREQ=YEARLY;BYMONTH=10;BYDAY=-1SU
END:STANDARD
END:VTIMEZONE
BEGIN:VEVENT
DTSTAMP:20260424T044417Z
DTSTART;TZID=Europe/Berlin:20250830T143000
DTEND;TZID=Europe/Berlin:20250830T173000
SUMMARY:JUG\, 2.Li\, Gr.5\, VR Kloten II vs Affoltern A/A II (3)
UID:edf536a1-f7b0-4a08-98d6-1478962f1d92
STATUS:CONFIRMED
LAST-MODIFIED:20250902T100221Z
DESCRIPTION:Jugend\, 2. Liga\, Gruppe 5\, Vorrunde\nBegegnungs-Nr: 3\nHeim: Kloten II\nGast: Affoltern A/A II\n\nAdresse: Schluefweg 10\, 8302 Kloten\n
LOCATION:Schluefweg 10\, 8302 Kloten
CATEGORIES:Saison 2025/26
END:VEVENT
BEGIN:VEVENT
DTSTAMP:20260424T044417Z
DTSTART;TZID=Europe/Berlin:20251115T160000
DTEND;TZID=Europe/Berlin:20251115T190000
SUMMARY:JUG\, 2.Li\, Gr.5\, ZR Kloten II vs Meilen-Männedorf (5)
UID:10666816-6c33-4aa7-87a3-15a1e49221d0
STATUS:CONFIRMED
LAST-MODIFIED:20251121T095730Z
DESCRIPTION:Jugend\, 2. Liga\, Gruppe 5\, Zwischenrunde\nBegegnungs-Nr: 5\nHeim: Kloten II\nGast: Meilen-Männedorf\n\nAdresse: Schluefweg 10\, 8302 Kloten\n
LOCATION:Schluefweg 10\, 8302 Kloten
CATEGORIES:Saison 2025/26
END:VEVENT
BEGIN:VEVENT
DTSTAMP:20260424T044417Z
DTSTART;TZID=Europe/Berlin:20251115T130000
DTEND;TZID=Europe/Berlin:20251115T160000
SUMMARY:JUG\, 2.Li\, Gr.5\, ZR Kloten II vs Steckborn-Homburg (2)
UID:6a71702a-5b53-43a1-8236-d5292d051ffd
STATUS:CONFIRMED
LAST-MODIFIED:20251124T150622Z
DESCRIPTION:Jugend\, 2. Liga\, Gruppe 5\, Zwischenrunde\nBegegnungs-Nr: 2\nHeim: Kloten II\nGast: Steckborn-Homburg\n\nAdresse: Schluefweg 10\, 8302 Kloten\n
LOCATION:Schluefweg 10\, 8302 Kloten
CATEGORIES:Saison 2025/26
END:VEVENT
BEGIN:VEVENT
DTSTAMP:20260424T044417Z
DTSTART;TZID=Europe/Berlin:20260328T143000
DTEND;TZID=Europe/Berlin:20260328T173000
SUMMARY:JUG\, 2.Li\, Gr.4\, Final Kloten II vs Ruggell (3)
UID:caaa5a12-663e-4a1c-a8ef-101a0c9abeef
STATUS:CONFIRMED
LAST-MODIFIED:20260328T162957Z
DESCRIPTION:Jugend\, 2. Liga\, Gruppe 4\, Final\nBegegnungs-Nr: 3\nHeim: Kloten II\nGast: Ruggell\n\nAdresse: Schluefweg 10\, 8302 Kloten\n
LOCATION:Schluefweg 10\, 8302 Kloten
CATEGORIES:Saison 2025/26
END:VEVENT
BEGIN:VEVENT
DTSTAMP:20260424T044417Z
DTSTART;TZID=Europe/Berlin:20250830T130000
DTEND;TZID=Europe/Berlin:20250830T160000
SUMMARY:JUG\, 2.Li\, Gr.5\, VR Bülach vs Kloten II (1)
UID:79f6f85b-3c65-4f50-982d-490187d86162
STATUS:CONFIRMED
LAST-MODIFIED:20250902T095746Z
DESCRIPTION:Jugend\, 2. Liga\, Gruppe 5\, Vorrunde\nBegegnungs-Nr: 1\nHeim: Bülach\nGast: Kloten II\nHalle: Poule in Bülach\, Berufsschule\nAdresse: Schwerzgruebstrasse 28\, 8180 Bülach\n
LOCATION:Poule in Bülach\, Berufsschule Schwerzgruebstrasse 28\, 8180 Bülach
CATEGORIES:Saison 2025/26
END:VEVENT
BEGIN:VEVENT
DTSTAMP:20260424T044417Z
DTSTART;TZID=Europe/Berlin:20250830T160000
DTEND;TZID=Europe/Berlin:20250830T190000
SUMMARY:JUG\, 2.Li\, Gr.5\, VR Dübendorf-Volketswil vs Kloten II (5)
UID:de7888b2-7ab5-4d0c-80df-800084e95133
STATUS:CONFIRMED
LAST-MODIFIED:20250902T100244Z
DESCRIPTION:Jugend\, 2. Liga\, Gruppe 5\, Vorrunde\nBegegnungs-Nr: 5\nHeim: Dübendorf-Volketswil\nGast: Kloten II\n\nAdresse: Usterstrasse 35\, 8604 Volketswil\n
LOCATION:Usterstrasse 35\, 8604 Volketswil
CATEGORIES:Saison 2025/26
END:VEVENT
BEGIN:VEVENT
DTSTAMP:20260424T044417Z
DTSTART;TZID=Europe/Berlin:20251115T143000
DTEND;TZID=Europe/Berlin:20251115T173000
SUMMARY:JUG\, 2.Li\, Gr.5\, ZR Uster II vs Kloten II (4)
UID:0d827b84-5dfc-4197-a8e3-2f5290de8363
STATUS:CONFIRMED
LAST-MODIFIED:20251121T095720Z
DESCRIPTION:Jugend\, 2. Liga\, Gruppe 5\, Zwischenrunde\nBegegnungs-Nr: 4\nHeim: Uster II\nGast: Kloten II\n\nAdresse: Wilstrasse 30 / Zürcherstrasse\, 8610 Uster\n
LOCATION:Wilstrasse 30 / Zürcherstrasse\, 8610 Uster
CATEGORIES:Saison 2025/26
END:VEVENT
BEGIN:VEVENT
DTSTAMP:20260424T044417Z
DTSTART;TZID=Europe/Berlin:20260328T160000
DTEND;TZID=Europe/Berlin:20260328T190000
SUMMARY:JUG\, 2.Li\, Gr.4\, Final Zürich-Affoltern II vs Kloten II (5)
UID:1b934b8a-88d6-4ab2-bff4-082b968a18eb
STATUS:CONFIRMED
LAST-MODIFIED:20260401T135120Z
DESCRIPTION:Jugend\, 2. Liga\, Gruppe 4\, Final\nBegegnungs-Nr: 5\nHeim: Zürich-Affoltern II\nGast: Kloten II\n\nAdresse: Rümlangstr. 89\, 8052 Zürich\n
LOCATION:Rümlangstr. 89\, 8052 Zürich
CATEGORIES:Saison 2025/26
END:VEVENT
BEGIN:VEVENT
DTSTAMP:20260424T044417Z
DTSTART;TZID=Europe/Berlin:20260328T130000
DTEND;TZID=Europe/Berlin:20260328T160000
SUMMARY:JUG\, 2.Li\, Gr.4\, Final Niederhasli vs Kloten II (1)
UID:000266e3-da9e-4b01-acc5-e6a8ca3dbb05
STATUS:CONFIRMED
LAST-MODIFIED:20260401T134141Z
DESCRIPTION:Jugend\, 2. Liga\, Gruppe 4\, Final\nBegegnungs-Nr: 1\nHeim: Niederhasli\nGast: Kloten II\nHalle: Poule in Niederhasli\, TH Rossacker\nAdresse: Dorfstrasse 22\, 8155 Niederhasli\n
LOCATION:Poule in Niederhasli\, TH Rossacker Dorfstrasse 22\, 8155 Niederhasli
CATEGORIES:Saison 2025/26
END:VEVENT
END:VCALENDAR
