BEGIN:VCALENDAR
PRODID:-//nuDatenautomaten//framework iCal4j //DE
VERSION:2.0
CALSCALE:GREGORIAN
BEGIN:VTIMEZONE
TZID:Europe/Berlin
LAST-MODIFIED:20260306T231828Z
TZURL:https://www.tzurl.org/zoneinfo/Europe/Berlin
X-LIC-LOCATION:Europe/Berlin
X-PROLEPTIC-TZNAME:LMT
BEGIN:STANDARD
TZNAME:CET
TZOFFSETFROM:+005328
TZOFFSETTO:+0100
DTSTART:18930401T000000
END:STANDARD
BEGIN:DAYLIGHT
TZNAME:CEST
TZOFFSETFROM:+0100
TZOFFSETTO:+0200
DTSTART:19160430T230000
RDATE:19400401T020000
RDATE:19430329T020000
RDATE:19460414T020000
RDATE:19470406T030000
RDATE:19480418T020000
RDATE:19490410T020000
RDATE:19800406T020000
END:DAYLIGHT
BEGIN:STANDARD
TZNAME:CET
TZOFFSETFROM:+0200
TZOFFSETTO:+0100
DTSTART:19161001T010000
RDATE:19421102T030000
RDATE:19431004T030000
RDATE:19441002T030000
RDATE:19451118T030000
RDATE:19461007T030000
END:STANDARD
BEGIN:DAYLIGHT
TZNAME:CEST
TZOFFSETFROM:+0100
TZOFFSETTO:+0200
DTSTART:19170416T020000
RRULE:FREQ=YEARLY;UNTIL=19180415T010000Z;BYMONTH=4;BYDAY=3MO
END:DAYLIGHT
BEGIN:STANDARD
TZNAME:CET
TZOFFSETFROM:+0200
TZOFFSETTO:+0100
DTSTART:19170917T030000
RRULE:FREQ=YEARLY;UNTIL=19180916T010000Z;BYMONTH=9;BYDAY=3MO
END:STANDARD
BEGIN:DAYLIGHT
TZNAME:CEST
TZOFFSETFROM:+0100
TZOFFSETTO:+0200
DTSTART:19440403T020000
RRULE:FREQ=YEARLY;UNTIL=19450402T010000Z;BYMONTH=4;BYDAY=1MO
END:DAYLIGHT
BEGIN:DAYLIGHT
TZNAME:CEMT
TZOFFSETFROM:+0200
TZOFFSETTO:+0300
DTSTART:19450524T020000
RDATE:19470511T030000
END:DAYLIGHT
BEGIN:DAYLIGHT
TZNAME:CEST
TZOFFSETFROM:+0300
TZOFFSETTO:+0200
DTSTART:19450924T030000
RDATE:19470629T030000
END:DAYLIGHT
BEGIN:STANDARD
TZNAME:CET
TZOFFSETFROM:+0100
TZOFFSETTO:+0100
DTSTART:19460101T000000
RDATE:19800101T000000
END:STANDARD
BEGIN:STANDARD
TZNAME:CET
TZOFFSETFROM:+0200
TZOFFSETTO:+0100
DTSTART:19471005T030000
RRULE:FREQ=YEARLY;UNTIL=19491002T010000Z;BYMONTH=10;BYDAY=1SU
END:STANDARD
BEGIN:STANDARD
TZNAME:CET
TZOFFSETFROM:+0200
TZOFFSETTO:+0100
DTSTART:19800928T030000
RRULE:FREQ=YEARLY;UNTIL=19950924T010000Z;BYMONTH=9;BYDAY=-1SU
END:STANDARD
BEGIN:DAYLIGHT
TZNAME:CEST
TZOFFSETFROM:+0100
TZOFFSETTO:+0200
DTSTART:19810329T020000
RRULE:FREQ=YEARLY;BYMONTH=3;BYDAY=-1SU
END:DAYLIGHT
BEGIN:STANDARD
TZNAME:CET
TZOFFSETFROM:+0200
TZOFFSETTO:+0100
DTSTART:19961027T030000
RRULE:FREQ=YEARLY;BYMONTH=10;BYDAY=-1SU
END:STANDARD
END:VTIMEZONE
BEGIN:VEVENT
DTSTAMP:20260424T103951Z
DTSTART;TZID=Europe/Berlin:20251025T153000
DTEND;TZID=Europe/Berlin:20251025T183000
SUMMARY:HE NLC Gr. 4 Lugano II vs Horgen (14)
UID:97c7a55e-1f35-46cd-9c04-1db6c14ac10a
STATUS:CONFIRMED
LAST-MODIFIED:20251029T082328Z
DESCRIPTION:Herren Nationalliga C Gruppe 4\nBegegnungs-Nr: 14\nHeim: Lugano II\nGast: Horgen\n\nAdresse: Via al Chioso 7\, 6900 Lugano-Cassarate\n
LOCATION:Via al Chioso 7\, 6900 Lugano-Cassarate
CATEGORIES:Saison 2025/26
END:VEVENT
BEGIN:VEVENT
DTSTAMP:20260424T103951Z
DTSTART;TZID=Europe/Berlin:20251011T153000
DTEND;TZID=Europe/Berlin:20251011T183000
SUMMARY:HE NLC Gr. 4 Lugano II vs Young Stars ZH III (12)
UID:608da5bf-ba4b-4f0f-84b5-15a8c367047b
STATUS:CONFIRMED
LAST-MODIFIED:20251013T102045Z
DESCRIPTION:Herren Nationalliga C Gruppe 4\nBegegnungs-Nr: 12\nHeim: Lugano II\nGast: Young Stars ZH III\n\nAdresse: Via al Chioso 7\, 6900 Lugano-Cassarate\n
LOCATION:Via al Chioso 7\, 6900 Lugano-Cassarate
CATEGORIES:Saison 2025/26
END:VEVENT
BEGIN:VEVENT
DTSTAMP:20260424T103951Z
DTSTART;TZID=Europe/Berlin:20250920T153000
DTEND;TZID=Europe/Berlin:20250920T183000
SUMMARY:HE NLC Gr. 4 Lugano II vs Rapperswil-Jona III (7)
UID:c89e7a91-5c2e-4113-aa66-85e49bc9d29b
STATUS:CONFIRMED
LAST-MODIFIED:20250922T073721Z
DESCRIPTION:Herren Nationalliga C Gruppe 4\nBegegnungs-Nr: 7\nHeim: Lugano II\nGast: Rapperswil-Jona III\n\nAdresse: Via al Chioso 7\, 6900 Lugano-Cassarate\n
LOCATION:Via al Chioso 7\, 6900 Lugano-Cassarate
CATEGORIES:Saison 2025/26
END:VEVENT
BEGIN:VEVENT
DTSTAMP:20260424T103951Z
DTSTART;TZID=Europe/Berlin:20251122T153000
DTEND;TZID=Europe/Berlin:20251122T183000
SUMMARY:HE NLC Gr. 4 Lugano II vs Zürich-Affoltern (23)
UID:023fc1f1-eb58-4f18-83fd-0e871c208464
STATUS:CONFIRMED
LAST-MODIFIED:20251126T101809Z
DESCRIPTION:Herren Nationalliga C Gruppe 4\nBegegnungs-Nr: 23\nHeim: Lugano II\nGast: Zürich-Affoltern\n\nAdresse: Via al Chioso 7\, 6900 Lugano-Cassarate\n
LOCATION:Via al Chioso 7\, 6900 Lugano-Cassarate
CATEGORIES:Saison 2025/26
END:VEVENT
BEGIN:VEVENT
DTSTAMP:20260424T103951Z
DTSTART;TZID=Europe/Berlin:20251206T153000
DTEND;TZID=Europe/Berlin:20251206T183000
SUMMARY:HE NLC Gr. 4 Lugano II vs Muolen (25)
UID:a4b11d2e-0550-4d8a-a265-099922f71f0b
STATUS:CONFIRMED
LAST-MODIFIED:20251209T094925Z
DESCRIPTION:Herren Nationalliga C Gruppe 4\nBegegnungs-Nr: 25\nHeim: Lugano II\nGast: Muolen\n\nAdresse: Via al Chioso 7\, 6900 Lugano-Cassarate\n
LOCATION:Via al Chioso 7\, 6900 Lugano-Cassarate
CATEGORIES:Saison 2025/26
END:VEVENT
BEGIN:VEVENT
DTSTAMP:20260424T103951Z
DTSTART;TZID=Europe/Berlin:20260110T153000
DTEND;TZID=Europe/Berlin:20260110T183000
SUMMARY:HE NLC Gr. 4 Lugano II vs Affoltern A/A (2)
UID:a7996987-6258-40de-a907-49d69ae978f1
STATUS:CONFIRMED
LAST-MODIFIED:20260112T203414Z
DESCRIPTION:Herren Nationalliga C Gruppe 4\nBegegnungs-Nr: 2\nHeim: Lugano II\nGast: Affoltern A/A\n\nAdresse: Via al Chioso 7\, 6900 Lugano-Cassarate\n
LOCATION:Via al Chioso 7\, 6900 Lugano-Cassarate
CATEGORIES:Saison 2025/26
END:VEVENT
BEGIN:VEVENT
DTSTAMP:20260424T103951Z
DTSTART;TZID=Europe/Berlin:20260328T153000
DTEND;TZID=Europe/Berlin:20260328T183000
SUMMARY:HE NLC Gr. 4 Lugano II vs Neuhausen II (19)
UID:6a56150c-7b7c-4c24-a179-17e2265c1bcd
STATUS:CONFIRMED
LAST-MODIFIED:20260330T080217Z
DESCRIPTION:Herren Nationalliga C Gruppe 4\nBegegnungs-Nr: 19\nHeim: Lugano II\nGast: Neuhausen II\n\nAdresse: Via al Chioso 7\, 6900 Lugano-Cassarate\n
LOCATION:Via al Chioso 7\, 6900 Lugano-Cassarate
CATEGORIES:Saison 2025/26
END:VEVENT
BEGIN:VEVENT
DTSTAMP:20260424T103951Z
DTSTART;TZID=Europe/Berlin:20250913T153000
DTEND;TZID=Europe/Berlin:20250913T183000
SUMMARY:HE NLC Gr. 4 Affoltern A/A vs Lugano II (2)
UID:c96fc6d4-6ebb-480f-b7ee-b46b54dad8d7
STATUS:CONFIRMED
LAST-MODIFIED:20250918T112636Z
DESCRIPTION:Herren Nationalliga C Gruppe 4\nBegegnungs-Nr: 2\nHeim: Affoltern A/A\nGast: Lugano II\n\nAdresse: Butzenstrasse 8\, 8910 Affoltern am Albis\n
LOCATION:Butzenstrasse 8\, 8910 Affoltern am Albis
CATEGORIES:Saison 2025/26
END:VEVENT
BEGIN:VEVENT
DTSTAMP:20260424T103951Z
DTSTART;TZID=Europe/Berlin:20251108T180000
DTEND;TZID=Europe/Berlin:20251108T210000
SUMMARY:HE NLC Gr. 4 Neuhausen II vs Lugano II (19)
UID:04a6cd41-3159-440b-a083-56351ba39a79
STATUS:CONFIRMED
LAST-MODIFIED:20251110T074940Z
DESCRIPTION:Herren Nationalliga C Gruppe 4\nBegegnungs-Nr: 19\nHeim: Neuhausen II\nGast: Lugano II\n\nAdresse: Ebnatstrasse 35\, 8200 Schaffhausen\n
LOCATION:Ebnatstrasse 35\, 8200 Schaffhausen
CATEGORIES:Saison 2025/26
END:VEVENT
BEGIN:VEVENT
DTSTAMP:20260424T103951Z
DTSTART;TZID=Europe/Berlin:20260228T140000
DTEND;TZID=Europe/Berlin:20260228T170000
SUMMARY:HE NLC Gr. 4 Horgen vs Lugano II (14)
UID:c0a4d957-8184-4fb6-8149-7429e1898490
STATUS:CONFIRMED
LAST-MODIFIED:20260302T215053Z
DESCRIPTION:Herren Nationalliga C Gruppe 4\nBegegnungs-Nr: 14\nHeim: Horgen\nGast: Lugano II\n\nAdresse: Seestrasse 110\, 8810 Horgen\n
LOCATION:Seestrasse 110\, 8810 Horgen
CATEGORIES:Saison 2025/26
END:VEVENT
BEGIN:VEVENT
DTSTAMP:20260424T103951Z
DTSTART;TZID=Europe/Berlin:20260221T160000
DTEND;TZID=Europe/Berlin:20260221T190000
SUMMARY:HE NLC Gr. 4 Young Stars ZH III vs Lugano II (12)
UID:547e9025-a5cd-4577-978c-9ce8b5f76755
STATUS:CONFIRMED
LAST-MODIFIED:20260223T153729Z
DESCRIPTION:Herren Nationalliga C Gruppe 4\nBegegnungs-Nr: 12\nHeim: Young Stars ZH III\nGast: Lugano II\n\nAdresse: Seefeldstrasse 93\, 8008 Zürich\n
LOCATION:Seefeldstrasse 93\, 8008 Zürich
CATEGORIES:Saison 2025/26
END:VEVENT
BEGIN:VEVENT
DTSTAMP:20260424T103951Z
DTSTART;TZID=Europe/Berlin:20260131T133000
DTEND;TZID=Europe/Berlin:20260131T163000
SUMMARY:HE NLC Gr. 4 Rapperswil-Jona III vs Lugano II (7)
UID:82cbbdc0-ac80-48e9-8ac2-132b4f007e82
STATUS:CONFIRMED
LAST-MODIFIED:20260203T081635Z
DESCRIPTION:Herren Nationalliga C Gruppe 4\nBegegnungs-Nr: 7\nHeim: Rapperswil-Jona III\nGast: Lugano II\n\nAdresse: Kreuzstrasse 43\, 8640 Rapperswil\n
LOCATION:Kreuzstrasse 43\, 8640 Rapperswil
CATEGORIES:Saison 2025/26
END:VEVENT
BEGIN:VEVENT
DTSTAMP:20260424T103951Z
DTSTART;TZID=Europe/Berlin:20260418T160000
DTEND;TZID=Europe/Berlin:20260418T190000
SUMMARY:HE NLC Gr. 4 Zürich-Affoltern vs Lugano II (23)
UID:7951482c-2c8c-432a-9198-7692ffd5a022
STATUS:CONFIRMED
LAST-MODIFIED:20260420T083902Z
DESCRIPTION:Herren Nationalliga C Gruppe 4\nBegegnungs-Nr: 23\nHeim: Zürich-Affoltern\nGast: Lugano II\n\nAdresse: Rümlangstr. 89\, 8052 Zürich\n
LOCATION:Rümlangstr. 89\, 8052 Zürich
CATEGORIES:Saison 2025/26
END:VEVENT
BEGIN:VEVENT
DTSTAMP:20260424T103951Z
DTSTART;TZID=Europe/Berlin:20260419T140000
DTEND;TZID=Europe/Berlin:20260419T170000
SUMMARY:HE NLC Gr. 4 Muolen vs Lugano II (25)
UID:4656fb63-70a4-4b44-b1a1-de618751147a
STATUS:CONFIRMED
LAST-MODIFIED:20260420T084009Z
DESCRIPTION:Herren Nationalliga C Gruppe 4\nBegegnungs-Nr: 25\nHeim: Muolen\nGast: Lugano II\n\nAdresse: Dorfstrasse 31\, 9313 Muolen\n
LOCATION:Dorfstrasse 31\, 9313 Muolen
CATEGORIES:Saison 2025/26
END:VEVENT
END:VCALENDAR
