BEGIN:VCALENDAR
PRODID:-//nuDatenautomaten//framework iCal4j //DE
VERSION:2.0
CALSCALE:GREGORIAN
BEGIN:VTIMEZONE
TZID:Europe/Berlin
LAST-MODIFIED:20260306T231828Z
TZURL:https://www.tzurl.org/zoneinfo/Europe/Berlin
X-LIC-LOCATION:Europe/Berlin
X-PROLEPTIC-TZNAME:LMT
BEGIN:STANDARD
TZNAME:CET
TZOFFSETFROM:+005328
TZOFFSETTO:+0100
DTSTART:18930401T000000
END:STANDARD
BEGIN:DAYLIGHT
TZNAME:CEST
TZOFFSETFROM:+0100
TZOFFSETTO:+0200
DTSTART:19160430T230000
RDATE:19400401T020000
RDATE:19430329T020000
RDATE:19460414T020000
RDATE:19470406T030000
RDATE:19480418T020000
RDATE:19490410T020000
RDATE:19800406T020000
END:DAYLIGHT
BEGIN:STANDARD
TZNAME:CET
TZOFFSETFROM:+0200
TZOFFSETTO:+0100
DTSTART:19161001T010000
RDATE:19421102T030000
RDATE:19431004T030000
RDATE:19441002T030000
RDATE:19451118T030000
RDATE:19461007T030000
END:STANDARD
BEGIN:DAYLIGHT
TZNAME:CEST
TZOFFSETFROM:+0100
TZOFFSETTO:+0200
DTSTART:19170416T020000
RRULE:FREQ=YEARLY;UNTIL=19180415T010000Z;BYMONTH=4;BYDAY=3MO
END:DAYLIGHT
BEGIN:STANDARD
TZNAME:CET
TZOFFSETFROM:+0200
TZOFFSETTO:+0100
DTSTART:19170917T030000
RRULE:FREQ=YEARLY;UNTIL=19180916T010000Z;BYMONTH=9;BYDAY=3MO
END:STANDARD
BEGIN:DAYLIGHT
TZNAME:CEST
TZOFFSETFROM:+0100
TZOFFSETTO:+0200
DTSTART:19440403T020000
RRULE:FREQ=YEARLY;UNTIL=19450402T010000Z;BYMONTH=4;BYDAY=1MO
END:DAYLIGHT
BEGIN:DAYLIGHT
TZNAME:CEMT
TZOFFSETFROM:+0200
TZOFFSETTO:+0300
DTSTART:19450524T020000
RDATE:19470511T030000
END:DAYLIGHT
BEGIN:DAYLIGHT
TZNAME:CEST
TZOFFSETFROM:+0300
TZOFFSETTO:+0200
DTSTART:19450924T030000
RDATE:19470629T030000
END:DAYLIGHT
BEGIN:STANDARD
TZNAME:CET
TZOFFSETFROM:+0100
TZOFFSETTO:+0100
DTSTART:19460101T000000
RDATE:19800101T000000
END:STANDARD
BEGIN:STANDARD
TZNAME:CET
TZOFFSETFROM:+0200
TZOFFSETTO:+0100
DTSTART:19471005T030000
RRULE:FREQ=YEARLY;UNTIL=19491002T010000Z;BYMONTH=10;BYDAY=1SU
END:STANDARD
BEGIN:STANDARD
TZNAME:CET
TZOFFSETFROM:+0200
TZOFFSETTO:+0100
DTSTART:19800928T030000
RRULE:FREQ=YEARLY;UNTIL=19950924T010000Z;BYMONTH=9;BYDAY=-1SU
END:STANDARD
BEGIN:DAYLIGHT
TZNAME:CEST
TZOFFSETFROM:+0100
TZOFFSETTO:+0200
DTSTART:19810329T020000
RRULE:FREQ=YEARLY;BYMONTH=3;BYDAY=-1SU
END:DAYLIGHT
BEGIN:STANDARD
TZNAME:CET
TZOFFSETFROM:+0200
TZOFFSETTO:+0100
DTSTART:19961027T030000
RRULE:FREQ=YEARLY;BYMONTH=10;BYDAY=-1SU
END:STANDARD
END:VTIMEZONE
BEGIN:VEVENT
DTSTAMP:20260424T191211Z
DTSTART;TZID=Europe/Berlin:20251218T194500
DTEND;TZID=Europe/Berlin:20251218T224500
SUMMARY:HE 3. Liga Gr. 1 Oberwil II vs Binningen (0)
UID:9d3a7078-2944-4aa3-ad13-02de9aa3bcbb
STATUS:CONFIRMED
LAST-MODIFIED:20260109T073944Z
DESCRIPTION:3. Liga Herren Gruppe 1\nBegegnungs-Nr: 0\nHeim: Oberwil II\nGast: Binningen\n\nAdresse: Schulstrasse\, 4104 Oberwil\n
LOCATION:Schulstrasse\, 4104 Oberwil
CATEGORIES:Saison 2025/26
END:VEVENT
BEGIN:VEVENT
DTSTAMP:20260424T191211Z
DTSTART;TZID=Europe/Berlin:20260129T194500
DTEND;TZID=Europe/Berlin:20260129T224500
SUMMARY:HE 3. Liga Gr. 1 Oberwil II vs Old Boys Basel (0)
UID:ee48f940-c66e-48ec-9589-bb1b0c2a810f
STATUS:CONFIRMED
LAST-MODIFIED:20260130T133026Z
DESCRIPTION:3. Liga Herren Gruppe 1\nBegegnungs-Nr: 0\nHeim: Oberwil II\nGast: Old Boys Basel\n\nAdresse: Schulstrasse\, 4104 Oberwil\n
LOCATION:Schulstrasse\, 4104 Oberwil
CATEGORIES:Saison 2025/26
END:VEVENT
BEGIN:VEVENT
DTSTAMP:20260424T191211Z
DTSTART;TZID=Europe/Berlin:20260305T194500
DTEND;TZID=Europe/Berlin:20260305T224500
SUMMARY:HE 3. Liga Gr. 1 Oberwil II vs Münchenstein-City (0)
UID:ee862910-feab-455d-866b-59798d39656e
STATUS:CONFIRMED
LAST-MODIFIED:20260313T124946Z
DESCRIPTION:3. Liga Herren Gruppe 1\nBegegnungs-Nr: 0\nHeim: Oberwil II\nGast: Münchenstein-City\n\nAdresse: Schulstrasse\, 4104 Oberwil\n
LOCATION:Schulstrasse\, 4104 Oberwil
CATEGORIES:Saison 2025/26
END:VEVENT
BEGIN:VEVENT
DTSTAMP:20260424T191211Z
DTSTART;TZID=Europe/Berlin:20260323T194500
DTEND;TZID=Europe/Berlin:20260323T224500
SUMMARY:HE 3. Liga Gr. 1 Oberwil II vs Copains Birsfelden II (0)
UID:7d258eac-4a26-45be-af9c-de1de5d2a7b8
STATUS:CONFIRMED
LAST-MODIFIED:20260409T114758Z
DESCRIPTION:3. Liga Herren Gruppe 1\nBegegnungs-Nr: 0\nHeim: Oberwil II\nGast: Copains Birsfelden II\n\nAdresse: Schulstrasse\, 4104 Oberwil\n
LOCATION:Schulstrasse\, 4104 Oberwil
CATEGORIES:Saison 2025/26
END:VEVENT
BEGIN:VEVENT
DTSTAMP:20260424T191211Z
DTSTART;TZID=Europe/Berlin:20250904T194500
DTEND;TZID=Europe/Berlin:20250904T224500
SUMMARY:HE 3. Liga Gr. 1 Oberwil II vs Basel VI (0)
UID:fa7bed48-6d48-4dab-ade3-de4fa450c0eb
STATUS:CONFIRMED
LAST-MODIFIED:20250911T111003Z
DESCRIPTION:3. Liga Herren Gruppe 1\nBegegnungs-Nr: 0\nHeim: Oberwil II\nGast: Basel VI\n\nAdresse: Schulstrasse\, 4104 Oberwil\n
LOCATION:Schulstrasse\, 4104 Oberwil
CATEGORIES:Saison 2025/26
END:VEVENT
BEGIN:VEVENT
DTSTAMP:20260424T191211Z
DTSTART;TZID=Europe/Berlin:20251023T194500
DTEND;TZID=Europe/Berlin:20251023T224500
SUMMARY:HE 3. Liga Gr. 1 Oberwil II vs Aesch III (0)
UID:3db7deb9-bc2d-4b7a-98b1-fffdb6214041
STATUS:CONFIRMED
LAST-MODIFIED:20251029T100427Z
DESCRIPTION:3. Liga Herren Gruppe 1\nBegegnungs-Nr: 0\nHeim: Oberwil II\nGast: Aesch III\n\nAdresse: Schulstrasse\, 4104 Oberwil\n
LOCATION:Schulstrasse\, 4104 Oberwil
CATEGORIES:Saison 2025/26
END:VEVENT
BEGIN:VEVENT
DTSTAMP:20260424T191211Z
DTSTART;TZID=Europe/Berlin:20251120T194500
DTEND;TZID=Europe/Berlin:20251120T224500
SUMMARY:HE 3. Liga Gr. 1 Oberwil II vs Rio-Star Muttenz VI (0)
UID:8a205e11-a8ca-440e-a913-e74248235703
STATUS:CONFIRMED
LAST-MODIFIED:20251121T093411Z
DESCRIPTION:3. Liga Herren Gruppe 1\nBegegnungs-Nr: 0\nHeim: Oberwil II\nGast: Rio-Star Muttenz VI\n\nAdresse: Schulstrasse\, 4104 Oberwil\n
LOCATION:Schulstrasse\, 4104 Oberwil
CATEGORIES:Saison 2025/26
END:VEVENT
BEGIN:VEVENT
DTSTAMP:20260424T191211Z
DTSTART;TZID=Europe/Berlin:20260114T200000
DTEND;TZID=Europe/Berlin:20260114T230000
SUMMARY:HE 3. Liga Gr. 1 Basel VI vs Oberwil II (0)
UID:d345cb8f-1846-473d-8bda-ac72f31340eb
STATUS:CONFIRMED
LAST-MODIFIED:20260115T094258Z
DESCRIPTION:3. Liga Herren Gruppe 1\nBegegnungs-Nr: 0\nHeim: Basel VI\nGast: Oberwil II\n\nAdresse: Schwarzwaldallee 107\, 4058 Basel\n
LOCATION:Schwarzwaldallee 107\, 4058 Basel
CATEGORIES:Saison 2025/26
END:VEVENT
BEGIN:VEVENT
DTSTAMP:20260424T191211Z
DTSTART;TZID=Europe/Berlin:20260205T193000
DTEND;TZID=Europe/Berlin:20260205T223000
SUMMARY:HE 3. Liga Gr. 1 Aesch III vs Oberwil II (0)
UID:fcd0ce03-ee79-486b-a589-f37004723a3b
STATUS:CONFIRMED
LAST-MODIFIED:20260211T093557Z
DESCRIPTION:3. Liga Herren Gruppe 1\nBegegnungs-Nr: 0\nHeim: Aesch III\nGast: Oberwil II\n\nAdresse: Dornacherstrasse\, 4147 Aesch\n
LOCATION:Dornacherstrasse\, 4147 Aesch
CATEGORIES:Saison 2025/26
END:VEVENT
BEGIN:VEVENT
DTSTAMP:20260424T191211Z
DTSTART;TZID=Europe/Berlin:20260312T194500
DTEND;TZID=Europe/Berlin:20260312T224500
SUMMARY:HE 3. Liga Gr. 1 Rio-Star Muttenz VI vs Oberwil II (0)
UID:2c88327e-31a4-4bb6-b481-4797215c71c4
STATUS:CONFIRMED
LAST-MODIFIED:20260313T125013Z
DESCRIPTION:3. Liga Herren Gruppe 1\nBegegnungs-Nr: 0\nHeim: Rio-Star Muttenz VI\nGast: Oberwil II\n\nAdresse: Gründenstrasse 32\, 4132 Muttenz\n
LOCATION:Gründenstrasse 32\, 4132 Muttenz
CATEGORIES:Saison 2025/26
END:VEVENT
BEGIN:VEVENT
DTSTAMP:20260424T191211Z
DTSTART;TZID=Europe/Berlin:20250821T194500
DTEND;TZID=Europe/Berlin:20250821T224500
SUMMARY:HE 3. Liga Gr. 1 Binningen vs Oberwil II (0)
UID:cc5fccea-c3d3-4e28-b9f2-26e4ca063b6f
STATUS:CONFIRMED
LAST-MODIFIED:20250825T064949Z
DESCRIPTION:3. Liga Herren Gruppe 1\nBegegnungs-Nr: 0\nHeim: Binningen\nGast: Oberwil II\n\nAdresse: Rottmannsbodenstr./Neusatzweg\, 4102 Binningen\n
LOCATION:Rottmannsbodenstr./Neusatzweg\, 4102 Binningen
CATEGORIES:Saison 2025/26
END:VEVENT
BEGIN:VEVENT
DTSTAMP:20260424T191211Z
DTSTART;TZID=Europe/Berlin:20250919T193000
DTEND;TZID=Europe/Berlin:20250919T223000
SUMMARY:HE 3. Liga Gr. 1 Old Boys Basel vs Oberwil II (0)
UID:e19e027b-9bbe-4585-bffb-37eba436b313
STATUS:CONFIRMED
LAST-MODIFIED:20250926T123409Z
DESCRIPTION:3. Liga Herren Gruppe 1\nBegegnungs-Nr: 0\nHeim: Old Boys Basel\nGast: Oberwil II\n\nAdresse: 5 Rue Saint-Exupéry\, \, 683020 St. Louis\n
LOCATION:5 Rue Saint-Exupéry\, \, 683020 St. Louis
CATEGORIES:Saison 2025/26
END:VEVENT
BEGIN:VEVENT
DTSTAMP:20260424T191211Z
DTSTART;TZID=Europe/Berlin:20251211T191500
DTEND;TZID=Europe/Berlin:20251211T221500
SUMMARY:HE 3. Liga Gr. 1 Copains Birsfelden II vs Oberwil II (0)
UID:f0d109ca-4374-4f2d-9bad-252e71ad7b97
STATUS:CONFIRMED
LAST-MODIFIED:20251212T080618Z
DESCRIPTION:3. Liga Herren Gruppe 1\nBegegnungs-Nr: 0\nHeim: Copains Birsfelden II\nGast: Oberwil II\n\nAdresse: Wartenbergstrasse (Hintereingang)\, 4127 Birsfelden\n
LOCATION:Wartenbergstrasse (Hintereingang)\, 4127 Birsfelden
CATEGORIES:Saison 2025/26
END:VEVENT
BEGIN:VEVENT
DTSTAMP:20260424T191211Z
DTSTART;TZID=Europe/Berlin:20251113T193000
DTEND;TZID=Europe/Berlin:20251113T223000
SUMMARY:HE 3. Liga Gr. 1 Münchenstein-City vs Oberwil II (0)
UID:7295e8fd-74ff-4b5e-87b4-3ec62083de07
STATUS:CONFIRMED
LAST-MODIFIED:20251114T140526Z
DESCRIPTION:3. Liga Herren Gruppe 1\nBegegnungs-Nr: 0\nHeim: Münchenstein-City\nGast: Oberwil II\n\nAdresse: Gruthweg 8\, 4142 Münchenstein\n
LOCATION:Gruthweg 8\, 4142 Münchenstein
CATEGORIES:Saison 2025/26
END:VEVENT
END:VCALENDAR
