BEGIN:VCALENDAR
PRODID:-//nuDatenautomaten//framework iCal4j //DE
VERSION:2.0
CALSCALE:GREGORIAN
BEGIN:VTIMEZONE
TZID:Europe/Berlin
LAST-MODIFIED:20260306T231828Z
TZURL:https://www.tzurl.org/zoneinfo/Europe/Berlin
X-LIC-LOCATION:Europe/Berlin
X-PROLEPTIC-TZNAME:LMT
BEGIN:STANDARD
TZNAME:CET
TZOFFSETFROM:+005328
TZOFFSETTO:+0100
DTSTART:18930401T000000
END:STANDARD
BEGIN:DAYLIGHT
TZNAME:CEST
TZOFFSETFROM:+0100
TZOFFSETTO:+0200
DTSTART:19160430T230000
RDATE:19400401T020000
RDATE:19430329T020000
RDATE:19460414T020000
RDATE:19470406T030000
RDATE:19480418T020000
RDATE:19490410T020000
RDATE:19800406T020000
END:DAYLIGHT
BEGIN:STANDARD
TZNAME:CET
TZOFFSETFROM:+0200
TZOFFSETTO:+0100
DTSTART:19161001T010000
RDATE:19421102T030000
RDATE:19431004T030000
RDATE:19441002T030000
RDATE:19451118T030000
RDATE:19461007T030000
END:STANDARD
BEGIN:DAYLIGHT
TZNAME:CEST
TZOFFSETFROM:+0100
TZOFFSETTO:+0200
DTSTART:19170416T020000
RRULE:FREQ=YEARLY;UNTIL=19180415T010000Z;BYMONTH=4;BYDAY=3MO
END:DAYLIGHT
BEGIN:STANDARD
TZNAME:CET
TZOFFSETFROM:+0200
TZOFFSETTO:+0100
DTSTART:19170917T030000
RRULE:FREQ=YEARLY;UNTIL=19180916T010000Z;BYMONTH=9;BYDAY=3MO
END:STANDARD
BEGIN:DAYLIGHT
TZNAME:CEST
TZOFFSETFROM:+0100
TZOFFSETTO:+0200
DTSTART:19440403T020000
RRULE:FREQ=YEARLY;UNTIL=19450402T010000Z;BYMONTH=4;BYDAY=1MO
END:DAYLIGHT
BEGIN:DAYLIGHT
TZNAME:CEMT
TZOFFSETFROM:+0200
TZOFFSETTO:+0300
DTSTART:19450524T020000
RDATE:19470511T030000
END:DAYLIGHT
BEGIN:DAYLIGHT
TZNAME:CEST
TZOFFSETFROM:+0300
TZOFFSETTO:+0200
DTSTART:19450924T030000
RDATE:19470629T030000
END:DAYLIGHT
BEGIN:STANDARD
TZNAME:CET
TZOFFSETFROM:+0100
TZOFFSETTO:+0100
DTSTART:19460101T000000
RDATE:19800101T000000
END:STANDARD
BEGIN:STANDARD
TZNAME:CET
TZOFFSETFROM:+0200
TZOFFSETTO:+0100
DTSTART:19471005T030000
RRULE:FREQ=YEARLY;UNTIL=19491002T010000Z;BYMONTH=10;BYDAY=1SU
END:STANDARD
BEGIN:STANDARD
TZNAME:CET
TZOFFSETFROM:+0200
TZOFFSETTO:+0100
DTSTART:19800928T030000
RRULE:FREQ=YEARLY;UNTIL=19950924T010000Z;BYMONTH=9;BYDAY=-1SU
END:STANDARD
BEGIN:DAYLIGHT
TZNAME:CEST
TZOFFSETFROM:+0100
TZOFFSETTO:+0200
DTSTART:19810329T020000
RRULE:FREQ=YEARLY;BYMONTH=3;BYDAY=-1SU
END:DAYLIGHT
BEGIN:STANDARD
TZNAME:CET
TZOFFSETFROM:+0200
TZOFFSETTO:+0100
DTSTART:19961027T030000
RRULE:FREQ=YEARLY;BYMONTH=10;BYDAY=-1SU
END:STANDARD
END:VTIMEZONE
BEGIN:VEVENT
DTSTAMP:20260424T082518Z
DTSTART;TZID=Europe/Berlin:20251114T200000
DTEND;TZID=Europe/Berlin:20251114T230000
SUMMARY:HE 4. Liga Gr. 1 Wichtrach vs Belp III (20)
UID:6749e941-5bb8-4652-89d9-41dd6aa0831d
STATUS:CONFIRMED
LAST-MODIFIED:20251122T090947Z
DESCRIPTION:4. Liga Herren Gruppe 1\nBegegnungs-Nr: 20\nHeim: Wichtrach\nGast: Belp III\n\nAdresse: Hängertstrasse 4\, 3114 Wichtrach\n
LOCATION:Hängertstrasse 4\, 3114 Wichtrach
CATEGORIES:Saison 2025/26
END:VEVENT
BEGIN:VEVENT
DTSTAMP:20260424T082518Z
DTSTART;TZID=Europe/Berlin:20251107T200000
DTEND;TZID=Europe/Berlin:20251107T230000
SUMMARY:HE 4. Liga Gr. 1 Wichtrach vs Münsingen II (14)
UID:3e5db1b1-24dd-47ad-b4cf-b24e9f2aacdf
STATUS:CONFIRMED
LAST-MODIFIED:20251122T090929Z
DESCRIPTION:4. Liga Herren Gruppe 1\nBegegnungs-Nr: 14\nHeim: Wichtrach\nGast: Münsingen II\n\nAdresse: Hängertstrasse 4\, 3114 Wichtrach\n
LOCATION:Hängertstrasse 4\, 3114 Wichtrach
CATEGORIES:Saison 2025/26
END:VEVENT
BEGIN:VEVENT
DTSTAMP:20260424T082518Z
DTSTART;TZID=Europe/Berlin:20250912T200000
DTEND;TZID=Europe/Berlin:20250912T230000
SUMMARY:HE 4. Liga Gr. 1 Wichtrach vs bls Spiez II (8)
UID:42c5bece-121e-44d9-8182-5c454197dd14
STATUS:CONFIRMED
LAST-MODIFIED:20250918T140940Z
DESCRIPTION:4. Liga Herren Gruppe 1\nBegegnungs-Nr: 8\nHeim: Wichtrach\nGast: bls Spiez II\n\nAdresse: Hängertstrasse 4\, 3114 Wichtrach\n
LOCATION:Hängertstrasse 4\, 3114 Wichtrach
CATEGORIES:Saison 2025/26
END:VEVENT
BEGIN:VEVENT
DTSTAMP:20260424T082518Z
DTSTART;TZID=Europe/Berlin:20260327T200000
DTEND;TZID=Europe/Berlin:20260327T230000
SUMMARY:HE 4. Liga Gr. 1 Wichtrach vs Worb II (27)
UID:3d8c8dfe-ffe6-44fa-8ef1-c9785963df4a
STATUS:CONFIRMED
LAST-MODIFIED:20260409T123910Z
DESCRIPTION:4. Liga Herren Gruppe 1\nBegegnungs-Nr: 27\nHeim: Wichtrach\nGast: Worb II\n\nAdresse: Hängertstrasse 4\, 3114 Wichtrach\n
LOCATION:Hängertstrasse 4\, 3114 Wichtrach
CATEGORIES:Saison 2025/26
END:VEVENT
BEGIN:VEVENT
DTSTAMP:20260424T082518Z
DTSTART;TZID=Europe/Berlin:20260227T200000
DTEND;TZID=Europe/Berlin:20260227T230000
SUMMARY:HE 4. Liga Gr. 1 Wichtrach vs Ostermundigen VIII (24)
UID:214cabe4-6b86-45aa-b22e-3fe7329ed2fb
STATUS:CONFIRMED
LAST-MODIFIED:20260302T144624Z
DESCRIPTION:4. Liga Herren Gruppe 1\nBegegnungs-Nr: 24\nHeim: Wichtrach\nGast: Ostermundigen VIII\n\nAdresse: Hängertstrasse 4\, 3114 Wichtrach\n
LOCATION:Hängertstrasse 4\, 3114 Wichtrach
CATEGORIES:Saison 2025/26
END:VEVENT
BEGIN:VEVENT
DTSTAMP:20260424T082518Z
DTSTART;TZID=Europe/Berlin:20260206T200000
DTEND;TZID=Europe/Berlin:20260206T230000
SUMMARY:HE 4. Liga Gr. 1 Wichtrach vs Thun V (9)
UID:782b99f5-8842-43d5-b363-f77303548485
STATUS:CONFIRMED
LAST-MODIFIED:20260217T213205Z
DESCRIPTION:4. Liga Herren Gruppe 1\nBegegnungs-Nr: 9\nHeim: Wichtrach\nGast: Thun V\n\nAdresse: Hängertstrasse 4\, 3114 Wichtrach\n
LOCATION:Hängertstrasse 4\, 3114 Wichtrach
CATEGORIES:Saison 2025/26
END:VEVENT
BEGIN:VEVENT
DTSTAMP:20260424T082518Z
DTSTART;TZID=Europe/Berlin:20260109T200000
DTEND;TZID=Europe/Berlin:20260109T230000
SUMMARY:HE 4. Liga Gr. 1 Wichtrach vs Interlaken II (3)
UID:3fd6d0e3-7178-4b49-b15b-1516dd22ca46
STATUS:CONFIRMED
LAST-MODIFIED:20260125T001457Z
DESCRIPTION:4. Liga Herren Gruppe 1\nBegegnungs-Nr: 3\nHeim: Wichtrach\nGast: Interlaken II\n\nAdresse: Hängertstrasse 4\, 3114 Wichtrach\n
LOCATION:Hängertstrasse 4\, 3114 Wichtrach
CATEGORIES:Saison 2025/26
END:VEVENT
BEGIN:VEVENT
DTSTAMP:20260424T082518Z
DTSTART;TZID=Europe/Berlin:20251108T130000
DTEND;TZID=Europe/Berlin:20251108T160000
SUMMARY:HE 4. Liga Gr. 1 Thun V vs Wichtrach (9)
UID:d872b0b5-643e-4e91-a702-b26b280b9135
STATUS:CONFIRMED
LAST-MODIFIED:20251122T090937Z
DESCRIPTION:4. Liga Herren Gruppe 1\nBegegnungs-Nr: 9\nHeim: Thun V\nGast: Wichtrach\n\nAdresse: Hallerstrasse 28\, 3604 Thun\n
LOCATION:Hallerstrasse 28\, 3604 Thun
CATEGORIES:Saison 2025/26
END:VEVENT
BEGIN:VEVENT
DTSTAMP:20260424T082518Z
DTSTART;TZID=Europe/Berlin:20251128T194500
DTEND;TZID=Europe/Berlin:20251128T224500
SUMMARY:HE 4. Liga Gr. 1 Ostermundigen VIII vs Wichtrach (24)
UID:2dcd75cc-16fc-43d9-89be-a2f320044ad0
STATUS:CONFIRMED
LAST-MODIFIED:20251207T172743Z
DESCRIPTION:4. Liga Herren Gruppe 1\nBegegnungs-Nr: 24\nHeim: Ostermundigen VIII\nGast: Wichtrach\n\nAdresse: Dennigkofenweg 169\, 3072 Ostermundigen\n
LOCATION:Dennigkofenweg 169\, 3072 Ostermundigen
CATEGORIES:Saison 2025/26
END:VEVENT
BEGIN:VEVENT
DTSTAMP:20260424T082518Z
DTSTART;TZID=Europe/Berlin:20250905T194500
DTEND;TZID=Europe/Berlin:20250905T224500
SUMMARY:HE 4. Liga Gr. 1 Interlaken II vs Wichtrach (3)
UID:39e59cdc-2215-4313-adb1-05074978cdd4
STATUS:CONFIRMED
LAST-MODIFIED:20250907T195858Z
DESCRIPTION:4. Liga Herren Gruppe 1\nBegegnungs-Nr: 3\nHeim: Interlaken II\nGast: Wichtrach\n\nAdresse: Burgweg 239R\, 3852 Ringgenberg\n
LOCATION:Burgweg 239R\, 3852 Ringgenberg
CATEGORIES:Saison 2025/26
END:VEVENT
BEGIN:VEVENT
DTSTAMP:20260424T082518Z
DTSTART;TZID=Europe/Berlin:20251212T194500
DTEND;TZID=Europe/Berlin:20251212T224500
SUMMARY:HE 4. Liga Gr. 1 Worb II vs Wichtrach (27)
UID:e7a5e702-518e-48e1-8d6b-3f56755d55b0
STATUS:CONFIRMED
LAST-MODIFIED:20251216T120513Z
DESCRIPTION:4. Liga Herren Gruppe 1\nBegegnungs-Nr: 27\nHeim: Worb II\nGast: Wichtrach\n\nAdresse: Rosenweg 9\, 3075 Rüfenacht BE\n
LOCATION:Rosenweg 9\, 3075 Rüfenacht BE
CATEGORIES:Saison 2025/26
END:VEVENT
BEGIN:VEVENT
DTSTAMP:20260424T082518Z
DTSTART;TZID=Europe/Berlin:20260304T193000
DTEND;TZID=Europe/Berlin:20260304T223000
SUMMARY:HE 4. Liga Gr. 1 Belp III vs Wichtrach (20)
UID:e98533a3-ce89-487f-ac87-ed69418197ad
STATUS:CONFIRMED
LAST-MODIFIED:20260308T175222Z
DESCRIPTION:4. Liga Herren Gruppe 1\nBegegnungs-Nr: 20\nHeim: Belp III\nGast: Wichtrach\n\nAdresse: Neumattstrasse 39\, 3123 Belp\n
LOCATION:Neumattstrasse 39\, 3123 Belp
CATEGORIES:Saison 2025/26
END:VEVENT
BEGIN:VEVENT
DTSTAMP:20260424T082518Z
DTSTART;TZID=Europe/Berlin:20260216T193000
DTEND;TZID=Europe/Berlin:20260216T223000
SUMMARY:HE 4. Liga Gr. 1 Münsingen II vs Wichtrach (14)
UID:623993c7-581d-4118-b4fe-92f190c99f29
STATUS:CONFIRMED
LAST-MODIFIED:20260217T213235Z
DESCRIPTION:4. Liga Herren Gruppe 1\nBegegnungs-Nr: 14\nHeim: Münsingen II\nGast: Wichtrach\n\nAdresse: Turnhallenweg 8\, 3110 Münsingen\n
LOCATION:Turnhallenweg 8\, 3110 Münsingen
CATEGORIES:Saison 2025/26
END:VEVENT
BEGIN:VEVENT
DTSTAMP:20260424T082518Z
DTSTART;TZID=Europe/Berlin:20260120T194500
DTEND;TZID=Europe/Berlin:20260120T224500
SUMMARY:HE 4. Liga Gr. 1 bls Spiez II vs Wichtrach (8)
UID:e8091600-79d1-411b-b981-0d454179d52f
STATUS:CONFIRMED
LAST-MODIFIED:20260125T001528Z
DESCRIPTION:4. Liga Herren Gruppe 1\nBegegnungs-Nr: 8\nHeim: bls Spiez II\nGast: Wichtrach\n\nAdresse: Hofachernweg 19 / Oberlandstr. 89\, 3700 Spiez\n
LOCATION:Hofachernweg 19 / Oberlandstr. 89\, 3700 Spiez
CATEGORIES:Saison 2025/26
END:VEVENT
END:VCALENDAR
