BEGIN:VCALENDAR
PRODID:-//nuDatenautomaten//framework iCal4j //DE
VERSION:2.0
CALSCALE:GREGORIAN
BEGIN:VTIMEZONE
TZID:Europe/Berlin
LAST-MODIFIED:20260306T231828Z
TZURL:https://www.tzurl.org/zoneinfo/Europe/Berlin
X-LIC-LOCATION:Europe/Berlin
X-PROLEPTIC-TZNAME:LMT
BEGIN:STANDARD
TZNAME:CET
TZOFFSETFROM:+005328
TZOFFSETTO:+0100
DTSTART:18930401T000000
END:STANDARD
BEGIN:DAYLIGHT
TZNAME:CEST
TZOFFSETFROM:+0100
TZOFFSETTO:+0200
DTSTART:19160430T230000
RDATE:19400401T020000
RDATE:19430329T020000
RDATE:19460414T020000
RDATE:19470406T030000
RDATE:19480418T020000
RDATE:19490410T020000
RDATE:19800406T020000
END:DAYLIGHT
BEGIN:STANDARD
TZNAME:CET
TZOFFSETFROM:+0200
TZOFFSETTO:+0100
DTSTART:19161001T010000
RDATE:19421102T030000
RDATE:19431004T030000
RDATE:19441002T030000
RDATE:19451118T030000
RDATE:19461007T030000
END:STANDARD
BEGIN:DAYLIGHT
TZNAME:CEST
TZOFFSETFROM:+0100
TZOFFSETTO:+0200
DTSTART:19170416T020000
RRULE:FREQ=YEARLY;UNTIL=19180415T010000Z;BYMONTH=4;BYDAY=3MO
END:DAYLIGHT
BEGIN:STANDARD
TZNAME:CET
TZOFFSETFROM:+0200
TZOFFSETTO:+0100
DTSTART:19170917T030000
RRULE:FREQ=YEARLY;UNTIL=19180916T010000Z;BYMONTH=9;BYDAY=3MO
END:STANDARD
BEGIN:DAYLIGHT
TZNAME:CEST
TZOFFSETFROM:+0100
TZOFFSETTO:+0200
DTSTART:19440403T020000
RRULE:FREQ=YEARLY;UNTIL=19450402T010000Z;BYMONTH=4;BYDAY=1MO
END:DAYLIGHT
BEGIN:DAYLIGHT
TZNAME:CEMT
TZOFFSETFROM:+0200
TZOFFSETTO:+0300
DTSTART:19450524T020000
RDATE:19470511T030000
END:DAYLIGHT
BEGIN:DAYLIGHT
TZNAME:CEST
TZOFFSETFROM:+0300
TZOFFSETTO:+0200
DTSTART:19450924T030000
RDATE:19470629T030000
END:DAYLIGHT
BEGIN:STANDARD
TZNAME:CET
TZOFFSETFROM:+0100
TZOFFSETTO:+0100
DTSTART:19460101T000000
RDATE:19800101T000000
END:STANDARD
BEGIN:STANDARD
TZNAME:CET
TZOFFSETFROM:+0200
TZOFFSETTO:+0100
DTSTART:19471005T030000
RRULE:FREQ=YEARLY;UNTIL=19491002T010000Z;BYMONTH=10;BYDAY=1SU
END:STANDARD
BEGIN:STANDARD
TZNAME:CET
TZOFFSETFROM:+0200
TZOFFSETTO:+0100
DTSTART:19800928T030000
RRULE:FREQ=YEARLY;UNTIL=19950924T010000Z;BYMONTH=9;BYDAY=-1SU
END:STANDARD
BEGIN:DAYLIGHT
TZNAME:CEST
TZOFFSETFROM:+0100
TZOFFSETTO:+0200
DTSTART:19810329T020000
RRULE:FREQ=YEARLY;BYMONTH=3;BYDAY=-1SU
END:DAYLIGHT
BEGIN:STANDARD
TZNAME:CET
TZOFFSETFROM:+0200
TZOFFSETTO:+0100
DTSTART:19961027T030000
RRULE:FREQ=YEARLY;BYMONTH=10;BYDAY=-1SU
END:STANDARD
END:VTIMEZONE
BEGIN:VEVENT
DTSTAMP:20260424T134203Z
DTSTART;TZID=Europe/Berlin:20251011T113000
DTEND;TZID=Europe/Berlin:20251011T143000
SUMMARY:Ligue 4 Versoix III vs Châtelaine III (9)
UID:65d7af22-cac6-4e3e-86ed-6d33cd8fad42
STATUS:CONFIRMED
LAST-MODIFIED:20251011T175244Z
DESCRIPTION:4ème ligue jeunesse - Groupe unique\nBegegnungs-Nr: 9\nHeim: Versoix III\nGast: Châtelaine III\n
LOCATION:
CATEGORIES:Saison 2025/26
END:VEVENT
BEGIN:VEVENT
DTSTAMP:20260424T134203Z
DTSTART;TZID=Europe/Berlin:20260328T090000
DTEND;TZID=Europe/Berlin:20260328T120000
SUMMARY:Ligue 4 Versoix III vs UGS-Chênois VI (33)
UID:e4ccd0b1-56d8-44a0-91d7-9891dcef88f5
STATUS:CONFIRMED
DESCRIPTION:4ème ligue jeunesse - Groupe unique\nBegegnungs-Nr: 33\nHeim: Versoix III\nGast: UGS-Chênois VI\n
LOCATION:
CATEGORIES:Saison 2025/26
END:VEVENT
BEGIN:VEVENT
DTSTAMP:20260424T134203Z
DTSTART;TZID=Europe/Berlin:20251213T113000
DTEND;TZID=Europe/Berlin:20251213T143000
SUMMARY:Ligue 4 Versoix III vs Silver Star IV (24)
UID:f8d7028e-2a71-42b7-8e3c-26e53d7e34de
STATUS:CONFIRMED
LAST-MODIFIED:20251214T085135Z
DESCRIPTION:4ème ligue jeunesse - Groupe unique\nBegegnungs-Nr: 24\nHeim: Versoix III\nGast: Silver Star IV\n
LOCATION:
CATEGORIES:Saison 2025/26
END:VEVENT
BEGIN:VEVENT
DTSTAMP:20260424T134203Z
DTSTART;TZID=Europe/Berlin:20251011T093000
DTEND;TZID=Europe/Berlin:20251011T123000
SUMMARY:Ligue 4 Versoix II vs Versoix III (3)
UID:8f9821aa-3ced-4b41-8fdf-310ccc7fe8f5
STATUS:CONFIRMED
LAST-MODIFIED:20251011T175134Z
DESCRIPTION:4ème ligue jeunesse - Groupe unique\nBegegnungs-Nr: 3\nHeim: Versoix II\nGast: Versoix III\n
LOCATION:
CATEGORIES:Saison 2025/26
END:VEVENT
BEGIN:VEVENT
DTSTAMP:20260424T134203Z
DTSTART;TZID=Europe/Berlin:20260328T110000
DTEND;TZID=Europe/Berlin:20260328T140000
SUMMARY:Ligue 4 Carouge III vs Versoix III (39)
UID:260d66b8-f988-4818-ace7-c55690b001d4
STATUS:CONFIRMED
DESCRIPTION:4ème ligue jeunesse - Groupe unique\nBegegnungs-Nr: 39\nHeim: Carouge III\nGast: Versoix III\n
LOCATION:
CATEGORIES:Saison 2025/26
END:VEVENT
BEGIN:VEVENT
DTSTAMP:20260424T134203Z
DTSTART;TZID=Europe/Berlin:20251213T093000
DTEND;TZID=Europe/Berlin:20251213T123000
SUMMARY:Ligue 4 Silver Star VI vs Versoix III (19)
UID:8326fa46-247f-4486-86aa-5c3636ae1302
STATUS:CONFIRMED
LAST-MODIFIED:20251214T084621Z
DESCRIPTION:4ème ligue jeunesse - Groupe unique\nBegegnungs-Nr: 19\nHeim: Silver Star VI\nGast: Versoix III\n
LOCATION:
CATEGORIES:Saison 2025/26
END:VEVENT
END:VCALENDAR
