BEGIN:VCALENDAR
PRODID:-//nuDatenautomaten//framework iCal4j //DE
VERSION:2.0
CALSCALE:GREGORIAN
BEGIN:VTIMEZONE
TZID:Europe/Berlin
LAST-MODIFIED:20260306T231828Z
TZURL:https://www.tzurl.org/zoneinfo/Europe/Berlin
X-LIC-LOCATION:Europe/Berlin
X-PROLEPTIC-TZNAME:LMT
BEGIN:STANDARD
TZNAME:CET
TZOFFSETFROM:+005328
TZOFFSETTO:+0100
DTSTART:18930401T000000
END:STANDARD
BEGIN:DAYLIGHT
TZNAME:CEST
TZOFFSETFROM:+0100
TZOFFSETTO:+0200
DTSTART:19160430T230000
RDATE:19400401T020000
RDATE:19430329T020000
RDATE:19460414T020000
RDATE:19470406T030000
RDATE:19480418T020000
RDATE:19490410T020000
RDATE:19800406T020000
END:DAYLIGHT
BEGIN:STANDARD
TZNAME:CET
TZOFFSETFROM:+0200
TZOFFSETTO:+0100
DTSTART:19161001T010000
RDATE:19421102T030000
RDATE:19431004T030000
RDATE:19441002T030000
RDATE:19451118T030000
RDATE:19461007T030000
END:STANDARD
BEGIN:DAYLIGHT
TZNAME:CEST
TZOFFSETFROM:+0100
TZOFFSETTO:+0200
DTSTART:19170416T020000
RRULE:FREQ=YEARLY;UNTIL=19180415T010000Z;BYMONTH=4;BYDAY=3MO
END:DAYLIGHT
BEGIN:STANDARD
TZNAME:CET
TZOFFSETFROM:+0200
TZOFFSETTO:+0100
DTSTART:19170917T030000
RRULE:FREQ=YEARLY;UNTIL=19180916T010000Z;BYMONTH=9;BYDAY=3MO
END:STANDARD
BEGIN:DAYLIGHT
TZNAME:CEST
TZOFFSETFROM:+0100
TZOFFSETTO:+0200
DTSTART:19440403T020000
RRULE:FREQ=YEARLY;UNTIL=19450402T010000Z;BYMONTH=4;BYDAY=1MO
END:DAYLIGHT
BEGIN:DAYLIGHT
TZNAME:CEMT
TZOFFSETFROM:+0200
TZOFFSETTO:+0300
DTSTART:19450524T020000
RDATE:19470511T030000
END:DAYLIGHT
BEGIN:DAYLIGHT
TZNAME:CEST
TZOFFSETFROM:+0300
TZOFFSETTO:+0200
DTSTART:19450924T030000
RDATE:19470629T030000
END:DAYLIGHT
BEGIN:STANDARD
TZNAME:CET
TZOFFSETFROM:+0100
TZOFFSETTO:+0100
DTSTART:19460101T000000
RDATE:19800101T000000
END:STANDARD
BEGIN:STANDARD
TZNAME:CET
TZOFFSETFROM:+0200
TZOFFSETTO:+0100
DTSTART:19471005T030000
RRULE:FREQ=YEARLY;UNTIL=19491002T010000Z;BYMONTH=10;BYDAY=1SU
END:STANDARD
BEGIN:STANDARD
TZNAME:CET
TZOFFSETFROM:+0200
TZOFFSETTO:+0100
DTSTART:19800928T030000
RRULE:FREQ=YEARLY;UNTIL=19950924T010000Z;BYMONTH=9;BYDAY=-1SU
END:STANDARD
BEGIN:DAYLIGHT
TZNAME:CEST
TZOFFSETFROM:+0100
TZOFFSETTO:+0200
DTSTART:19810329T020000
RRULE:FREQ=YEARLY;BYMONTH=3;BYDAY=-1SU
END:DAYLIGHT
BEGIN:STANDARD
TZNAME:CET
TZOFFSETFROM:+0200
TZOFFSETTO:+0100
DTSTART:19961027T030000
RRULE:FREQ=YEARLY;BYMONTH=10;BYDAY=-1SU
END:STANDARD
END:VTIMEZONE
BEGIN:VEVENT
DTSTAMP:20260424T165359Z
DTSTART;TZID=Europe/Berlin:20260114T200000
DTEND;TZID=Europe/Berlin:20260114T230000
SUMMARY:HE 3. Liga Gr. 1 Basel VI vs Oberwil II (0)
UID:d345cb8f-1846-473d-8bda-ac72f31340eb
STATUS:CONFIRMED
LAST-MODIFIED:20260115T094258Z
DESCRIPTION:3. Liga Herren Gruppe 1\nBegegnungs-Nr: 0\nHeim: Basel VI\nGast: Oberwil II\n\nAdresse: Schwarzwaldallee 107\, 4058 Basel\n
LOCATION:Schwarzwaldallee 107\, 4058 Basel
CATEGORIES:Saison 2025/26
END:VEVENT
BEGIN:VEVENT
DTSTAMP:20260424T165359Z
DTSTART;TZID=Europe/Berlin:20260211T200000
DTEND;TZID=Europe/Berlin:20260211T230000
SUMMARY:HE 3. Liga Gr. 1 Basel VI vs Münchenstein-City (0)
UID:4ad6c750-a36c-41e3-969c-dc99685a77b3
STATUS:CONFIRMED
LAST-MODIFIED:20260218T071222Z
DESCRIPTION:3. Liga Herren Gruppe 1\nBegegnungs-Nr: 0\nHeim: Basel VI\nGast: Münchenstein-City\n\nAdresse: Schwarzwaldallee 107\, 4058 Basel\n
LOCATION:Schwarzwaldallee 107\, 4058 Basel
CATEGORIES:Saison 2025/26
END:VEVENT
BEGIN:VEVENT
DTSTAMP:20260424T165359Z
DTSTART;TZID=Europe/Berlin:20260311T200000
DTEND;TZID=Europe/Berlin:20260311T230000
SUMMARY:HE 3. Liga Gr. 1 Basel VI vs Aesch III (0)
UID:b5b2f325-260d-4f50-aee5-676c0cd72700
STATUS:CONFIRMED
LAST-MODIFIED:20260313T125004Z
DESCRIPTION:3. Liga Herren Gruppe 1\nBegegnungs-Nr: 0\nHeim: Basel VI\nGast: Aesch III\n\nAdresse: Schwarzwaldallee 107\, 4058 Basel\n
LOCATION:Schwarzwaldallee 107\, 4058 Basel
CATEGORIES:Saison 2025/26
END:VEVENT
BEGIN:VEVENT
DTSTAMP:20260424T165359Z
DTSTART;TZID=Europe/Berlin:20260325T200000
DTEND;TZID=Europe/Berlin:20260325T230000
SUMMARY:HE 3. Liga Gr. 1 Basel VI vs Binningen (0)
UID:3a487dae-2565-4b87-bd24-84bb0c5d9098
STATUS:CONFIRMED
LAST-MODIFIED:20260409T114734Z
DESCRIPTION:3. Liga Herren Gruppe 1\nBegegnungs-Nr: 0\nHeim: Basel VI\nGast: Binningen\n\nAdresse: Schwarzwaldallee 107\, 4058 Basel\n
LOCATION:Schwarzwaldallee 107\, 4058 Basel
CATEGORIES:Saison 2025/26
END:VEVENT
BEGIN:VEVENT
DTSTAMP:20260424T165359Z
DTSTART;TZID=Europe/Berlin:20250820T200000
DTEND;TZID=Europe/Berlin:20250820T230000
SUMMARY:HE 3. Liga Gr. 1 Basel VI vs Rio-Star Muttenz VI (0)
UID:668acc85-bf5d-4191-b262-0743ea1c7c47
STATUS:CONFIRMED
LAST-MODIFIED:20250825T064903Z
DESCRIPTION:3. Liga Herren Gruppe 1\nBegegnungs-Nr: 0\nHeim: Basel VI\nGast: Rio-Star Muttenz VI\n\nAdresse: Schwarzwaldallee 107\, 4058 Basel\n
LOCATION:Schwarzwaldallee 107\, 4058 Basel
CATEGORIES:Saison 2025/26
END:VEVENT
BEGIN:VEVENT
DTSTAMP:20260424T165359Z
DTSTART;TZID=Europe/Berlin:20250917T200000
DTEND;TZID=Europe/Berlin:20250917T230000
SUMMARY:HE 3. Liga Gr. 1 Basel VI vs Copains Birsfelden II (0)
UID:5284bc9e-01e4-4f09-ad9b-771d0868474f
STATUS:CONFIRMED
LAST-MODIFIED:20250918T094820Z
DESCRIPTION:3. Liga Herren Gruppe 1\nBegegnungs-Nr: 0\nHeim: Basel VI\nGast: Copains Birsfelden II\n\nAdresse: Schwarzwaldallee 107\, 4058 Basel\n
LOCATION:Schwarzwaldallee 107\, 4058 Basel
CATEGORIES:Saison 2025/26
END:VEVENT
BEGIN:VEVENT
DTSTAMP:20260424T165359Z
DTSTART;TZID=Europe/Berlin:20251029T200000
DTEND;TZID=Europe/Berlin:20251029T230000
SUMMARY:HE 3. Liga Gr. 1 Basel VI vs Old Boys Basel (0)
UID:27eb13d8-07e5-4dd2-9972-b7b9dd7c3057
STATUS:CONFIRMED
LAST-MODIFIED:20251031T143116Z
DESCRIPTION:3. Liga Herren Gruppe 1\nBegegnungs-Nr: 0\nHeim: Basel VI\nGast: Old Boys Basel\n\nAdresse: Schwarzwaldallee 107\, 4058 Basel\n
LOCATION:Schwarzwaldallee 107\, 4058 Basel
CATEGORIES:Saison 2025/26
END:VEVENT
BEGIN:VEVENT
DTSTAMP:20260424T165359Z
DTSTART;TZID=Europe/Berlin:20260109T194500
DTEND;TZID=Europe/Berlin:20260109T224500
SUMMARY:HE 3. Liga Gr. 1 Rio-Star Muttenz VI vs Basel VI (0)
UID:03f7dd3a-6a1c-40da-9ba9-589a5f05646e
STATUS:CONFIRMED
LAST-MODIFIED:20260115T094245Z
DESCRIPTION:3. Liga Herren Gruppe 1\nBegegnungs-Nr: 0\nHeim: Rio-Star Muttenz VI\nGast: Basel VI\n\nAdresse: Gründenstrasse 32\, 4132 Muttenz\n
LOCATION:Gründenstrasse 32\, 4132 Muttenz
CATEGORIES:Saison 2025/26
END:VEVENT
BEGIN:VEVENT
DTSTAMP:20260424T165359Z
DTSTART;TZID=Europe/Berlin:20260129T191500
DTEND;TZID=Europe/Berlin:20260129T221500
SUMMARY:HE 3. Liga Gr. 1 Copains Birsfelden II vs Basel VI (0)
UID:3cf497f4-debe-46fa-aac5-5f0ee30b88a1
STATUS:CONFIRMED
LAST-MODIFIED:20260130T133006Z
DESCRIPTION:3. Liga Herren Gruppe 1\nBegegnungs-Nr: 0\nHeim: Copains Birsfelden II\nGast: Basel VI\n\nAdresse: Wartenbergstrasse (Hintereingang)\, 4127 Birsfelden\n
LOCATION:Wartenbergstrasse (Hintereingang)\, 4127 Birsfelden
CATEGORIES:Saison 2025/26
END:VEVENT
BEGIN:VEVENT
DTSTAMP:20260424T165359Z
DTSTART;TZID=Europe/Berlin:20260203T200000
DTEND;TZID=Europe/Berlin:20260203T230000
SUMMARY:HE 3. Liga Gr. 1 Old Boys Basel vs Basel VI (0)
UID:4ebc18f0-3a21-4e71-b326-843a86d4f65a
STATUS:CONFIRMED
LAST-MODIFIED:20260211T093548Z
DESCRIPTION:3. Liga Herren Gruppe 1\nBegegnungs-Nr: 0\nHeim: Old Boys Basel\nGast: Basel VI\n\nAdresse: Blotzheimerstrasse 80\, 4055 Basel\n
LOCATION:Blotzheimerstrasse 80\, 4055 Basel
CATEGORIES:Saison 2025/26
END:VEVENT
BEGIN:VEVENT
DTSTAMP:20260424T165359Z
DTSTART;TZID=Europe/Berlin:20250904T194500
DTEND;TZID=Europe/Berlin:20250904T224500
SUMMARY:HE 3. Liga Gr. 1 Oberwil II vs Basel VI (0)
UID:fa7bed48-6d48-4dab-ade3-de4fa450c0eb
STATUS:CONFIRMED
LAST-MODIFIED:20250911T111003Z
DESCRIPTION:3. Liga Herren Gruppe 1\nBegegnungs-Nr: 0\nHeim: Oberwil II\nGast: Basel VI\n\nAdresse: Schulstrasse\, 4104 Oberwil\n
LOCATION:Schulstrasse\, 4104 Oberwil
CATEGORIES:Saison 2025/26
END:VEVENT
BEGIN:VEVENT
DTSTAMP:20260424T165359Z
DTSTART;TZID=Europe/Berlin:20251016T193000
DTEND;TZID=Europe/Berlin:20251016T223000
SUMMARY:HE 3. Liga Gr. 1 Münchenstein-City vs Basel VI (0)
UID:7b204b92-17ee-427d-a65c-7907117971d1
STATUS:CONFIRMED
LAST-MODIFIED:20251017T073432Z
DESCRIPTION:3. Liga Herren Gruppe 1\nBegegnungs-Nr: 0\nHeim: Münchenstein-City\nGast: Basel VI\n\nAdresse: Gruthweg 8\, 4142 Münchenstein\n
LOCATION:Gruthweg 8\, 4142 Münchenstein
CATEGORIES:Saison 2025/26
END:VEVENT
BEGIN:VEVENT
DTSTAMP:20260424T165359Z
DTSTART;TZID=Europe/Berlin:20251127T193000
DTEND;TZID=Europe/Berlin:20251127T223000
SUMMARY:HE 3. Liga Gr. 1 Aesch III vs Basel VI (0)
UID:5f4602de-0a48-4c3a-87be-cb091c01b82b
STATUS:CONFIRMED
LAST-MODIFIED:20251128T133709Z
DESCRIPTION:3. Liga Herren Gruppe 1\nBegegnungs-Nr: 0\nHeim: Aesch III\nGast: Basel VI\n\nAdresse: Dornacherstrasse\, 4147 Aesch\n
LOCATION:Dornacherstrasse\, 4147 Aesch
CATEGORIES:Saison 2025/26
END:VEVENT
BEGIN:VEVENT
DTSTAMP:20260424T165359Z
DTSTART;TZID=Europe/Berlin:20251211T194500
DTEND;TZID=Europe/Berlin:20251211T224500
SUMMARY:HE 3. Liga Gr. 1 Binningen vs Basel VI (0)
UID:5ff95502-67bf-4ee2-8b41-e72e23deb727
STATUS:CONFIRMED
LAST-MODIFIED:20251212T080713Z
DESCRIPTION:3. Liga Herren Gruppe 1\nBegegnungs-Nr: 0\nHeim: Binningen\nGast: Basel VI\n\nAdresse: Rottmannsbodenstr./Neusatzweg\, 4102 Binningen\n
LOCATION:Rottmannsbodenstr./Neusatzweg\, 4102 Binningen
CATEGORIES:Saison 2025/26
END:VEVENT
END:VCALENDAR
